BEGIN:VCALENDAR
VERSION:2.0
PRODID:-//Boy Scout Trade-O-Ree Calendar - ECPv6.15.20//NONSGML v1.0//EN
CALSCALE:GREGORIAN
METHOD:PUBLISH
X-WR-CALNAME:Boy Scout Trade-O-Ree Calendar
X-ORIGINAL-URL:https://www.bsator.com
X-WR-CALDESC:Events for Boy Scout Trade-O-Ree Calendar
REFRESH-INTERVAL;VALUE=DURATION:PT1H
X-Robots-Tag:noindex
X-PUBLISHED-TTL:PT1H
BEGIN:VTIMEZONE
TZID:UTC
BEGIN:STANDARD
TZOFFSETFROM:+0000
TZOFFSETTO:+0000
TZNAME:UTC
DTSTART:20150101T000000
END:STANDARD
END:VTIMEZONE
BEGIN:VEVENT
DTSTART;TZID=UTC:20260410T170000
DTEND;TZID=UTC:20260411T150000
DTSTAMP:20260423T160905
CREATED:20251226T054204Z
LAST-MODIFIED:20251226T054204Z
UID:10000605-1775840400-1775919600@www.bsator.com
SUMMARY:2026 Crossroads of the West Council Spring Trade-O-Ree - State: Utah
DESCRIPTION:Date: April 10-11\, 2026 \nAddress:\nCamp Tracy\n3901 Mill Creek Canyon Rd\nSalt Lake City\, UT 84109 \nTimes:\nFriday: 5pm – 11pm\nSaturday: 9am – ? \nContact: Russ Baker\nPhone: (801) 891-3268 \nContact: Council Service Desk\nPhone: (801) 479-5460 \n \nTrade-O-Ree Flyer\n\n\n    Download the PDF file .
URL:https://www.bsator.com/event/2026-crossroads-of-the-west-council-spring-trade-o-ree-state-utah-2/
LOCATION:Camp Tracy\, 3901 Mill Creek Canyon Rd\, Salt Lake City\, UT\, 84109\, United States
ATTACH;FMTTYPE=image/jpeg:https://www.bsator.com/wp-content/uploads/2021/03/IMG_3008.jpg
GEO:40.6892018;-111.7886351
X-APPLE-STRUCTURED-LOCATION;VALUE=URI;X-ADDRESS=Camp Tracy 3901 Mill Creek Canyon Rd Salt Lake City UT 84109 United States;X-APPLE-RADIUS=500;X-TITLE=3901 Mill Creek Canyon Rd:geo:-111.7886351,40.6892018
END:VEVENT
BEGIN:VEVENT
DTSTART;TZID=UTC:20251010T170000
DTEND;TZID=UTC:20251011T150000
DTSTAMP:20260423T160906
CREATED:20241220T020137Z
LAST-MODIFIED:20241220T020137Z
UID:10000561-1760115600-1760194800@www.bsator.com
SUMMARY:2025 Crossroads of the West Council Fall Trade-O-Ree - State: Utah
DESCRIPTION:Date: October 10-11\, 2025 \nAddress:\nCamp Tracy\n3901 Mill Creek Canyon Rd\nSalt Lake City\, UT 84109 \nTimes:\nFriday: 5pm – 11pm\nSaturday: 9am – ? \nContact: Russ Baker\nPhone: (801) 891-3268 \nContact: Council Service Desk\nPhone: (801) 479-5460 \n \nTrade-O-Ree Flyer\n\n\n    Download the PDF file .
URL:https://www.bsator.com/event/2025-crossroads-of-the-west-council-fall-trade-o-ree-state-utah/
LOCATION:Camp Tracy\, 3901 Mill Creek Canyon Rd\, Salt Lake City\, UT\, 84109\, United States
ATTACH;FMTTYPE=image/jpeg:https://www.bsator.com/wp-content/uploads/2021/03/IMG_3008.jpg
GEO:40.6892018;-111.7886351
X-APPLE-STRUCTURED-LOCATION;VALUE=URI;X-ADDRESS=Camp Tracy 3901 Mill Creek Canyon Rd Salt Lake City UT 84109 United States;X-APPLE-RADIUS=500;X-TITLE=3901 Mill Creek Canyon Rd:geo:-111.7886351,40.6892018
END:VEVENT
BEGIN:VEVENT
DTSTART;TZID=UTC:20250411T170000
DTEND;TZID=UTC:20250412T150000
DTSTAMP:20260423T160906
CREATED:20240720T043643Z
LAST-MODIFIED:20241220T015339Z
UID:10000535-1744390800-1744470000@www.bsator.com
SUMMARY:2025 Crossroads of the West Council Spring Trade-O-Ree - State: Utah
DESCRIPTION:Date: April 11-12\, 2025 \nAddress:\nCamp Tracy\n3901 Mill Creek Canyon Rd\nSalt Lake City\, UT 84109 \nTimes:\nFriday: 5pm – 11pm\nSaturday: 9am – ? \nContact: Russ Baker\nPhone: (801) 891-3268 \nContact: Council Service Desk\nPhone: (801) 479-5460 \n \nTrade-O-Ree Flyer\n\n\n    Download the PDF file .
URL:https://www.bsator.com/event/2025-crossroads-of-the-west-council-spring-trade-o-ree-state-utah/
LOCATION:Camp Tracy\, 3901 Mill Creek Canyon Rd\, Salt Lake City\, UT\, 84109\, United States
ATTACH;FMTTYPE=image/jpeg:https://www.bsator.com/wp-content/uploads/2021/03/IMG_3008.jpg
ORGANIZER;CN="Russell Baker":MAILTO:elkutalodgeauction@yahoo.com
GEO:40.6892018;-111.7886351
X-APPLE-STRUCTURED-LOCATION;VALUE=URI;X-ADDRESS=Camp Tracy 3901 Mill Creek Canyon Rd Salt Lake City UT 84109 United States;X-APPLE-RADIUS=500;X-TITLE=3901 Mill Creek Canyon Rd:geo:-111.7886351,40.6892018
END:VEVENT
BEGIN:VEVENT
DTSTART;TZID=UTC:20241025T170000
DTEND;TZID=UTC:20241026T150000
DTSTAMP:20260423T160906
CREATED:20231208T082323Z
LAST-MODIFIED:20231208T083024Z
UID:10000513-1729875600-1729954800@www.bsator.com
SUMMARY:2024 Crossroads of the West Council Fall Trade-O-Ree - State: Utah
DESCRIPTION:Date: October 25-26\, 2024 \nAddress:\nCamp Tracy\n3901 Mill Creek Canyon Rd\nSalt Lake City\, UT 84109 \nTimes:\nFriday: 5pm – 11pm\nSaturday: 9am – ? \nContact: Council Service Desk\nPhone: (801) 479-5460 \n \nTrade-O-Ree Flyer\n\n\n    Download the PDF file .
URL:https://www.bsator.com/event/2024-crossroads-of-the-west-council-fall-trade-o-ree-state-utah/
LOCATION:Camp Tracy\, 3901 Mill Creek Canyon Rd\, Salt Lake City\, UT\, 84109\, United States
ATTACH;FMTTYPE=image/jpeg:https://www.bsator.com/wp-content/uploads/2021/03/IMG_3008.jpg
GEO:40.6892018;-111.7886351
X-APPLE-STRUCTURED-LOCATION;VALUE=URI;X-ADDRESS=Camp Tracy 3901 Mill Creek Canyon Rd Salt Lake City UT 84109 United States;X-APPLE-RADIUS=500;X-TITLE=3901 Mill Creek Canyon Rd:geo:-111.7886351,40.6892018
END:VEVENT
BEGIN:VEVENT
DTSTART;TZID=UTC:20240426T170000
DTEND;TZID=UTC:20240427T150000
DTSTAMP:20260423T160906
CREATED:20231208T081834Z
LAST-MODIFIED:20231208T082120Z
UID:10000512-1714150800-1714230000@www.bsator.com
SUMMARY:2024 Crossroads of the West Council Spring Trade-O-Ree - State: Utah
DESCRIPTION:Date: April 26-27\, 2024 \nAddress:\nCamp Tracy\n3901 Mill Creek Canyon Rd\nSalt Lake City\, UT 84109 \nTimes:\nFriday: 5pm – 11pm\nSaturday: 9am – ? \nContact: Council Service Desk\nPhone: (801) 479-5460 \n \nTrade-O-Ree Flyer\n\n\n    Download the PDF file .
URL:https://www.bsator.com/event/2024-crossroads-of-the-west-council-spring-trade-o-ree-state-utah/
LOCATION:Camp Tracy\, 3901 Mill Creek Canyon Rd\, Salt Lake City\, UT\, 84109\, United States
ATTACH;FMTTYPE=image/jpeg:https://www.bsator.com/wp-content/uploads/2021/03/IMG_3008.jpg
GEO:40.6892018;-111.7886351
X-APPLE-STRUCTURED-LOCATION;VALUE=URI;X-ADDRESS=Camp Tracy 3901 Mill Creek Canyon Rd Salt Lake City UT 84109 United States;X-APPLE-RADIUS=500;X-TITLE=3901 Mill Creek Canyon Rd:geo:-111.7886351,40.6892018
END:VEVENT
BEGIN:VEVENT
DTSTART;TZID=UTC:20231027T170000
DTEND;TZID=UTC:20231028T150000
DTSTAMP:20260423T160906
CREATED:20221021T162940Z
LAST-MODIFIED:20221021T162940Z
UID:10000462-1698426000-1698505200@www.bsator.com
SUMMARY:2023 Crossroads of the West Council Fall Trade-O-Ree - State: Utah
DESCRIPTION:Date: October 27-28\, 2023 \nAddress:\nCamp Tracy\n3901 Mill Creek Canyon Rd\nSalt Lake City\, UT 84109 \nTimes:\nFriday: 5pm – 11pm\nSaturday: 9am – ? \nContact: Council Service Desk\nPhone: (801) 479-5460 \n \nTrade-O-Ree Flyer\n\n\n    Download the PDF file .
URL:https://www.bsator.com/event/2023-crossroads-of-the-west-council-fall-trade-o-ree-state-utah/
LOCATION:Camp Tracy\, 3901 Mill Creek Canyon Rd\, Salt Lake City\, UT\, 84109\, United States
ATTACH;FMTTYPE=image/jpeg:https://www.bsator.com/wp-content/uploads/2021/03/IMG_3008.jpg
GEO:40.6892018;-111.7886351
X-APPLE-STRUCTURED-LOCATION;VALUE=URI;X-ADDRESS=Camp Tracy 3901 Mill Creek Canyon Rd Salt Lake City UT 84109 United States;X-APPLE-RADIUS=500;X-TITLE=3901 Mill Creek Canyon Rd:geo:-111.7886351,40.6892018
END:VEVENT
BEGIN:VEVENT
DTSTART;TZID=UTC:20230414T170000
DTEND;TZID=UTC:20230415T150000
DTSTAMP:20260423T160906
CREATED:20221021T162740Z
LAST-MODIFIED:20221021T162823Z
UID:10000461-1681491600-1681570800@www.bsator.com
SUMMARY:2023 Crossroads of the West Council Spring Trade-O-Ree - State: Utah
DESCRIPTION:Date: April 14-15\, 2023 \nAddress:\nCamp Tracy\n3901 Mill Creek Canyon Rd\nSalt Lake City\, UT 84109 \nTimes:\nFriday: 5pm – 11pm\nSaturday: 9am – ? \nContact: Council Service Desk\nPhone: (801) 479-5460 \n \nTrade-O-Ree Flyer\n\n\n    Download the PDF file .
URL:https://www.bsator.com/event/2023-crossroads-of-the-west-council-spring-trade-o-ree-state-utah/
LOCATION:Camp Tracy\, 3901 Mill Creek Canyon Rd\, Salt Lake City\, UT\, 84109\, United States
ATTACH;FMTTYPE=image/jpeg:https://www.bsator.com/wp-content/uploads/2021/03/IMG_3008.jpg
GEO:40.6892018;-111.7886351
X-APPLE-STRUCTURED-LOCATION;VALUE=URI;X-ADDRESS=Camp Tracy 3901 Mill Creek Canyon Rd Salt Lake City UT 84109 United States;X-APPLE-RADIUS=500;X-TITLE=3901 Mill Creek Canyon Rd:geo:-111.7886351,40.6892018
END:VEVENT
BEGIN:VEVENT
DTSTART;TZID=UTC:20221014T170000
DTEND;TZID=UTC:20221015T150000
DTSTAMP:20260423T160906
CREATED:20220201T170256Z
LAST-MODIFIED:20220201T170256Z
UID:10000430-1665766800-1665846000@www.bsator.com
SUMMARY:2022 Crossroads of the West Council Fall Trade-O-Ree - State: Utah
DESCRIPTION:Date: October 14-15\, 2022 \nAddress:\nCamp Tracy\n3901 Mill Creek Canyon Rd\nSalt Lake City\, UT 84109 \nTimes:\nFriday: 5pm – 11pm\nSaturday: 9am – ? \nContact 1: Council Service Desk\nPhone: (801) 479-5460 \n \nTrade-O-Ree Flyer\n\n\n    Download the PDF file .
URL:https://www.bsator.com/event/2022-crossroads-of-the-west-council-fall-trade-o-ree-state-utah/
LOCATION:Camp Tracy\, 3901 Mill Creek Canyon Rd\, Salt Lake City\, UT\, 84109\, United States
ATTACH;FMTTYPE=image/jpeg:https://www.bsator.com/wp-content/uploads/2021/03/IMG_3008.jpg
GEO:40.6892018;-111.7886351
X-APPLE-STRUCTURED-LOCATION;VALUE=URI;X-ADDRESS=Camp Tracy 3901 Mill Creek Canyon Rd Salt Lake City UT 84109 United States;X-APPLE-RADIUS=500;X-TITLE=3901 Mill Creek Canyon Rd:geo:-111.7886351,40.6892018
END:VEVENT
BEGIN:VEVENT
DTSTART;TZID=UTC:20220429T170000
DTEND;TZID=UTC:20220430T150000
DTSTAMP:20260423T160906
CREATED:20220201T170003Z
LAST-MODIFIED:20220201T170003Z
UID:10000429-1651251600-1651330800@www.bsator.com
SUMMARY:2022 Crossroads of the West Council Spring Trade-O-Ree - State: Utah
DESCRIPTION:Date: April 29-30\, 2022 \nAddress:\nCamp Tracy\n3901 Mill Creek Canyon Rd\nSalt Lake City\, UT 84109 \nTimes:\nFriday: 5pm – 11pm\nSaturday: 9am – ? \nContact 1: Council Service Desk\nPhone: (801) 479-5460 \n \nTrade-O-Ree Flyer\n\n\n    Download the PDF file .
URL:https://www.bsator.com/event/2022-crossroads-of-the-west-council-spring-trade-o-ree-state-utah/
LOCATION:Camp Tracy\, 3901 Mill Creek Canyon Rd\, Salt Lake City\, UT\, 84109\, United States
ATTACH;FMTTYPE=image/jpeg:https://www.bsator.com/wp-content/uploads/2021/03/IMG_3008.jpg
GEO:40.6892018;-111.7886351
X-APPLE-STRUCTURED-LOCATION;VALUE=URI;X-ADDRESS=Camp Tracy 3901 Mill Creek Canyon Rd Salt Lake City UT 84109 United States;X-APPLE-RADIUS=500;X-TITLE=3901 Mill Creek Canyon Rd:geo:-111.7886351,40.6892018
END:VEVENT
BEGIN:VEVENT
DTSTART;TZID=UTC:20211029T170000
DTEND;TZID=UTC:20211030T150000
DTSTAMP:20260423T160906
CREATED:20210303T170754Z
LAST-MODIFIED:20211105T163212Z
UID:10000375-1635526800-1635606000@www.bsator.com
SUMMARY:2021 Crossroads of the West Council Trade-O-Ree - State: Utah
DESCRIPTION:Date: October 29-30\, 2021 \nAddress:\nCamp Tracy\n3901 Mill Creek Canyon Rd\nSalt Lake City\, UT 84109 \nTimes:\nFriday: 5pm – 11pm\nSaturday: 9am – ? \nContact 1: Council Service Desk\nPhone: (801) 479-5460 \n \nTrade-O-Ree Flyer\n\n\n    Download the PDF file .
URL:https://www.bsator.com/event/2021-crossroads-of-the-west-council-trade-o-ree-state-utah/
LOCATION:Camp Tracy\, 3901 Mill Creek Canyon Rd\, Salt Lake City\, UT\, 84109\, United States
ATTACH;FMTTYPE=image/jpeg:https://www.bsator.com/wp-content/uploads/2021/03/IMG_3008.jpg
GEO:40.6892018;-111.7886351
X-APPLE-STRUCTURED-LOCATION;VALUE=URI;X-ADDRESS=Camp Tracy 3901 Mill Creek Canyon Rd Salt Lake City UT 84109 United States;X-APPLE-RADIUS=500;X-TITLE=3901 Mill Creek Canyon Rd:geo:-111.7886351,40.6892018
END:VEVENT
BEGIN:VEVENT
DTSTART;TZID=UTC:20201030T170000
DTEND;TZID=UTC:20201031T150000
DTSTAMP:20260423T160906
CREATED:20191205T082525Z
LAST-MODIFIED:20200221T080319Z
UID:10000334-1604077200-1604156400@www.bsator.com
SUMMARY:2020 EL-KU-TA Lodge Trade-O-Ree - State: Utah
DESCRIPTION:Date: October 30-31\, 2020 \nAddress:\nCamp Tracy Lodge – Millcreek Canyon\n3901 East 3800 South\nSalt Lake City\, UT \nTimes:\nFriday: 5pm – 12am\nSaturday: 9am – 3pm \nContact 1: Russell Baker\nEmail: elkutalodgeauction@yahoo.com\nPhone: (801) 891-3268 \nRegister Now\n\n    Download the PDF file .
URL:https://www.bsator.com/event/2020-el-ku-ta-lodge-trade-o-ree-state-utah/
LOCATION:Camp Tracy\, 3901 Mill Creek Canyon Rd\, Salt Lake City\, UT\, 84109\, United States
ATTACH;FMTTYPE=image/jpeg:https://www.bsator.com/wp-content/uploads/2019/12/73141369_10219752240067424_5314097146247512064_n.jpg
ORGANIZER;CN="Russell Baker":MAILTO:elkutalodgeauction@yahoo.com
GEO:40.6892018;-111.7886351
X-APPLE-STRUCTURED-LOCATION;VALUE=URI;X-ADDRESS=Camp Tracy 3901 Mill Creek Canyon Rd Salt Lake City UT 84109 United States;X-APPLE-RADIUS=500;X-TITLE=3901 Mill Creek Canyon Rd:geo:-111.7886351,40.6892018
END:VEVENT
BEGIN:VEVENT
DTSTART;TZID=UTC:20200717T170000
DTEND;TZID=UTC:20200718T150000
DTSTAMP:20260423T160906
CREATED:20200716T172505Z
LAST-MODIFIED:20200716T173141Z
UID:10000349-1595005200-1595084400@www.bsator.com
SUMMARY:Crossroads of the West Council Trade-O-Ree - State: Utah
DESCRIPTION:Date: July 17-18\, 2020 \nAddress:\nCamp Tracy\n3901 Mill Creek Canyon Rd\nSalt Lake City\, UT 84109 \nTimes:\nFriday: 5pm – 11pm\nSaturday: 9am – ? \nContact 1: Council Service Desk\nPhone: (801) 479-5460 \n \nTrade-O-Ree Flyer\n\n\n    Download the PDF file . \n\n\n \nAuction Items\n\n\n    Download the PDF file .
URL:https://www.bsator.com/event/crossroads-of-the-west-council-trade-o-ree-state-utah/
LOCATION:Camp Tracy\, 3901 Mill Creek Canyon Rd\, Salt Lake City\, UT\, 84109\, United States
ATTACH;FMTTYPE=image/jpeg:https://www.bsator.com/wp-content/uploads/2016/06/SWAPSHOP_zpsd7821994-4-1.jpg.opt430x360o00s430x360-4-1.jpg
GEO:40.6892018;-111.7886351
X-APPLE-STRUCTURED-LOCATION;VALUE=URI;X-ADDRESS=Camp Tracy 3901 Mill Creek Canyon Rd Salt Lake City UT 84109 United States;X-APPLE-RADIUS=500;X-TITLE=3901 Mill Creek Canyon Rd:geo:-111.7886351,40.6892018
END:VEVENT
BEGIN:VEVENT
DTSTART;TZID=UTC:20191025T170000
DTEND;TZID=UTC:20191026T150000
DTSTAMP:20260423T160906
CREATED:20181117T192029Z
LAST-MODIFIED:20200221T074640Z
UID:10000264-1572022800-1572102000@www.bsator.com
SUMMARY:2019 EL-KU-TA Lodge Trade-O-Ree - State: Utah
DESCRIPTION:Date: October 25-26\, 2019 \nAddress:\nCamp Tracy Lodge – Millcreek Canyon\n3901 East 3800 South\nSalt Lake City\, UT \nTimes:\nFriday: 5pm – 12am\nSaturday: 9am – 3pm \nContact 1: Russell Baker\nEmail: elkutalodgeauction@yahoo.com\nPhone: (801) 891-3268 \nRegister Now\n\n    Download the PDF file .
URL:https://www.bsator.com/event/2019-el-ku-ta-lodge-trade-o-ree-state-utah/
LOCATION:Camp Tracy\, 3901 Mill Creek Canyon Rd\, Salt Lake City\, UT\, 84109\, United States
ATTACH;FMTTYPE=image/jpeg:https://www.bsator.com/wp-content/uploads/2019/12/73141369_10219752240067424_5314097146247512064_n.jpg
ORGANIZER;CN="Russell Baker":MAILTO:elkutalodgeauction@yahoo.com
GEO:40.6892018;-111.7886351
X-APPLE-STRUCTURED-LOCATION;VALUE=URI;X-ADDRESS=Camp Tracy 3901 Mill Creek Canyon Rd Salt Lake City UT 84109 United States;X-APPLE-RADIUS=500;X-TITLE=3901 Mill Creek Canyon Rd:geo:-111.7886351,40.6892018
END:VEVENT
BEGIN:VEVENT
DTSTART;TZID=UTC:20181026T170000
DTEND;TZID=UTC:20181027T150000
DTSTAMP:20260423T160906
CREATED:20180122T063055Z
LAST-MODIFIED:20180122T063137Z
UID:10000227-1540573200-1540652400@www.bsator.com
SUMMARY:2018 EL-KU-TA Lodge Trade-O-Ree - State: Utah
DESCRIPTION:Date: October 26-27\, 2018 \nAddress:\nCamp Tracy Lodge – Millcreek Canyon\n3901 East 3800 South\nSalt Lake City\, UT \nTimes:\nFriday: 5pm – 12am\nSaturday: 9am – 3pm \nContact 1: Russell Baker\nEmail: elkutalodgeauction@yahoo.com\nPhone: (801) 891-3268 \nRegister Now\n\n    Download the PDF file .
URL:https://www.bsator.com/event/2018-el-ku-ta-lodge-trade-o-ree-state-utah/
LOCATION:Camp Tracy\, 3901 Mill Creek Canyon Rd\, Salt Lake City\, UT\, 84109\, United States
ATTACH;FMTTYPE=image/jpeg:https://www.bsator.com/wp-content/uploads/2016/06/SWAPSHOP_zpsd7821994-4-1.jpg.opt430x360o00s430x360-4-1.jpg
ORGANIZER;CN="Russell Baker":MAILTO:elkutalodgeauction@yahoo.com
GEO:40.6892018;-111.7886351
X-APPLE-STRUCTURED-LOCATION;VALUE=URI;X-ADDRESS=Camp Tracy 3901 Mill Creek Canyon Rd Salt Lake City UT 84109 United States;X-APPLE-RADIUS=500;X-TITLE=3901 Mill Creek Canyon Rd:geo:-111.7886351,40.6892018
END:VEVENT
BEGIN:VEVENT
DTSTART;TZID=UTC:20161021T170000
DTEND;TZID=UTC:20161022T150000
DTSTAMP:20260423T160906
CREATED:20160601T111307Z
LAST-MODIFIED:20160829T212913Z
UID:10000049-1477069200-1477148400@www.bsator.com
SUMMARY:EL-KU-TA Lodge Trade-O-Ree - State: Utah
DESCRIPTION:Date: October 21-22\, 2016 \nAddress:\nCamp Tracy Lodge – Millcreek Canyon\n3901 East 3800 South\nSalt Lake City\, UT \nTimes:\nFriday: 5pm – 12am\nSaturday: 9am – 3pm \nContact 1: Blair Hope\nEmail: hope.b@pg.com\nPhone: (805) 554-0527 \nFlyer: Click Here\n\nRegister Now \n\n    Download the PDF file .
URL:https://www.bsator.com/event/el-ku-ta-lodge-trade-o-ree-state-utah/
LOCATION:Camp Tracy\, 3901 Mill Creek Canyon Rd\, Salt Lake City\, UT\, 84109\, United States
ATTACH;FMTTYPE=image/jpeg:https://www.bsator.com/wp-content/uploads/2016/06/SWAPSHOP_zpsd7821994-2.jpg.opt430x360o00s430x360-2.jpg
ORGANIZER;CN="Blair Hope":MAILTO:hope.b@pg.com
GEO:40.6892018;-111.7886351
X-APPLE-STRUCTURED-LOCATION;VALUE=URI;X-ADDRESS=Camp Tracy 3901 Mill Creek Canyon Rd Salt Lake City UT 84109 United States;X-APPLE-RADIUS=500;X-TITLE=3901 Mill Creek Canyon Rd:geo:-111.7886351,40.6892018
END:VEVENT
END:VCALENDAR