BEGIN:VCALENDAR
VERSION:2.0
PRODID:-//Boy Scout Trade-O-Ree Calendar - ECPv6.15.20//NONSGML v1.0//EN
CALSCALE:GREGORIAN
METHOD:PUBLISH
X-WR-CALNAME:Boy Scout Trade-O-Ree Calendar
X-ORIGINAL-URL:https://www.bsator.com
X-WR-CALDESC:Events for Boy Scout Trade-O-Ree Calendar
REFRESH-INTERVAL;VALUE=DURATION:PT1H
X-Robots-Tag:noindex
X-PUBLISHED-TTL:PT1H
BEGIN:VTIMEZONE
TZID:UTC
BEGIN:STANDARD
TZOFFSETFROM:+0000
TZOFFSETTO:+0000
TZNAME:UTC
DTSTART:20150101T000000
END:STANDARD
END:VTIMEZONE
BEGIN:VEVENT
DTSTART;TZID=UTC:20250613T150000
DTEND;TZID=UTC:20250614T150000
DTSTAMP:20260423T160810
CREATED:20250202T162646Z
LAST-MODIFIED:20250204T153257Z
UID:10000363-1749826800-1749913200@www.bsator.com
SUMMARY:2025 Upstate New York Trade-O-Ree
DESCRIPTION:Date: June 13-14\, 2025 \nAddress:\nCamp Woodland\n491 Kibbie Lake Road\nConstantia\, New York 13044 \nTimes:\nFriday: 3pm – 11pm\nSaturday: 9am – 3pm \nContact: Stephen Austin\nEmail: saustincsp@gmail.com\nPhone: (315) 420-0333 \n\n \nTrade-O-Ree Flyer\n\n\n    Download the PDF file .
URL:https://www.bsator.com/event/2025-upstate-new-york-trade-o-ree/
LOCATION:Camp Woodland\, 491 Kibbie Lake Rd.\, Constantia\, NY\, 13044\, United States
ATTACH;FMTTYPE=image/jpeg:https://www.bsator.com/wp-content/uploads/2016/06/SWAPSHOP_zpsd7821994-4-1.jpg.opt430x360o00s430x360-4-1.jpg
ORGANIZER;CN="Steve Austin":MAILTO:saustincsp@gmail.com
GEO:43.2732366;-75.9637817
X-APPLE-STRUCTURED-LOCATION;VALUE=URI;X-ADDRESS=Camp Woodland 491 Kibbie Lake Rd. Constantia NY 13044 United States;X-APPLE-RADIUS=500;X-TITLE=491 Kibbie Lake Rd.:geo:-75.9637817,43.2732366
END:VEVENT
BEGIN:VEVENT
DTSTART;TZID=UTC:20230609T150000
DTEND;TZID=UTC:20230610T150000
DTSTAMP:20260423T160810
CREATED:20230127T031229Z
LAST-MODIFIED:20230127T031645Z
UID:10000270-1686322800-1686409200@www.bsator.com
SUMMARY:2023 Upstate New York Trade-O-Ree
DESCRIPTION:Date: June 9-10\, 2023 \nAddress:\nCamp Woodland\n491 Kibbie Lake Road\nConstantia\, New York 13044 \nTimes:\nFriday: 3pm – 11pm\nSaturday: 9am – 3pm \nContact: Stephen Austin\nEmail: saustincsp@gmail.com\nPhone: (315) 420-0333 \n\n \nTrade-O-Ree Flyer\n\n\n    Download the PDF file .
URL:https://www.bsator.com/event/2023-upstate-new-york-trade-o-ree/
LOCATION:Camp Woodland\, 491 Kibbie Lake Rd.\, Constantia\, NY\, 13044\, United States
ATTACH;FMTTYPE=image/jpeg:https://www.bsator.com/wp-content/uploads/2016/06/SWAPSHOP_zpsd7821994-4-1.jpg.opt430x360o00s430x360-4-1.jpg
ORGANIZER;CN="Stephen Austin":MAILTO:saustincsp@gmail.com
GEO:43.2732366;-75.9637817
X-APPLE-STRUCTURED-LOCATION;VALUE=URI;X-ADDRESS=Camp Woodland 491 Kibbie Lake Rd. Constantia NY 13044 United States;X-APPLE-RADIUS=500;X-TITLE=491 Kibbie Lake Rd.:geo:-75.9637817,43.2732366
END:VEVENT
BEGIN:VEVENT
DTSTART;TZID=UTC:20220610T150000
DTEND;TZID=UTC:20220611T160000
DTSTAMP:20260423T160810
CREATED:20220125T161353Z
LAST-MODIFIED:20220125T164550Z
UID:10000427-1654873200-1654963200@www.bsator.com
SUMMARY:Upstate New York Trade-O-Ree
DESCRIPTION:Date: June 10-11\, 2022 \nAddress:\nCamp Woodland\n491 Kibbie Lake Road\nConstantia\, New York 13044 \nTimes:\nFriday: 3pm – 11pm\nSaturday: 9am – 4pm \nContact: Stephen Austin\nEmail: saustincsp@gmail.com\nPhone: (315) 420-0333 \n\n \nTrade-O-Ree Flyer\n\n\n    Download the PDF file .
URL:https://www.bsator.com/event/upstate-new-york-trade-o-ree/
LOCATION:Camp Woodland\, 491 Kibbie Lake Rd.\, Constantia\, NY\, 13044\, United States
ATTACH;FMTTYPE=image/jpeg:https://www.bsator.com/wp-content/uploads/2016/06/SWAPSHOP_zpsd7821994-4-1.jpg.opt430x360o00s430x360-4-1.jpg
ORGANIZER;CN="Stephen Austin":MAILTO:saustincsp@gmail.com
GEO:43.2732366;-75.9637817
X-APPLE-STRUCTURED-LOCATION;VALUE=URI;X-ADDRESS=Camp Woodland 491 Kibbie Lake Rd. Constantia NY 13044 United States;X-APPLE-RADIUS=500;X-TITLE=491 Kibbie Lake Rd.:geo:-75.9637817,43.2732366
END:VEVENT
BEGIN:VEVENT
DTSTART;TZID=UTC:20200612T150000
DTEND;TZID=UTC:20200613T170000
DTSTAMP:20260423T160810
CREATED:20200110T023550Z
LAST-MODIFIED:20200417T020510Z
UID:10000340-1591974000-1592067600@www.bsator.com
SUMMARY:CANCELED: 2020 Central New York Trade-O-Ree
DESCRIPTION:THIS EVENT HAS BEEN CANCELEDDUE TO THE CORONAVIRUS\n \n \nDate: June 12-13\, 2020 \nAddress:\nCamp Woodland (Stickley Hall)\n491 Kibbie Lake Road\nConstantia\, NY 13044 \nTimes:\nFriday: 3pm – 11pm\nSaturday: 9am – 5pm \nContact 1: Steve Austin\nEmail: saustincsp@gmail.com\nPhone: (315) 420-0333 \n\n    Download the PDF file .
URL:https://www.bsator.com/event/2020-central-new-york-trade-o-ree/
LOCATION:Camp Woodland\, 491 Kibbie Lake Rd.\, Constantia\, NY\, 13044\, United States
ATTACH;FMTTYPE=image/jpeg:https://www.bsator.com/wp-content/uploads/2016/05/11402447_10153489190010992_6780963237335378505_o.jpg.opt430x322o00s430x322.jpg
ORGANIZER;CN="Steve Austin":MAILTO:saustincsp@gmail.com
GEO:43.2732366;-75.9637817
X-APPLE-STRUCTURED-LOCATION;VALUE=URI;X-ADDRESS=Camp Woodland 491 Kibbie Lake Rd. Constantia NY 13044 United States;X-APPLE-RADIUS=500;X-TITLE=491 Kibbie Lake Rd.:geo:-75.9637817,43.2732366
END:VEVENT
BEGIN:VEVENT
DTSTART;TZID=UTC:20190712T160000
DTEND;TZID=UTC:20190713T170000
DTSTAMP:20260423T160810
CREATED:20190507T032702Z
LAST-MODIFIED:20190507T032903Z
UID:10000305-1562947200-1563037200@www.bsator.com
SUMMARY:2019 Central New York Trade-O-Ree
DESCRIPTION:Date: July 12-13\, 2019 \nAddress:\nCamp Woodland (Stickley Hall)\n491 Kibbie Lake Road\nConstantia\, NY 13044 \nTimes:\nFriday: 4pm – 12am (Midnight)\nSaturday: 9am – 5pm \nContact 1: Steve Austin\nEmail: saustincsp@gmail.com\nPhone: (315) 456-1511 \n\n    Download the PDF file .
URL:https://www.bsator.com/event/2019-central-new-york-trade-o-ree/
LOCATION:Camp Woodland\, 491 Kibbie Lake Rd.\, Constantia\, NY\, 13044\, United States
ATTACH;FMTTYPE=image/jpeg:https://www.bsator.com/wp-content/uploads/2016/05/11402447_10153489190010992_6780963237335378505_o.jpg.opt430x322o00s430x322.jpg
ORGANIZER;CN="Steve Austin":MAILTO:saustincsp@gmail.com
GEO:43.2732366;-75.9637817
X-APPLE-STRUCTURED-LOCATION;VALUE=URI;X-ADDRESS=Camp Woodland 491 Kibbie Lake Rd. Constantia NY 13044 United States;X-APPLE-RADIUS=500;X-TITLE=491 Kibbie Lake Rd.:geo:-75.9637817,43.2732366
END:VEVENT
BEGIN:VEVENT
DTSTART;TZID=UTC:20180615T160000
DTEND;TZID=UTC:20180616T150000
DTSTAMP:20260423T160810
CREATED:20180302T093343Z
LAST-MODIFIED:20180302T093757Z
UID:10000093-1529078400-1529161200@www.bsator.com
SUMMARY:2018 Central New York Trade-O-Ree
DESCRIPTION:Date: June 15-16\, 2018 \nAddress:\nCAMP WOODLAND\n491 Kibbie Lake Road\nConstantia\, NY 13044 \nTimes:\nFriday: 4pm – 12am (Midnight)\nSaturday: 9am – 3pm \nContact 1: Steve Austin\nEmail: saustin@twcny.rr.com\nPhone: (315) 456-1511 \n\n    Download the PDF file .
URL:https://www.bsator.com/event/2018-central-new-york-trade-o-ree/
LOCATION:Camp Woodland\, 491 Kibbie Lake Rd.\, Constantia\, NY\, 13044\, United States
ATTACH;FMTTYPE=image/jpeg:https://www.bsator.com/wp-content/uploads/2016/05/11402447_10153489190010992_6780963237335378505_o.jpg.opt430x322o00s430x322.jpg
ORGANIZER;CN="Steve Austin":MAILTO:saustincsp@gmail.com
GEO:43.2732366;-75.9637817
X-APPLE-STRUCTURED-LOCATION;VALUE=URI;X-ADDRESS=Camp Woodland 491 Kibbie Lake Rd. Constantia NY 13044 United States;X-APPLE-RADIUS=500;X-TITLE=491 Kibbie Lake Rd.:geo:-75.9637817,43.2732366
END:VEVENT
BEGIN:VEVENT
DTSTART;TZID=UTC:20170609T150000
DTEND;TZID=UTC:20170610T150000
DTSTAMP:20260423T160810
CREATED:20161229T075702Z
LAST-MODIFIED:20161229T082032Z
UID:10000025-1497020400-1497106800@www.bsator.com
SUMMARY:Central New York Trade-O-Ree
DESCRIPTION:Date: June 9-10\, 2017 \nAddress:\nCAMP WOODLAND\n491 Kibbie Lake Road\nConstantia\, NY 13044 \nTimes:\nFriday: 3pm – 12am (Midnight)\nSaturday: 9am – 3pm \nContact 1: Steve Austin\nEmail: saustin@twcny.rr.com\nPhone: (315) 456-1511 \n\n    Download the PDF file .
URL:https://www.bsator.com/event/central-new-york-trade-o-ree/
LOCATION:Camp Woodland\, 491 Kibbie Lake Rd.\, Constantia\, NY\, 13044\, United States
ATTACH;FMTTYPE=image/jpeg:https://www.bsator.com/wp-content/uploads/2016/05/11402447_10153489190010992_6780963237335378505_o.jpg.opt430x322o00s430x322.jpg
ORGANIZER;CN="Steve Austin":MAILTO:saustincsp@gmail.com
GEO:43.2732366;-75.9637817
X-APPLE-STRUCTURED-LOCATION;VALUE=URI;X-ADDRESS=Camp Woodland 491 Kibbie Lake Rd. Constantia NY 13044 United States;X-APPLE-RADIUS=500;X-TITLE=491 Kibbie Lake Rd.:geo:-75.9637817,43.2732366
END:VEVENT
BEGIN:VEVENT
DTSTART;TZID=UTC:20160610T080000
DTEND;TZID=UTC:20160611T170000
DTSTAMP:20260423T160810
CREATED:20160601T091725Z
LAST-MODIFIED:20160616T132311Z
UID:10000075-1465545600-1465664400@www.bsator.com
SUMMARY:Central New York Trade-O-Ree State: New York
DESCRIPTION:Date: June 10-11\, 2016 \nAddress:\nCamp Woodland\n491 Kibbie Lake Rd.\nConstantia\, NY 13044 \nTimes:\nFriday: 3pm – 12am\nSaturday: 9am – 3pm \nContact 1: Steve Austin\nEmail: saustin@twcny.rr.com\nPhone: (315) 456-1511 \nFlyer: Click Here\nMap View: Click Here \n\n				\n				\n				\n				\n				Register now
URL:https://www.bsator.com/event/central-new-york-trade-o-ree-state-new-york/
LOCATION:Camp Woodland\, 491 Kibbie Lake Rd.\, Constantia\, NY\, 13044\, United States
ATTACH;FMTTYPE=image/jpeg:https://www.bsator.com/wp-content/uploads/2016/06/11312819_10153489189890992_3824396509499520698_o.jpg.opt430x322o00s430x322-1.jpg
GEO:43.2732366;-75.9637817
X-APPLE-STRUCTURED-LOCATION;VALUE=URI;X-ADDRESS=Camp Woodland 491 Kibbie Lake Rd. Constantia NY 13044 United States;X-APPLE-RADIUS=500;X-TITLE=491 Kibbie Lake Rd.:geo:-75.9637817,43.2732366
END:VEVENT
END:VCALENDAR