BEGIN:VCALENDAR
VERSION:2.0
PRODID:-//Boy Scout Trade-O-Ree Calendar - ECPv6.15.20//NONSGML v1.0//EN
CALSCALE:GREGORIAN
METHOD:PUBLISH
X-ORIGINAL-URL:https://www.bsator.com
X-WR-CALDESC:Events for Boy Scout Trade-O-Ree Calendar
REFRESH-INTERVAL;VALUE=DURATION:PT1H
X-Robots-Tag:noindex
X-PUBLISHED-TTL:PT1H
BEGIN:VTIMEZONE
TZID:UTC
BEGIN:STANDARD
TZOFFSETFROM:+0000
TZOFFSETTO:+0000
TZNAME:UTC
DTSTART:20250101T000000
END:STANDARD
END:VTIMEZONE
BEGIN:VEVENT
DTSTART;TZID=UTC:20260605T150000
DTEND;TZID=UTC:20260606T150000
DTSTAMP:20260423T144256
CREATED:20251226T061729Z
LAST-MODIFIED:20251226T061729Z
UID:10000607-1780671600-1780758000@www.bsator.com
SUMMARY:2026 Upstate New York Trade-O-Ree
DESCRIPTION:Date: June 5-6\, 2026 \nAddress:\nCamp Woodland\n491 Kibbie Lake Road\nConstantia\, New York 13044 \nTimes:\nFriday: 3pm – 11pm\nSaturday: 9am – 3pm \nContact: Stephen Austin\nEmail: saustincsp@gmail.com\nPhone: (315) 420-0333 \n\n \nTrade-O-Ree Flyer\n\n\n    Download the PDF file .
URL:https://www.bsator.com/event/2026-upstate-new-york-trade-o-ree/
LOCATION:Camp Woodland\, 491 Kibbie Lake Rd.\, Constantia\, NY\, 13044\, United States
ATTACH;FMTTYPE=image/jpeg:https://www.bsator.com/wp-content/uploads/2016/06/SWAPSHOP_zpsd7821994-4-1.jpg.opt430x360o00s430x360-4-1.jpg
ORGANIZER;CN="Stephen Austin":MAILTO:saustincsp@gmail.com
GEO:43.2732366;-75.9637817
X-APPLE-STRUCTURED-LOCATION;VALUE=URI;X-ADDRESS=Camp Woodland 491 Kibbie Lake Rd. Constantia NY 13044 United States;X-APPLE-RADIUS=500;X-TITLE=491 Kibbie Lake Rd.:geo:-75.9637817,43.2732366
END:VEVENT
END:VCALENDAR