BEGIN:VCALENDAR
VERSION:2.0
PRODID:-//Boy Scout Trade-O-Ree Calendar - ECPv6.15.20//NONSGML v1.0//EN
CALSCALE:GREGORIAN
METHOD:PUBLISH
X-ORIGINAL-URL:https://www.bsator.com
X-WR-CALDESC:Events for Boy Scout Trade-O-Ree Calendar
REFRESH-INTERVAL;VALUE=DURATION:PT1H
X-Robots-Tag:noindex
X-PUBLISHED-TTL:PT1H
BEGIN:VTIMEZONE
TZID:UTC
BEGIN:STANDARD
TZOFFSETFROM:+0000
TZOFFSETTO:+0000
TZNAME:UTC
DTSTART:20180101T000000
END:STANDARD
END:VTIMEZONE
BEGIN:VEVENT
DTSTART;TZID=UTC:20191004T180000
DTEND;TZID=UTC:20191005T160000
DTSTAMP:20260423T200907
CREATED:20190717T175826Z
LAST-MODIFIED:20190717T175826Z
UID:10000133-1570212000-1570291200@www.bsator.com
SUMMARY:2019 Ed Harris Trade-O-Ree - State: Oregon
DESCRIPTION:Date: October 4-5\, 2019 \nAddress:\nCascade Pacific Council\, BSA Office\n2145 SW Naito Pkwy\nPortland\, OR 97201 \nTimes:\nFriday: 6pm – 10pm\nSaturday: 9am – 4pm \nContact 1: Jeff Ansley\nEmail: skyloo442@comcast.net\nPhone: (503) 352-5357 \nContact 2: Todd Hatfield\nEmail: machque@hotmail.com\nPhone: (503) 859-2443 \nRegister Now\n\n    Download the PDF file .
URL:https://www.bsator.com/event/2019-ed-harris-trade-o-ree-state-oregon/
LOCATION:Cascade Pacific Council\, BSA Office\, 2145 SW Naito Pkwy\, Portland\, OR\, 97201\, United States
ATTACH;FMTTYPE=image/jpeg:https://www.bsator.com/wp-content/uploads/2016/06/10710284_10152663411746195_1283144467783832528_o.jpg.opt430x322o00s430x322.jpg
END:VEVENT
END:VCALENDAR