BEGIN:VCALENDAR
VERSION:2.0
PRODID:-//Boy Scout Trade-O-Ree Calendar - ECPv6.15.20//NONSGML v1.0//EN
CALSCALE:GREGORIAN
METHOD:PUBLISH
X-ORIGINAL-URL:https://www.bsator.com
X-WR-CALDESC:Events for Boy Scout Trade-O-Ree Calendar
REFRESH-INTERVAL;VALUE=DURATION:PT1H
X-Robots-Tag:noindex
X-PUBLISHED-TTL:PT1H
BEGIN:VTIMEZONE
TZID:UTC
BEGIN:STANDARD
TZOFFSETFROM:+0000
TZOFFSETTO:+0000
TZNAME:UTC
DTSTART:20220101T000000
END:STANDARD
END:VTIMEZONE
BEGIN:VEVENT
DTSTART;TZID=UTC:20230414T160000
DTEND;TZID=UTC:20230415T160000
DTSTAMP:20260423T184839
CREATED:20221214T232820Z
LAST-MODIFIED:20230414T064245Z
UID:10000469-1681488000-1681574400@www.bsator.com
SUMMARY:2023 Southern Willamette Valley Trade-O-Ree
DESCRIPTION:Date: April 14-15\, 2023 \nAddress:\nOregon Trail Council BSA Scout Office\n2525 Martin Luther King Jr Blvd.\nEugene\, Oregon 97401 \nTimes:\nFriday: 4pm – 9pm\nSaturday: 9am – 4pm \nContact: Chris Graves\nEmail: graveschris@hotmail.com\nPhone: (503) 949-5881 \n \nTrade-O-Ree Flyer\n\n\n    Download the PDF file . \n\n\n\n    Download the PDF file .
URL:https://www.bsator.com/event/2023-southern-willamette-valley-trade-o-ree/
LOCATION:Church of Latter-Day Saints Community Center\, 3550 W 18th Street\, Eugene\, OR\, 97402\, United States
ATTACH;FMTTYPE=image/jpeg:https://www.bsator.com/wp-content/uploads/2016/05/12063505_10208083233612135_4525830413850654031_n.jpg
ORGANIZER;CN="Chris Graves":MAILTO:graveschris@hotmail.com
END:VEVENT
END:VCALENDAR