BEGIN:VCALENDAR
VERSION:2.0
PRODID:-//Boy Scout Trade-O-Ree Calendar - ECPv6.15.20//NONSGML v1.0//EN
CALSCALE:GREGORIAN
METHOD:PUBLISH
X-ORIGINAL-URL:https://www.bsator.com
X-WR-CALDESC:Events for Boy Scout Trade-O-Ree Calendar
REFRESH-INTERVAL;VALUE=DURATION:PT1H
X-Robots-Tag:noindex
X-PUBLISHED-TTL:PT1H
BEGIN:VTIMEZONE
TZID:UTC
BEGIN:STANDARD
TZOFFSETFROM:+0000
TZOFFSETTO:+0000
TZNAME:UTC
DTSTART:20190101T000000
END:STANDARD
END:VTIMEZONE
BEGIN:VEVENT
DTSTART;TZID=UTC:20260227T153000
DTEND;TZID=UTC:20260228T150000
DTSTAMP:20260423T173000
CREATED:20250617T131652Z
LAST-MODIFIED:20250617T131817Z
UID:10000390-1772206200-1772290800@www.bsator.com
SUMMARY:2026 Virginia Beach Trade-O-Ree - State: Virginia
DESCRIPTION:We are back for another year of good scouting fun\, fellowship\, and collectables. Free admission\, as always. Table rental rates remain unchanged\, as always. Buy\, sell\, trade\, or just browse. Come join us! – MANY THANKS\, John \nDate: February 27-28\, 2026 \nAddress:\nChurch of the Ascension Community Center\n4853 Princess Anne Road\nVirginia Beach\, VA 23462 \nTimes:\nFriday: 3:30pm – 10:30pm\nSaturday: 8am – 3pm \nContact: John Ortt\nEmail: jortt@cox.net\nPhone: (757) 496-9540 \nContact: Mike Scott\nEmail: kd4nfx@juno.com\nPhone: (757) 420-2039 \n\n \nTrade-O-Ree Flyer\n\n\n    Download the PDF file .
URL:https://www.bsator.com/event/2026-virginia-beach-trade-o-ree-state-virginia/
LOCATION:Church of the Ascension Community Center\, 4853 Princess Anne Road\, Virginia Beach\, VA\, 23462\, United States
ATTACH;FMTTYPE=image/jpeg:https://www.bsator.com/wp-content/uploads/2019/08/89071001_190553958919743_6542551354471088128_n.jpg
ORGANIZER;CN="John Ortt":MAILTO:jortt@cox.net
END:VEVENT
BEGIN:VEVENT
DTSTART;TZID=UTC:20250221T160000
DTEND;TZID=UTC:20250222T150000
DTSTAMP:20260423T173000
CREATED:20240922T025250Z
LAST-MODIFIED:20240922T025356Z
UID:10000553-1740153600-1740236400@www.bsator.com
SUMMARY:2025 Virginia Beach Trade-O-Ree - State: Virginia
DESCRIPTION:We are back for another year of good scouting fun\, fellowship\, and collectables. Free admission\, as always. Table rental rates remain unchanged\, as always. Buy\, sell\, trade\, or just browse. Come join us! – MANY THANKS\, John \nDate: February 21-22\, 2025 \nAddress:\nChurch of the Ascension Community Center\n4853 Princess Anne Road\nVirginia Beach\, VA 23462 \nTimes:\nFriday: 4pm – 11pm\nSaturday: 8am – 3pm \nContact: John Ortt\nEmail: jortt@cox.net\nPhone: (757) 496-9540 \nContact: Mike Scott\nEmail: kd4nfx@juno.com\nPhone: (757) 420-2039 \n\n \nTrade-O-Ree Flyer\n\n\n    Download the PDF file .
URL:https://www.bsator.com/event/2025-virginia-beach-trade-o-ree-state-virginia/
LOCATION:Church of the Ascension Community Center\, 4853 Princess Anne Road\, Virginia Beach\, VA\, 23462\, United States
ATTACH;FMTTYPE=image/jpeg:https://www.bsator.com/wp-content/uploads/2019/08/89071001_190553958919743_6542551354471088128_n.jpg
ORGANIZER;CN="John Ortt":MAILTO:jortt@cox.net
END:VEVENT
BEGIN:VEVENT
DTSTART;TZID=UTC:20240223T160000
DTEND;TZID=UTC:20240224T150000
DTSTAMP:20260423T173000
CREATED:20230912T202852Z
LAST-MODIFIED:20230912T202852Z
UID:10000291-1708704000-1708786800@www.bsator.com
SUMMARY:2024 Virginia Beach Trade-O-Ree - State: Virginia
DESCRIPTION:Date: February 23-24\, 2024 \nAddress:\nChurch of the Ascension Community Center\n4853 Princess Anne Road\nVirginia Beach\, VA 23462 \nTimes:\nFriday: 4pm – 11pm\nSaturday: 8am – 3pm \nContact: John Ortt\nEmail: jortt@cox.net\nPhone: (757) 496-9540 \nContact: Mike Scott\nEmail: kd4nfx@juno.com\nPhone: (757) 420-2039 \n\n \nTrade-O-Ree Flyer\n\n\n    Download the PDF file .
URL:https://www.bsator.com/event/2024-virginia-beach-trade-o-ree-state-virginia/
LOCATION:Church of the Ascension Community Center\, 4853 Princess Anne Road\, Virginia Beach\, VA\, 23462\, United States
ATTACH;FMTTYPE=image/jpeg:https://www.bsator.com/wp-content/uploads/2019/08/89071001_190553958919743_6542551354471088128_n.jpg
ORGANIZER;CN="John Ortt":MAILTO:jortt@cox.net
END:VEVENT
BEGIN:VEVENT
DTSTART;TZID=UTC:20230224T160000
DTEND;TZID=UTC:20230225T150000
DTSTAMP:20260423T173000
CREATED:20220716T020852Z
LAST-MODIFIED:20220716T021242Z
UID:10000446-1677254400-1677337200@www.bsator.com
SUMMARY:2023 Virginia Beach Trade-O-Ree - State: Virginia
DESCRIPTION:Date: February 24-25\, 2023 \nAddress:\nChurch of the Ascension Community Center\n4853 Princess Anne Road\nVirginia Beach\, VA 23462 \nTimes:\nFriday: 4pm – 11pm\nSaturday: 8am – 3pm \nContact: John Ortt\nEmail: jortt@cox.net\nPhone: (757) 496-9540 \nContact: Mike Scott\nEmail: kd4nfx@juno.com\nPhone: (757) 420-2039 \n\n \nTrade-O-Ree Flyer\n\n\n    Download the PDF file .
URL:https://www.bsator.com/event/2023-virginia-beach-trade-o-ree-state-virginia/
LOCATION:Church of the Ascension Community Center\, 4853 Princess Anne Road\, Virginia Beach\, VA\, 23462\, United States
ATTACH;FMTTYPE=image/jpeg:https://www.bsator.com/wp-content/uploads/2019/08/89071001_190553958919743_6542551354471088128_n.jpg
ORGANIZER;CN="John Ortt":MAILTO:jortt@cox.net
END:VEVENT
BEGIN:VEVENT
DTSTART;TZID=UTC:20220225T160000
DTEND;TZID=UTC:20220226T150000
DTSTAMP:20260423T173000
CREATED:20211119T023915Z
LAST-MODIFIED:20211210T044140Z
UID:10000410-1645804800-1645887600@www.bsator.com
SUMMARY:2022 Virginia Beach Trade-O-Ree - State: Virginia
DESCRIPTION:Date: February 25-26\, 2022 \nAddress:\nChurch of the Ascension Community Center\n4853 Princess Anne Road\nVirginia Beach\, VA 23462 \nTimes:\nFriday: 4pm – 11pm\nSaturday: 8am – 3pm \nContact 1: John Ortt\nEmail: jortt@cox.net\nPhone: (757) 496-9540 \nContact 2: Mike Scott\nEmail: kd4nfx@juno.com\nPhone: (757) 420-2039 \n\n \nTrade-O-Ree Flyer\n\n\n    Download the PDF file .
URL:https://www.bsator.com/event/2022-virginia-beach-trade-o-ree-state-virginia/
LOCATION:Church of the Ascension Community Center\, 4853 Princess Anne Road\, Virginia Beach\, VA\, 23462\, United States
ATTACH;FMTTYPE=image/jpeg:https://www.bsator.com/wp-content/uploads/2019/08/89071001_190553958919743_6542551354471088128_n.jpg
ORGANIZER;CN="John Ortt":MAILTO:jortt@cox.net
END:VEVENT
BEGIN:VEVENT
DTSTART;TZID=UTC:20200228T160000
DTEND;TZID=UTC:20200229T150000
DTSTAMP:20260423T173000
CREATED:20190818T034605Z
LAST-MODIFIED:20200301T143529Z
UID:10000134-1582905600-1582988400@www.bsator.com
SUMMARY:2020 Virginia Beach Trade-O-Ree - State: Virginia
DESCRIPTION:Date: February 28-29\, 2020 \nAddress:\nChurch of the Ascension Community Center\n4853 Princess Anne Road\nVirginia Beach\, VA 23462 \nTimes:\nFriday: 4pm – 11pm\nSaturday: 8am – 3pm \nContact 1: John Ortt\nEmail: jortt@cox.net\nPhone: (757) 496-9540 \nContact 2: Mike Scott\nEmail: kd4nfx@juno.com\nPhone: (757) 420-2039 \n\n    Download the PDF file .
URL:https://www.bsator.com/event/2020-norfolk-trade-o-ree-state-virginia/
LOCATION:Church of the Ascension Community Center\, 4853 Princess Anne Road\, Virginia Beach\, VA\, 23462\, United States
ATTACH;FMTTYPE=image/jpeg:https://www.bsator.com/wp-content/uploads/2019/08/89071001_190553958919743_6542551354471088128_n.jpg
ORGANIZER;CN="John Ortt":MAILTO:jortt@cox.net
END:VEVENT
END:VCALENDAR