BEGIN:VCALENDAR
VERSION:2.0
PRODID:-//Boy Scout Trade-O-Ree Calendar - ECPv6.15.20//NONSGML v1.0//EN
CALSCALE:GREGORIAN
METHOD:PUBLISH
X-WR-CALNAME:Boy Scout Trade-O-Ree Calendar
X-ORIGINAL-URL:https://www.bsator.com
X-WR-CALDESC:Events for Boy Scout Trade-O-Ree Calendar
REFRESH-INTERVAL;VALUE=DURATION:PT1H
X-Robots-Tag:noindex
X-PUBLISHED-TTL:PT1H
BEGIN:VTIMEZONE
TZID:UTC
BEGIN:STANDARD
TZOFFSETFROM:+0000
TZOFFSETTO:+0000
TZNAME:UTC
DTSTART:20150101T000000
END:STANDARD
END:VTIMEZONE
BEGIN:VEVENT
DTSTART;TZID=UTC:20161112T080000
DTEND;TZID=UTC:20161112T130000
DTSTAMP:20260423T220323
CREATED:20160914T222444Z
LAST-MODIFIED:20160914T225451Z
UID:10000085-1478937600-1478955600@www.bsator.com
SUMMARY:Baltimore Swap Meet - State: Maryland
DESCRIPTION:Date: November 12\, 2016 \nAddress:\nChurch of the Redemption\n1401 Towson St.\nBaltimore\, MD 21230 \nTimes:\nSaturday: 8am – 1pm \nContact 1: Rick Barbour\nEmail: ?\nPhone: (443) 834-0052 \nContact 2: Shaun Woolmer\nEmail: Oa12harford@hotmail.com\nPhone: (410) 399-1296 \nFlyer: Click Here \n\n    Download the PDF file .
URL:https://www.bsator.com/event/baltimore-swap-meet-state-maryland/
LOCATION:Church of the Redemption\, 1401 Towson St.\, Baltimore\, MD\, 21230\, United States
ATTACH;FMTTYPE=image/jpeg:https://www.bsator.com/wp-content/uploads/2016/06/SWAPSHOP_zpsd7821994-4-1.jpg.opt430x360o00s430x360-4-1.jpg
GEO:39.269599;-76.591508
X-APPLE-STRUCTURED-LOCATION;VALUE=URI;X-ADDRESS=Church of the Redemption 1401 Towson St. Baltimore MD 21230 United States;X-APPLE-RADIUS=500;X-TITLE=1401 Towson St.:geo:-76.591508,39.269599
END:VEVENT
END:VCALENDAR