BEGIN:VCALENDAR
VERSION:2.0
PRODID:-//Boy Scout Trade-O-Ree Calendar - ECPv6.15.20//NONSGML v1.0//EN
CALSCALE:GREGORIAN
METHOD:PUBLISH
X-WR-CALNAME:Boy Scout Trade-O-Ree Calendar
X-ORIGINAL-URL:https://www.bsator.com
X-WR-CALDESC:Events for Boy Scout Trade-O-Ree Calendar
REFRESH-INTERVAL;VALUE=DURATION:PT1H
X-Robots-Tag:noindex
X-PUBLISHED-TTL:PT1H
BEGIN:VTIMEZONE
TZID:UTC
BEGIN:STANDARD
TZOFFSETFROM:+0000
TZOFFSETTO:+0000
TZNAME:UTC
DTSTART:20160101T000000
END:STANDARD
END:VTIMEZONE
BEGIN:VEVENT
DTSTART;TZID=UTC:20220304T180000
DTEND;TZID=UTC:20220305T140000
DTSTAMP:20260423T213435
CREATED:20211210T035515Z
LAST-MODIFIED:20211210T044046Z
UID:10000416-1646416800-1646488800@www.bsator.com
SUMMARY:4th Annual Tuku'ut Lodge 33 Trade-O-Ree - State: California
DESCRIPTION:Date: March 4-5\, 2022 \nAddress:\nCushman-Watt Scout Center\n2333 Scout Way\nLos Angeles\, CA 90026 \nTimes:\nFriday: 6pm – 10pm\nSaturday: 8am – 2pm \nContact 1: Louis Smith\nEmail: mrlionel@aol.com\nPhone: (562) 698-8653 \n\n \nTrade-O-Ree Flyer\n\n\n    Download the PDF file .
URL:https://www.bsator.com/event/4th-annual-tukuut-lodge-33-trade-o-ree-state-california-2/
LOCATION:Cushman-Watt Scout Center\, 2333 Scout Way\, Los Angeles\, CA\, 90026\, United States
ATTACH;FMTTYPE=image/jpeg:https://www.bsator.com/wp-content/uploads/2016/06/SWAPSHOP_zpsd7821994-4-1.jpg.opt430x360o00s430x360-4-1.jpg
ORGANIZER;CN="Louis Smith":MAILTO:mrlionel@aol.com
GEO:34.0730326;-118.2707046
X-APPLE-STRUCTURED-LOCATION;VALUE=URI;X-ADDRESS=Cushman-Watt Scout Center 2333 Scout Way Los Angeles CA 90026 United States;X-APPLE-RADIUS=500;X-TITLE=2333 Scout Way:geo:-118.2707046,34.0730326
END:VEVENT
BEGIN:VEVENT
DTSTART;TZID=UTC:20200320T190000
DTEND;TZID=UTC:20200321T140000
DTSTAMP:20260423T213435
CREATED:20200131T082146Z
LAST-MODIFIED:20200317T234824Z
UID:10000163-1584730800-1584799200@www.bsator.com
SUMMARY:CANCELED: 4th Annual Tuku'ut Lodge 33 Trade-O-Ree - State: California
DESCRIPTION:THIS EVENT HAS BEEN CANCELEDDUE TO THE CORONAVIRUS\n \n \nDate: March 20-21\, 2020 \nAddress:\nCushman-Watt Scout Center (Same location as last year)\n2333 Scout Way\nLos Angeles\, CA 90026 \nTimes:\nFriday: 7pm – 10pm\nSaturday: 8am – 2pm \nContact 1: Louis Smith\nEmail: mrlionel@aol.com\nPhone: (562) 698-8653 \n\n    Download the PDF file .
URL:https://www.bsator.com/event/4th-annual-tukuut-lodge-33-trade-o-ree-state-california/
LOCATION:Cushman-Watt Scout Center\, 2333 Scout Way\, Los Angeles\, CA\, 90026\, United States
ATTACH;FMTTYPE=image/jpeg:https://www.bsator.com/wp-content/uploads/2016/06/SWAPSHOP_zpsd7821994-4-1.jpg.opt430x360o00s430x360-4-1.jpg
ORGANIZER;CN="Louis Smith":MAILTO:mrlionel@aol.com
GEO:34.0730326;-118.2707046
X-APPLE-STRUCTURED-LOCATION;VALUE=URI;X-ADDRESS=Cushman-Watt Scout Center 2333 Scout Way Los Angeles CA 90026 United States;X-APPLE-RADIUS=500;X-TITLE=2333 Scout Way:geo:-118.2707046,34.0730326
END:VEVENT
BEGIN:VEVENT
DTSTART;TZID=UTC:20190308T190000
DTEND;TZID=UTC:20190309T140000
DTSTAMP:20260423T213435
CREATED:20181019T164108Z
LAST-MODIFIED:20181019T164108Z
UID:10000262-1552071600-1552140000@www.bsator.com
SUMMARY:3rd Annual Tuku'ut Lodge 33 Trade-O-Ree - State: California
DESCRIPTION:Date: March 8-9\, 2019 \nAddress:\nCushman-Watt Scout Center (Same location as last year)\n2333 Scout Way\nLos Angeles\, CA 90026 \nTimes:\nFriday: 7pm – 10pm\nSaturday: 8am – 2pm \nContact 1: Louis Smith\nEmail: mrlionel@aol.com\nPhone: (562) 698-8653 \n\n    Download the PDF file .
URL:https://www.bsator.com/event/3rd-annual-tukuut-lodge-33-trade-o-ree-state-california/
LOCATION:Cushman-Watt Scout Center\, 2333 Scout Way\, Los Angeles\, CA\, 90026\, United States
ATTACH;FMTTYPE=image/jpeg:https://www.bsator.com/wp-content/uploads/2016/06/SWAPSHOP_zpsd7821994-4-1.jpg.opt430x360o00s430x360-4-1.jpg
ORGANIZER;CN="Louis Smith":MAILTO:mrlionel@aol.com
GEO:34.0730326;-118.2707046
X-APPLE-STRUCTURED-LOCATION;VALUE=URI;X-ADDRESS=Cushman-Watt Scout Center 2333 Scout Way Los Angeles CA 90026 United States;X-APPLE-RADIUS=500;X-TITLE=2333 Scout Way:geo:-118.2707046,34.0730326
END:VEVENT
BEGIN:VEVENT
DTSTART;TZID=UTC:20180309T190000
DTEND;TZID=UTC:20180310T160000
DTSTAMP:20260423T213435
CREATED:20180121T043253Z
LAST-MODIFIED:20180121T044849Z
UID:10000226-1520622000-1520697600@www.bsator.com
SUMMARY:2nd Annual Tuku'ut Lodge 33 Trade-O-Ree
DESCRIPTION:Date: March 9-10\, 2018 \nAddress:\nCushman-Watt Scout Center (Same location as last year)\n2333 Scout Way\nLos Angeles\, CA 90026 \nTimes:\nFriday: 7pm – 10pm\nSaturday: 8am – 4pm \nContact 1: Louis Smith\nEmail: mrlionel@aol.com\nPhone: (562) 698-8653 \n\n    Download the PDF file .
URL:https://www.bsator.com/event/2nd-annual-tukuut-lodge-33-trade-o-ree/
LOCATION:Cushman-Watt Scout Center\, 2333 Scout Way\, Los Angeles\, CA\, 90026\, United States
ATTACH;FMTTYPE=image/jpeg:https://www.bsator.com/wp-content/uploads/2016/06/SWAPSHOP_zpsd7821994-4-1.jpg.opt430x360o00s430x360-4-1.jpg
ORGANIZER;CN="Louis Smith":MAILTO:mrlionel@aol.com
GEO:34.0730326;-118.2707046
X-APPLE-STRUCTURED-LOCATION;VALUE=URI;X-ADDRESS=Cushman-Watt Scout Center 2333 Scout Way Los Angeles CA 90026 United States;X-APPLE-RADIUS=500;X-TITLE=2333 Scout Way:geo:-118.2707046,34.0730326
END:VEVENT
BEGIN:VEVENT
DTSTART;TZID=UTC:20170310T190000
DTEND;TZID=UTC:20170311T150000
DTSTAMP:20260423T213435
CREATED:20170203T062939Z
LAST-MODIFIED:20170206T164111Z
UID:10000149-1489172400-1489244400@www.bsator.com
SUMMARY:1st Annual Tuku'ut Lodge 33 Trade-O-Ree
DESCRIPTION:Date: March 10-11\, 2017 \nAddress:\nCushman-Watt Scout Center (Same location as last year)\n2333 Scout Way\nLos Angeles\, CA 90026 \nTimes:\nFriday: 7pm – 10pm\nSaturday: 8am – 3pm \nContact 1: Louis Smith\nEmail: mrlionels@aol.com\nPhone: (562) 698-8653 \n\n    Download the PDF file .
URL:https://www.bsator.com/event/1st-annual-tukuut-lodge-trade-o-ree/
LOCATION:Cushman-Watt Scout Center\, 2333 Scout Way\, Los Angeles\, CA\, 90026\, United States
ATTACH;FMTTYPE=image/jpeg:https://www.bsator.com/wp-content/uploads/2016/06/SWAPSHOP_zpsd7821994-4-1.jpg.opt430x360o00s430x360-4-1.jpg
ORGANIZER;CN="Louis Smith":MAILTO:mrlionel@aol.com
GEO:34.0730326;-118.2707046
X-APPLE-STRUCTURED-LOCATION;VALUE=URI;X-ADDRESS=Cushman-Watt Scout Center 2333 Scout Way Los Angeles CA 90026 United States;X-APPLE-RADIUS=500;X-TITLE=2333 Scout Way:geo:-118.2707046,34.0730326
END:VEVENT
END:VCALENDAR