BEGIN:VCALENDAR
VERSION:2.0
PRODID:-//Boy Scout Trade-O-Ree Calendar - ECPv6.15.20//NONSGML v1.0//EN
CALSCALE:GREGORIAN
METHOD:PUBLISH
X-ORIGINAL-URL:https://www.bsator.com
X-WR-CALDESC:Events for Boy Scout Trade-O-Ree Calendar
REFRESH-INTERVAL;VALUE=DURATION:PT1H
X-Robots-Tag:noindex
X-PUBLISHED-TTL:PT1H
BEGIN:VTIMEZONE
TZID:UTC
BEGIN:STANDARD
TZOFFSETFROM:+0000
TZOFFSETTO:+0000
TZNAME:UTC
DTSTART:20160101T000000
END:STANDARD
END:VTIMEZONE
BEGIN:VEVENT
DTSTART;TZID=UTC:20171006T120000
DTEND;TZID=UTC:20171007T170000
DTSTAMP:20260423T220707
CREATED:20161108T050901Z
LAST-MODIFIED:20171003T001311Z
UID:10000013-1507291200-1507395600@www.bsator.com
SUMMARY:ACES & Eats Scouting Memorabilia Show and Trade-O-Ree - State: Nevada
DESCRIPTION:THIS EVENT HAS BEEN CANCELED: Scouting friends\, it is with a heavy heart that Rick Bedsworth and James Arriola announce the cancellation of this weekends Las Vegas Trade-O-Ree out of respect for the loss of lives and out of concern for the resources that might be tied up in council resources and the time\, energy\, and financial resources of our Scouting community here in Southern Nevada. Please consider donating blood at your local blood service or money to any local non profit that helps your local community a better place to live. Safety is always our number one concern with any Scouting event. I am numb with sadness for my hometown and all of those family affected by this senseless tragedy. Thanks for your time and thoughts.\n \nDate: October 6-7\, 2017 \nAddress:\n Donald W. Reynolds Scouting Resource Center\n Las Vegas Area Council Office\n 7220 South Paradise Rd.\n Las Vegas\, NV 89119 \nTimes:\n Friday: 12pm – 9pm\n Saturday: 8am – 5pm \nContact 1: Rick Bedsworth\n Email: kwtrdr@gmail.com\n Phone: (702) 561-2598 \n\n    Download the PDF file . \n \nRegister Now
URL:https://www.bsator.com/event/aces-eats-scouting-memorabilia-show-and-trade-o-ree-state-nevada/
LOCATION:DONALD W REYNOLDS SCOUTING RESOURCE CENTER\, 7220 S Paradise Rd\, Las Vegas\, NV\, 89119\, United States
ATTACH;FMTTYPE=image/jpeg:https://www.bsator.com/wp-content/uploads/2016/05/Unknown-2.jpeg.opt415x415o00s415x415.jpeg
ORGANIZER;CN="Rick Bedsworth":MAILTO:kwtrdr@gmail.com
GEO:36.0586083;-115.1390548
X-APPLE-STRUCTURED-LOCATION;VALUE=URI;X-ADDRESS=DONALD W REYNOLDS SCOUTING RESOURCE CENTER 7220 S Paradise Rd Las Vegas NV 89119 United States;X-APPLE-RADIUS=500;X-TITLE=7220 S Paradise Rd:geo:-115.1390548,36.0586083
END:VEVENT
END:VCALENDAR