BEGIN:VCALENDAR
VERSION:2.0
PRODID:-//Boy Scout Trade-O-Ree Calendar - ECPv6.15.20//NONSGML v1.0//EN
CALSCALE:GREGORIAN
METHOD:PUBLISH
X-ORIGINAL-URL:https://www.bsator.com
X-WR-CALDESC:Events for Boy Scout Trade-O-Ree Calendar
REFRESH-INTERVAL;VALUE=DURATION:PT1H
X-Robots-Tag:noindex
X-PUBLISHED-TTL:PT1H
BEGIN:VTIMEZONE
TZID:UTC
BEGIN:STANDARD
TZOFFSETFROM:+0000
TZOFFSETTO:+0000
TZNAME:UTC
DTSTART:20190101T000000
END:STANDARD
END:VTIMEZONE
BEGIN:VEVENT
DTSTART;TZID=UTC:20200320T150000
DTEND;TZID=UTC:20200321T150000
DTSTAMP:20260423T223238
CREATED:20191105T163131Z
LAST-MODIFIED:20200317T041102Z
UID:10000317-1584716400-1584802800@www.bsator.com
SUMMARY:CANCELED: 21st Annual Midwest Tradefest - State: Wisconsin
DESCRIPTION:THIS EVENT HAS BEEN CANCELEDDUE TO THE CORONAVIRUS\n \n \nDate: March 20-21\, 2020 \nAddress:\nFirst Lutheran Church\n612 North Randall Avenue\nJanesville\, WI 53545 \nTimes:\nFriday: 3pm – 9pm\nSaturday: 8am – 3pm \nContact 1: Michael Heitke\nEmail: mheitke@hotmail.com\nPhone: (608) 279-4299 \n\n    Download the PDF file .
URL:https://www.bsator.com/event/21st-annual-midwest-tradefest-state-wisconsin/
LOCATION:First Lutheran Church\, 612 North Randall Avenue\, Janesville\, WI\, 53545\, United States
ATTACH;FMTTYPE=image/jpeg:https://www.bsator.com/wp-content/uploads/2016/05/Midwest-Trade-Fest-Wisconsin.jpg.opt876x491o00s876x491.jpg
ORGANIZER;CN="Michael Heitke":MAILTO:mheitke@hotmail.com
END:VEVENT
END:VCALENDAR