BEGIN:VCALENDAR
VERSION:2.0
PRODID:-//Boy Scout Trade-O-Ree Calendar - ECPv6.15.20//NONSGML v1.0//EN
CALSCALE:GREGORIAN
METHOD:PUBLISH
X-WR-CALNAME:Boy Scout Trade-O-Ree Calendar
X-ORIGINAL-URL:https://www.bsator.com
X-WR-CALDESC:Events for Boy Scout Trade-O-Ree Calendar
REFRESH-INTERVAL;VALUE=DURATION:PT1H
X-Robots-Tag:noindex
X-PUBLISHED-TTL:PT1H
BEGIN:VTIMEZONE
TZID:UTC
BEGIN:STANDARD
TZOFFSETFROM:+0000
TZOFFSETTO:+0000
TZNAME:UTC
DTSTART:20220101T000000
END:STANDARD
END:VTIMEZONE
BEGIN:VEVENT
DTSTART;TZID=UTC:20230325T090000
DTEND;TZID=UTC:20230325T120000
DTSTAMP:20260423T213557
CREATED:20230305T064316Z
LAST-MODIFIED:20230305T065437Z
UID:10000275-1679734800-1679745600@www.bsator.com
SUMMARY:1st Annual Ozark Trails Council Trade-O-Ree - State: Missouri
DESCRIPTION:Date: March 25\, 2023 \nAddress:\nFrank Childress Scout Reservation (Dining Hall)\n5250 Jamboree Ln\nJoplin\, MO 64804 \nTimes:\nSaturday: 9am – 12pm \nContact: Rodney Bechdoldt\nEmail: ?\nPhone: (417) 456-2222 \n\n \nTrade-O-Ree Flyer\n\n\n    Download the PDF file .
URL:https://www.bsator.com/event/ozark-trails-council-trade-o-ree-state-missouri/
LOCATION:Frank Childress Scout Reservation (Dining Hall)\, 5250 Jamboree Ln\, Joplin\, MO\, 64804\, United States
ATTACH;FMTTYPE=image/jpeg:https://www.bsator.com/wp-content/uploads/2016/06/SWAPSHOP_zpsd7821994-4-1.jpg.opt430x360o00s430x360-4-1.jpg
END:VEVENT
END:VCALENDAR