BEGIN:VCALENDAR
VERSION:2.0
PRODID:-//Boy Scout Trade-O-Ree Calendar - ECPv6.15.20//NONSGML v1.0//EN
CALSCALE:GREGORIAN
METHOD:PUBLISH
X-WR-CALNAME:Boy Scout Trade-O-Ree Calendar
X-ORIGINAL-URL:https://www.bsator.com
X-WR-CALDESC:Events for Boy Scout Trade-O-Ree Calendar
REFRESH-INTERVAL;VALUE=DURATION:PT1H
X-Robots-Tag:noindex
X-PUBLISHED-TTL:PT1H
BEGIN:VTIMEZONE
TZID:UTC
BEGIN:STANDARD
TZOFFSETFROM:+0000
TZOFFSETTO:+0000
TZNAME:UTC
DTSTART:20150101T000000
END:STANDARD
END:VTIMEZONE
BEGIN:VEVENT
DTSTART;TZID=UTC:20250829T120000
DTEND;TZID=UTC:20250830T140000
DTSTAMP:20260423T201621
CREATED:20250525T025754Z
LAST-MODIFIED:20250525T025754Z
UID:10000384-1756468800-1756562400@www.bsator.com
SUMMARY:19th Annual Capitol Area Trade-O-Ree - State: Texas
DESCRIPTION:Date: August 29-30\, 2025 \nAddress:\nFrank Fickett Scout Training & Service Center\n12500 N-IH 35\nAustin\, TX 78753 \nTimes:\nFriday: 12pm – 10pm\nSaturday: 9am – 2pm \nContact: Jim Sylvester\nEmail: swtsu88@aol.com\nPhone: (512) 650-5591 \n\n \nTrade-O-Ree Flyer\n\n\n    Download the PDF file .
URL:https://www.bsator.com/event/19th-annual-capitol-area-trade-o-ree-state-texas/
LOCATION:Frank Fickett Scout Training & Service Center\, 12500 N IH 35\, Austin\, TX\, 78753\, United States
ATTACH;FMTTYPE=image/jpeg:https://www.bsator.com/wp-content/uploads/2016/05/10322761_10203640636091151_1542785950943790072_n.jpg
ORGANIZER;CN="Jim Sylvester":MAILTO:Jim.Sylvester@co.travis.tx.us
GEO:30.4057864;-97.6760917
X-APPLE-STRUCTURED-LOCATION;VALUE=URI;X-ADDRESS=Frank Fickett Scout Training & Service Center 12500 N IH 35 Austin TX 78753 United States;X-APPLE-RADIUS=500;X-TITLE=12500 N IH 35:geo:-97.6760917,30.4057864
END:VEVENT
BEGIN:VEVENT
DTSTART;TZID=UTC:20240830T080000
DTEND;TZID=UTC:20240831T170000
DTSTAMP:20260423T201621
CREATED:20240209T022811Z
LAST-MODIFIED:20240209T022908Z
UID:10000326-1725004800-1725123600@www.bsator.com
SUMMARY:18th Annual Capitol Area Trade-O-Ree - State: Texas
DESCRIPTION:Date: August 30-31\, 2024 \nAddress:\nFrank Fickett Scout Training & Service Center\n12500 N-IH 35\nAustin\, TX 78753 \nTimes:\nFriday: 12pm – 10pm\nSaturday: 9am – 2pm \nContact: Jim Sylvester\nEmail: swtsu88@aol.com\nPhone: (512) 650-5591 \n\n \nTrade-O-Ree Flyer\n\n\n    Download the PDF file .
URL:https://www.bsator.com/event/18th-annual-capitol-area-trade-o-ree-state-texas/
LOCATION:Frank Fickett Scout Training & Service Center\, 12500 N IH 35\, Austin\, TX\, 78753\, United States
ATTACH;FMTTYPE=image/jpeg:https://www.bsator.com/wp-content/uploads/2016/05/10322761_10203640636091151_1542785950943790072_n.jpg
ORGANIZER;CN="Jim Sylvester":MAILTO:Jim.Sylvester@co.travis.tx.us
GEO:30.4057864;-97.6760917
X-APPLE-STRUCTURED-LOCATION;VALUE=URI;X-ADDRESS=Frank Fickett Scout Training & Service Center 12500 N IH 35 Austin TX 78753 United States;X-APPLE-RADIUS=500;X-TITLE=12500 N IH 35:geo:-97.6760917,30.4057864
END:VEVENT
BEGIN:VEVENT
DTSTART;TZID=UTC:20230901T120000
DTEND;TZID=UTC:20230902T150000
DTSTAMP:20260423T201621
CREATED:20230513T034453Z
LAST-MODIFIED:20230513T034755Z
UID:10000486-1693569600-1693666800@www.bsator.com
SUMMARY:17th Annual Capitol Area Trade-O-Ree - State: Texas
DESCRIPTION:Date: September 1-2\, 2023 \nAddress:\nFrank Fickett Scout Training & Service Center\n12500 N-IH 35\nAustin\, TX 78753 \nTimes:\nFriday: 12pm – 9pm\nSaturday: 10am – 3pm \nContact: Jim Sylvester\nEmail: swtsu88@aol.com\nPhone: (512) 650-5591 \n\n \nTrade-O-Ree Flyer\n\n\n    Download the PDF file .
URL:https://www.bsator.com/event/17th-annual-capitol-area-trade-o-ree-state-texas/
LOCATION:Frank Fickett Scout Training & Service Center\, 12500 N IH 35\, Austin\, TX\, 78753\, United States
ATTACH;FMTTYPE=image/jpeg:https://www.bsator.com/wp-content/uploads/2016/05/10322761_10203640636091151_1542785950943790072_n.jpg
ORGANIZER;CN="Jim Sylvester":MAILTO:Jim.Sylvester@co.travis.tx.us
GEO:30.4057864;-97.6760917
X-APPLE-STRUCTURED-LOCATION;VALUE=URI;X-ADDRESS=Frank Fickett Scout Training & Service Center 12500 N IH 35 Austin TX 78753 United States;X-APPLE-RADIUS=500;X-TITLE=12500 N IH 35:geo:-97.6760917,30.4057864
END:VEVENT
BEGIN:VEVENT
DTSTART;TZID=UTC:20220902T120000
DTEND;TZID=UTC:20220903T150000
DTSTAMP:20260423T201621
CREATED:20220628T154737Z
LAST-MODIFIED:20230513T034243Z
UID:10000443-1662120000-1662217200@www.bsator.com
SUMMARY:16th Annual Capitol Area Trade-O-Ree - State: Texas
DESCRIPTION:Date: September 2-3\, 2022 \nAddress:\nFrank Fickett Scout Training & Service Center\n12500 N-IH 35\nAustin\, TX 78753 \nTimes:\nFriday: 12pm – 9pm\nSaturday: 10am – 3pm \nContact: Jim Sylvester\nEmail: swtsu88@aol.com\nPhone: (512) 650-5591 \n\n \nTrade-O-Ree Flyer\n\n\n    Download the PDF file .
URL:https://www.bsator.com/event/16th-annual-capitol-area-trade-o-ree-state-texas/
LOCATION:Frank Fickett Scout Training & Service Center\, 12500 N IH 35\, Austin\, TX\, 78753\, United States
ATTACH;FMTTYPE=image/jpeg:https://www.bsator.com/wp-content/uploads/2016/05/10322761_10203640636091151_1542785950943790072_n.jpg
ORGANIZER;CN="Jim Sylvester":MAILTO:Jim.Sylvester@co.travis.tx.us
GEO:30.4057864;-97.6760917
X-APPLE-STRUCTURED-LOCATION;VALUE=URI;X-ADDRESS=Frank Fickett Scout Training & Service Center 12500 N IH 35 Austin TX 78753 United States;X-APPLE-RADIUS=500;X-TITLE=12500 N IH 35:geo:-97.6760917,30.4057864
END:VEVENT
BEGIN:VEVENT
DTSTART;TZID=UTC:20210903T120000
DTEND;TZID=UTC:20210904T140000
DTSTAMP:20260423T201621
CREATED:20210521T031326Z
LAST-MODIFIED:20210521T031327Z
UID:10000398-1630670400-1630764000@www.bsator.com
SUMMARY:15th Annual Capitol Area Trade-O-Ree - State: Texas
DESCRIPTION:Date: September 3-4\, 2021 \nAddress:\nFrank Fickett Scout Training & Service Center\n12500 N-IH 35\nAustin\, TX 78753 \nTimes:\nFriday: 12:00pm – 10pm\nSaturday: 9am – 2pm \nContact 1: Jim Sylvester\nEmail: swtsu88@aol.com\nPhone: (512) 650-5591 \n\n    Download the PDF file .
URL:https://www.bsator.com/event/15th-annual-capitol-area-trade-o-ree-state-texas-2/
LOCATION:Frank Fickett Scout Training & Service Center\, 12500 N IH 35\, Austin\, TX\, 78753\, United States
ATTACH;FMTTYPE=image/jpeg:https://www.bsator.com/wp-content/uploads/2016/05/10322761_10203640636091151_1542785950943790072_n.jpg
ORGANIZER;CN="Jim Sylvester":MAILTO:Jim.Sylvester@co.travis.tx.us
GEO:30.4057864;-97.6760917
X-APPLE-STRUCTURED-LOCATION;VALUE=URI;X-ADDRESS=Frank Fickett Scout Training & Service Center 12500 N IH 35 Austin TX 78753 United States;X-APPLE-RADIUS=500;X-TITLE=12500 N IH 35:geo:-97.6760917,30.4057864
END:VEVENT
BEGIN:VEVENT
DTSTART;TZID=UTC:20200904T123000
DTEND;TZID=UTC:20200905T150000
DTSTAMP:20260423T201621
CREATED:20200329T082934Z
LAST-MODIFIED:20200723T170013Z
UID:10000347-1599222600-1599318000@www.bsator.com
SUMMARY:CANCELED: 15th Annual Capitol Area Trade-O-Ree - State: Texas
DESCRIPTION:THIS EVENT HAS BEEN CANCELEDDUE TO THE CORONAVIRUS\n \n \nDate: September 4-5\, 2020 \nAddress:\nFrank Fickett Scout Training & Service Center\n12500 N-IH 35\nAustin\, TX 78753 \nTimes:\nFriday: 12:30pm – 10pm\nSaturday: 8:30am – 3pm \nContact 1: Jim Sylvester\nEmail: swtsu88@aol.com\nPhone: (512) 650-5591 \n\n    Download the PDF file .
URL:https://www.bsator.com/event/15th-annual-capitol-area-trade-o-ree-state-texas/
LOCATION:Frank Fickett Scout Training & Service Center\, 12500 N IH 35\, Austin\, TX\, 78753\, United States
ATTACH;FMTTYPE=image/jpeg:https://www.bsator.com/wp-content/uploads/2016/05/10322761_10203640636091151_1542785950943790072_n.jpg
ORGANIZER;CN="Jim Sylvester":MAILTO:Jim.Sylvester@co.travis.tx.us
GEO:30.4057864;-97.6760917
X-APPLE-STRUCTURED-LOCATION;VALUE=URI;X-ADDRESS=Frank Fickett Scout Training & Service Center 12500 N IH 35 Austin TX 78753 United States;X-APPLE-RADIUS=500;X-TITLE=12500 N IH 35:geo:-97.6760917,30.4057864
END:VEVENT
BEGIN:VEVENT
DTSTART;TZID=UTC:20190830T120000
DTEND;TZID=UTC:20190831T140000
DTSTAMP:20260423T201621
CREATED:20190607T055724Z
LAST-MODIFIED:20190607T055830Z
UID:10000308-1567166400-1567260000@www.bsator.com
SUMMARY:14th Annual Capitol Area Trade-O-Ree - State: Texas
DESCRIPTION:Date: August 30-31\, 2019 \nAddress:\nFrank Fickett Scout Training & Service Center\n12500 N-IH 35\nAustin\, TX 78753 \nTimes:\nFriday: 12pm – 10pm\nSaturday: 9am – 2pm \nContact 1: Jim Sylvester\nEmail: swtsu88@aol.com\nPhone: (512) 650-5591 \n\n    Download the PDF file .
URL:https://www.bsator.com/event/14th-annual-capitol-area-trade-o-ree-state-texas/
LOCATION:Frank Fickett Scout Training & Service Center\, 12500 N IH 35\, Austin\, TX\, 78753\, United States
ATTACH;FMTTYPE=image/jpeg:https://www.bsator.com/wp-content/uploads/2016/05/10322761_10203640636091151_1542785950943790072_n.jpg
ORGANIZER;CN="Jim Sylvester":MAILTO:Jim.Sylvester@co.travis.tx.us
GEO:30.4057864;-97.6760917
X-APPLE-STRUCTURED-LOCATION;VALUE=URI;X-ADDRESS=Frank Fickett Scout Training & Service Center 12500 N IH 35 Austin TX 78753 United States;X-APPLE-RADIUS=500;X-TITLE=12500 N IH 35:geo:-97.6760917,30.4057864
END:VEVENT
BEGIN:VEVENT
DTSTART;TZID=UTC:20180831T080000
DTEND;TZID=UTC:20180901T170000
DTSTAMP:20260423T201621
CREATED:20180209T042348Z
LAST-MODIFIED:20180331T051144Z
UID:10000086-1535702400-1535821200@www.bsator.com
SUMMARY:13th Annual Capitol Area Trade-O-Ree - State: Texas
DESCRIPTION:Date: August 31 – September 1\, 2018 \nAddress:\nFrank Fickett Scout Training & Service Center\n12500 N-IH 35\nAustin\, TX \nTimes:\nFriday: 12pm – 10pm (Vendor Setup: 10am – 12pm)\nSaturday: 9am – 2pm \nContact 1: Jim Sylvester\nEmail: swtsu88@aol.com\nPhone: (512) 650-5591 \n\n    Download the PDF file .
URL:https://www.bsator.com/event/13th-annual-capitol-area-trade-o-ree-state-texas/
LOCATION:Frank Fickett Scout Training & Service Center\, 12500 N IH 35\, Austin\, TX\, 78753\, United States
ATTACH;FMTTYPE=image/jpeg:https://www.bsator.com/wp-content/uploads/2016/05/10322761_10203640636091151_1542785950943790072_n.jpg
ORGANIZER;CN="Jim Sylvester":MAILTO:Jim.Sylvester@co.travis.tx.us
GEO:30.4057864;-97.6760917
X-APPLE-STRUCTURED-LOCATION;VALUE=URI;X-ADDRESS=Frank Fickett Scout Training & Service Center 12500 N IH 35 Austin TX 78753 United States;X-APPLE-RADIUS=500;X-TITLE=12500 N IH 35:geo:-97.6760917,30.4057864
END:VEVENT
BEGIN:VEVENT
DTSTART;TZID=UTC:20170901T120000
DTEND;TZID=UTC:20170902T140000
DTSTAMP:20260423T201621
CREATED:20170127T174539Z
LAST-MODIFIED:20170524T070113Z
UID:10000147-1504267200-1504360800@www.bsator.com
SUMMARY:12th Annual Capitol Area Trade-O-Ree - State: Texas
DESCRIPTION:Date: September 1-2\, 2017 \nAddress:\nFrank Fickett Scout Training & Service Center\n12500 N-IH 35\nAustin\, TX \nTimes:\nFriday: 12pm – 10pm (Vendor Setup: 10am – 12pm)\nSaturday: 9am – 2pm \nContact 1: Jim Sylvester\nEmail: swtsu88@aol.com\nPhone: (512) 650-5591 \n\n    Download the PDF file .
URL:https://www.bsator.com/event/12th-annual-capitol-area-trade-o-ree-state-texas/
LOCATION:Frank Fickett Scout Training & Service Center\, 12500 N IH 35\, Austin\, TX\, 78753\, United States
ATTACH;FMTTYPE=image/jpeg:https://www.bsator.com/wp-content/uploads/2016/05/10322761_10203640636091151_1542785950943790072_n.jpg
ORGANIZER;CN="Jim Sylvester":MAILTO:Jim.Sylvester@co.travis.tx.us
GEO:30.4057864;-97.6760917
X-APPLE-STRUCTURED-LOCATION;VALUE=URI;X-ADDRESS=Frank Fickett Scout Training & Service Center 12500 N IH 35 Austin TX 78753 United States;X-APPLE-RADIUS=500;X-TITLE=12500 N IH 35:geo:-97.6760917,30.4057864
END:VEVENT
BEGIN:VEVENT
DTSTART;TZID=UTC:20160902T120000
DTEND;TZID=UTC:20160903T140000
DTSTAMP:20260423T201621
CREATED:20160601T093637Z
LAST-MODIFIED:20160829T210915Z
UID:10000024-1472817600-1472911200@www.bsator.com
SUMMARY:Capitol Area Trade-O-Ree - State: Texas
DESCRIPTION:Date: September 2-3\, 2016 \nAddress:\nFrank Fickett Scout Training & Service Center\n12500 N IH 35\nAustin\, TX 78753 \nTimes:\nFriday: 12pm – 10pm\nSaturday: 9am – 2pm \n(Collections Merit Badge 9am – 12pm on Saturday) \nContact 1: Jim Sylvester\nEmail: Jim.Sylvester@co.travis.tx.us\nPhone: (512) 835-1758 \nFlyer: Click Here\n\nRegister Now \n\n    Download the PDF file .
URL:https://www.bsator.com/event/capitol-area-trade-o-ree-state-texas/
LOCATION:Frank Fickett Scout Training & Service Center\, 12500 N IH 35\, Austin\, TX\, 78753\, United States
ATTACH;FMTTYPE=image/jpeg:https://www.bsator.com/wp-content/uploads/2016/06/1977152_10203917947002664_6920437290284179318_n.jpg
ORGANIZER;CN="Jim Sylvester":MAILTO:Jim.Sylvester@co.travis.tx.us
GEO:30.4057864;-97.6760917
X-APPLE-STRUCTURED-LOCATION;VALUE=URI;X-ADDRESS=Frank Fickett Scout Training & Service Center 12500 N IH 35 Austin TX 78753 United States;X-APPLE-RADIUS=500;X-TITLE=12500 N IH 35:geo:-97.6760917,30.4057864
END:VEVENT
END:VCALENDAR