BEGIN:VCALENDAR
VERSION:2.0
PRODID:-//Boy Scout Trade-O-Ree Calendar - ECPv6.15.20//NONSGML v1.0//EN
CALSCALE:GREGORIAN
METHOD:PUBLISH
X-ORIGINAL-URL:https://www.bsator.com
X-WR-CALDESC:Events for Boy Scout Trade-O-Ree Calendar
REFRESH-INTERVAL;VALUE=DURATION:PT1H
X-Robots-Tag:noindex
X-PUBLISHED-TTL:PT1H
BEGIN:VTIMEZONE
TZID:UTC
BEGIN:STANDARD
TZOFFSETFROM:+0000
TZOFFSETTO:+0000
TZNAME:UTC
DTSTART:20220101T000000
END:STANDARD
END:VTIMEZONE
BEGIN:VEVENT
DTSTART;TZID=UTC:20250822T140000
DTEND;TZID=UTC:20250823T160000
DTSTAMP:20260423T160847
CREATED:20240922T023344Z
LAST-MODIFIED:20240929T040353Z
UID:10000551-1755871200-1755964800@www.bsator.com
SUMMARY:3rd Annual Sagamore Trade-O-Ree - State: Indiana
DESCRIPTION:Date: August 22-23\, 2025 \nAddress:\nFranklin L. Cary Camp Dining Hall\n6286 State Road 26 East\nLafayette\, Indiana 47905 \nTimes:\nFriday: 2pm – 9pm (Vendor Set-up: 12pm)\nSaturday: 8am – 4pm \nContact: Stephen Bowman\nEmail: stephenwbowman@yahoo.com\nPhone: ? \n\n \nTrade-O-Ree Flyer\n\n\n    Download the PDF file .
URL:https://www.bsator.com/event/3rd-annual-sagamore-trade-o-ree-state-indiana/
LOCATION:Franklin L. Cary Camp Dining Hall\, 6286 State Road 26 East\, Lafayette\, IN\, 47905\, United States
ATTACH;FMTTYPE=image/jpeg:https://www.bsator.com/wp-content/uploads/2023/12/456693218_10227694607503152_1878003914143022246_n.jpg
ORGANIZER;CN="Stephen Bowman":MAILTO:stephenwbowman@yahoo.com
END:VEVENT
BEGIN:VEVENT
DTSTART;TZID=UTC:20240823T120000
DTEND;TZID=UTC:20240824T160000
DTSTAMP:20260423T160847
CREATED:20231231T053437Z
LAST-MODIFIED:20240929T040321Z
UID:10000522-1724414400-1724515200@www.bsator.com
SUMMARY:2nd Annual Sagamore Trade-O-Ree - State: Indiana
DESCRIPTION:Date: August 23-24\, 2024 \nAddress:\nFranklin L. Cary Camp Dining Hall\n6286 State Road 26 East\nLafayette\, Indiana 47905 \nTimes:\nFriday: 12pm – 9pm\nSaturday: 8am – 4pm \nContact: Stephen Bowman\nEmail: stephenwbowman@yahoo.com\nPhone: ? \n\n \nTrade-O-Ree Flyer\n\n\n    Download the PDF file .
URL:https://www.bsator.com/event/2nd-annual-sagamore-trade-o-ree-state-indiana/
LOCATION:Franklin L. Cary Camp Dining Hall\, 6286 State Road 26 East\, Lafayette\, IN\, 47905\, United States
ATTACH;FMTTYPE=image/jpeg:https://www.bsator.com/wp-content/uploads/2023/12/456693218_10227694607503152_1878003914143022246_n.jpg
ORGANIZER;CN="Stephen Bowman":MAILTO:stephenwbowman@yahoo.com
END:VEVENT
BEGIN:VEVENT
DTSTART;TZID=UTC:20230825T120000
DTEND;TZID=UTC:20230826T160000
DTSTAMP:20260423T160847
CREATED:20230513T032631Z
LAST-MODIFIED:20230513T033553Z
UID:10000485-1692964800-1693065600@www.bsator.com
SUMMARY:First Annual Sagamore Trade-O-Ree - State: Indiana
DESCRIPTION:Date: August 25-26\, 2023 \nAddress:\nFranklin L. Cary Camp Dining Hall\n6286 State Road 26 East\nLafayette\, Indiana 47905 \nTimes:\nFriday: 12pm – 9pm\nSaturday: 8am – 4pm \nContact: Stephen Bowman\nEmail: stephenwbowman@yahoo.com\nPhone: ? \n\n \nTrade-O-Ree Flyer\n\n\n    Download the PDF file .
URL:https://www.bsator.com/event/first-annual-sagamore-trade-o-ree-state-indiana/
LOCATION:Franklin L. Cary Camp Dining Hall\, 6286 State Road 26 East\, Lafayette\, IN\, 47905\, United States
ATTACH;FMTTYPE=image/jpeg:https://www.bsator.com/wp-content/uploads/2016/06/SWAPSHOP_zpsd7821994-4-1.jpg.opt430x360o00s430x360-4-1.jpg
ORGANIZER;CN="Stephen Bowman":MAILTO:stephenwbowman@yahoo.com
END:VEVENT
END:VCALENDAR