BEGIN:VCALENDAR
VERSION:2.0
PRODID:-//Boy Scout Trade-O-Ree Calendar - ECPv6.15.20//NONSGML v1.0//EN
CALSCALE:GREGORIAN
METHOD:PUBLISH
X-WR-CALNAME:Boy Scout Trade-O-Ree Calendar
X-ORIGINAL-URL:https://www.bsator.com
X-WR-CALDESC:Events for Boy Scout Trade-O-Ree Calendar
REFRESH-INTERVAL;VALUE=DURATION:PT1H
X-Robots-Tag:noindex
X-PUBLISHED-TTL:PT1H
BEGIN:VTIMEZONE
TZID:UTC
BEGIN:STANDARD
TZOFFSETFROM:+0000
TZOFFSETTO:+0000
TZNAME:UTC
DTSTART:20170101T000000
END:STANDARD
END:VTIMEZONE
BEGIN:VEVENT
DTSTART;TZID=UTC:20180302T170000
DTEND;TZID=UTC:20180303T140000
DTSTAMP:20260423T220330
CREATED:20180207T182703Z
LAST-MODIFIED:20180207T182703Z
UID:10000235-1520010000-1520085600@www.bsator.com
SUMMARY:5th Annual Central California Scouting Memorabilia Trade-O-Ree
DESCRIPTION:Date: March 2-3\, 2018 \nAddress:\nFresno County Deputy Sheriff’s Assoc Bldg\n1360 Van Ness Ave.\nFresno\, CA 93721 \nTimes:\nFriday: 5pm – 9pm\nSaturday: 8am – 2pm \nContact 1: Scott Holm\nEmail: holmontherange55@gmail.com\nPhone: (559) 213-9596 \nAll proceeds benefit Tah-Heetch Lodge 195\, Sequoia Council\, BSA \n\n    Download the PDF file .
URL:https://www.bsator.com/event/5th-annual-central-california-scouting-memorabilia-trade-o-ree/
LOCATION:Fresno County Deputy Sheriff’s Assoc Bldg\, 1360 Van Ness Ave.\, Fresno\, CA\, 93721\, United States
ATTACH;FMTTYPE=image/jpeg:https://www.bsator.com/wp-content/uploads/2016/05/11046188_10152898483284735_272125404854278708_o.jpg.opt880x660o00s880x660.jpg
ORGANIZER;CN="Scott Holm":MAILTO:holmontherange55@gmail.com
END:VEVENT
END:VCALENDAR