BEGIN:VCALENDAR
VERSION:2.0
PRODID:-//Boy Scout Trade-O-Ree Calendar - ECPv6.15.20//NONSGML v1.0//EN
CALSCALE:GREGORIAN
METHOD:PUBLISH
X-WR-CALNAME:Boy Scout Trade-O-Ree Calendar
X-ORIGINAL-URL:https://www.bsator.com
X-WR-CALDESC:Events for Boy Scout Trade-O-Ree Calendar
REFRESH-INTERVAL;VALUE=DURATION:PT1H
X-Robots-Tag:noindex
X-PUBLISHED-TTL:PT1H
BEGIN:VTIMEZONE
TZID:UTC
BEGIN:STANDARD
TZOFFSETFROM:+0000
TZOFFSETTO:+0000
TZNAME:UTC
DTSTART:20210101T000000
END:STANDARD
END:VTIMEZONE
BEGIN:VEVENT
DTSTART;TZID=UTC:20221021T150000
DTEND;TZID=UTC:20221022T210000
DTSTAMP:20260423T200050
CREATED:20220812T235434Z
LAST-MODIFIED:20220812T235840Z
UID:10000450-1666364400-1666472400@www.bsator.com
SUMMARY:West Michigan Trade-O-Ree
DESCRIPTION:Date: October 21-22\, 2022 \nAddress:\nGerber Scout Reservation – Centennial Lodge\n1733 Owasippe Rd.\nTwin Lake\, MI 46457 \nTimes:\nFriday: 3pm – 10pm\nSaturday: 9am – 9pm \nContact: Russ Kolski\nEmail: gerber22tor@gmail.com\nPhone: (616) 460-5210 \n\n \nTrade-O-Ree Flyer\n\n\n    Download the PDF file .
URL:https://www.bsator.com/event/west-michigan-trade-o-ree/
LOCATION:Gerber Scout Reservation\, 1733 Owasippe Rd.\, Twin Lake\, MI\, 46457\, United States
ATTACH;FMTTYPE=image/jpeg:https://www.bsator.com/wp-content/uploads/2016/06/SWAPSHOP_zpsd7821994-4-1.jpg.opt430x360o00s430x360-4-1.jpg
ORGANIZER;CN="Russ Kolski":MAILTO:gerber22tor@gmail.com
END:VEVENT
END:VCALENDAR