BEGIN:VCALENDAR
VERSION:2.0
PRODID:-//Boy Scout Trade-O-Ree Calendar - ECPv6.15.20//NONSGML v1.0//EN
CALSCALE:GREGORIAN
METHOD:PUBLISH
X-WR-CALNAME:Boy Scout Trade-O-Ree Calendar
X-ORIGINAL-URL:https://www.bsator.com
X-WR-CALDESC:Events for Boy Scout Trade-O-Ree Calendar
REFRESH-INTERVAL;VALUE=DURATION:PT1H
X-Robots-Tag:noindex
X-PUBLISHED-TTL:PT1H
BEGIN:VTIMEZONE
TZID:UTC
BEGIN:STANDARD
TZOFFSETFROM:+0000
TZOFFSETTO:+0000
TZNAME:UTC
DTSTART:20180101T000000
END:STANDARD
END:VTIMEZONE
BEGIN:VEVENT
DTSTART;TZID=UTC:20191011T080000
DTEND;TZID=UTC:20191012T170000
DTSTAMP:20260423T214111
CREATED:20181207T174009Z
LAST-MODIFIED:20190429T050948Z
UID:10000110-1570780800-1570899600@www.bsator.com
SUMMARY:2019 Michigan Girl Scout Collector's Show
DESCRIPTION:Date: October 11-12\, 2019 \nAddress:\nGirl Scouts Heart of Michigan Regional Center\n444 James L. Hart Parkway\nYpsilanti\, MI 48197 \nTimes:\nFriday: 4pm-8pm\nSaturday: 9am-3pm \nContact 1: Becky Byrns\nEmail: GSShow@aol.com\nPhone: (828) 569-2035 \n\n    Download the PDF file .
URL:https://www.bsator.com/event/2019-michigan-girl-scout-collectors-show/
LOCATION:Girl Scouts Heart of Michigan Regional Center\, 444 James L. Hart Parkway\, Ypsilanti\, MI\, 48197\, United States
ATTACH;FMTTYPE=image/jpeg:https://www.bsator.com/wp-content/uploads/2018/12/46966525_10212788155955625_3305794576354115584_o.jpg
ORGANIZER;CN="Becky Byrns":MAILTO:GSShow@aol.com
END:VEVENT
END:VCALENDAR