BEGIN:VCALENDAR
VERSION:2.0
PRODID:-//Boy Scout Trade-O-Ree Calendar - ECPv6.15.20//NONSGML v1.0//EN
CALSCALE:GREGORIAN
METHOD:PUBLISH
X-ORIGINAL-URL:https://www.bsator.com
X-WR-CALDESC:Events for Boy Scout Trade-O-Ree Calendar
REFRESH-INTERVAL;VALUE=DURATION:PT1H
X-Robots-Tag:noindex
X-PUBLISHED-TTL:PT1H
BEGIN:VTIMEZONE
TZID:UTC
BEGIN:STANDARD
TZOFFSETFROM:+0000
TZOFFSETTO:+0000
TZNAME:UTC
DTSTART:20240101T000000
END:STANDARD
END:VTIMEZONE
BEGIN:VEVENT
DTSTART;TZID=UTC:20250808T180000
DTEND;TZID=UTC:20250809T150000
DTSTAMP:20260423T191536
CREATED:20250711T020600Z
LAST-MODIFIED:20250711T023848Z
UID:10000394-1754676000-1754751600@www.bsator.com
SUMMARY:White Bird Patch Swap - Sponsored by Woa Cholena 322 - State: Alabama
DESCRIPTION:Date: August 8-9\, 2025 \nAddress:\nGovernment Street Presbyterian Church (Located in the basement – enter through the side entrance on Jackson Street)\n300 Government Street\nMobile\, AL 36602 \nTimes:\nFriday: 6pm – 10pm\nSaturday: 9am – 3pm \nContact: Charlie Simpson\nEmail: charles@simpsonemail.com\nPhone: (251) 533-3916 \nTable space is filling up fast. Reserve yours today. \n \n \nTrade-O-Ree Flyer\n\n\n    Download the PDF file .
URL:https://www.bsator.com/event/white-bird-patch-swap-sponsored-by-woa-cholena-322-state-alabama/
LOCATION:Government Street Presbyterian Church\, 300 Government Street\, Mobile\, AL\, 36602\, United States
ATTACH;FMTTYPE=image/jpeg:https://www.bsator.com/wp-content/uploads/2016/06/SWAPSHOP_zpsd7821994-4-1.jpg.opt430x360o00s430x360-4-1.jpg
ORGANIZER;CN="Charlie Simpson":MAILTO:charles@simpsonemail.com
END:VEVENT
END:VCALENDAR