BEGIN:VCALENDAR
VERSION:2.0
PRODID:-//Boy Scout Trade-O-Ree Calendar - ECPv6.15.20//NONSGML v1.0//EN
CALSCALE:GREGORIAN
METHOD:PUBLISH
X-WR-CALNAME:Boy Scout Trade-O-Ree Calendar
X-ORIGINAL-URL:https://www.bsator.com
X-WR-CALDESC:Events for Boy Scout Trade-O-Ree Calendar
REFRESH-INTERVAL;VALUE=DURATION:PT1H
X-Robots-Tag:noindex
X-PUBLISHED-TTL:PT1H
BEGIN:VTIMEZONE
TZID:UTC
BEGIN:STANDARD
TZOFFSETFROM:+0000
TZOFFSETTO:+0000
TZNAME:UTC
DTSTART:20160101T000000
END:STANDARD
END:VTIMEZONE
BEGIN:VEVENT
DTSTART;TZID=UTC:20250919T170000
DTEND;TZID=UTC:20250920T140000
DTSTAMP:20260423T174247
CREATED:20250119T062715Z
LAST-MODIFIED:20250119T150432Z
UID:10000362-1758301200-1758376800@www.bsator.com
SUMMARY:23rd Annual Grand Teton Council Trade-O-Ree - State: Idaho
DESCRIPTION:Date: September 19-20\, 2025 \nAddress:\nGrand Teton Council\n3910 S. Yellowstone Hwy\,\nIdaho Falls\, ID 83402 \nTimes:\nFriday: 5pm – 10pm\nSaturday: 9am – 2pm  \nContact 1: Clarke Farrer\nEmail: clarke.farrer@scouting.org\nPhone: (208) 522-5155 \n\n \nTrade-O-Ree Flyer\n\n\n    Download the PDF file .
URL:https://www.bsator.com/event/23rd-annual-grand-teton-council-trade-o-ree-state-idaho/
LOCATION:Grand Teton Council Headquarters\, 3910 S. Yellowstone Hwy\, Idaho Falls\, ID\, 83402\, United States
ATTACH;FMTTYPE=image/jpeg:https://www.bsator.com/wp-content/uploads/2016/06/15087-2008-vacation-001.jpg.opt430x322o00s430x322.jpg
ORGANIZER;CN="Clarke Farrer":MAILTO:clarke.farrer@scouting.org
GEO:43.4631483;-112.061182
X-APPLE-STRUCTURED-LOCATION;VALUE=URI;X-ADDRESS=Grand Teton Council Headquarters 3910 S. Yellowstone Hwy Idaho Falls ID 83402 United States;X-APPLE-RADIUS=500;X-TITLE=3910 S. Yellowstone Hwy:geo:-112.061182,43.4631483
END:VEVENT
BEGIN:VEVENT
DTSTART;TZID=UTC:20230915T180000
DTEND;TZID=UTC:20230916T140000
DTSTAMP:20260423T174247
CREATED:20230824T175215Z
LAST-MODIFIED:20230824T175509Z
UID:10000498-1694800800-1694872800@www.bsator.com
SUMMARY:21st Annual Grand Teton Council Trade-O-Ree - State: Idaho
DESCRIPTION:Date: September 15-16\, 2023 \nAddress:\nGrand Teton Council\n3910 S. Yellowstone Hwy\,\nIdaho Falls\, ID 83402 \nTimes:\nFriday: 6pm – 11pm\nSaturday: 9am – 2pm  \nContact 1: Clarke Farrer\nEmail: clarke.farrer@scouting.org\nPhone: (208) 522-5155 \n\n \nTrade-O-Ree Flyer\n\n\n    Download the PDF file .
URL:https://www.bsator.com/event/21st-annual-grand-teton-council-trade-o-ree-state-idaho/
LOCATION:Grand Teton Council Headquarters\, 3910 S. Yellowstone Hwy\, Idaho Falls\, ID\, 83402\, United States
ATTACH;FMTTYPE=image/jpeg:https://www.bsator.com/wp-content/uploads/2016/06/15087-2008-vacation-001.jpg.opt430x322o00s430x322.jpg
ORGANIZER;CN="Clarke Farrer":MAILTO:clarke.farrer@scouting.org
GEO:43.4631483;-112.061182
X-APPLE-STRUCTURED-LOCATION;VALUE=URI;X-ADDRESS=Grand Teton Council Headquarters 3910 S. Yellowstone Hwy Idaho Falls ID 83402 United States;X-APPLE-RADIUS=500;X-TITLE=3910 S. Yellowstone Hwy:geo:-112.061182,43.4631483
END:VEVENT
BEGIN:VEVENT
DTSTART;TZID=UTC:20220916T180000
DTEND;TZID=UTC:20220917T140000
DTSTAMP:20260423T174247
CREATED:20220125T163019Z
LAST-MODIFIED:20220125T164529Z
UID:10000428-1663351200-1663423200@www.bsator.com
SUMMARY:18th Annual Grand Teton Council Trade-O-Ree - State: Idaho
DESCRIPTION:Date: September 16-17\, 2022 \nAddress:\nGrand Teton Council Headquarters\n3910 S. Yellowstone Hwy\,\nIdaho Falls\, ID 83402 \nTimes:\nFriday: 6pm – 11pm\nSaturday: 9am – 2pm  \nContact 1: Clarke Farrer\nEmail: clarke.farrer@scouting.org\nPhone: (208) 522-5155 \n\n \nTrade-O-Ree Flyer\n\n\n    Download the PDF file .
URL:https://www.bsator.com/event/18th-annual-grand-teton-council-trade-o-ree-state-idaho/
LOCATION:Grand Teton Council Headquarters\, 3910 S. Yellowstone Hwy\, Idaho Falls\, ID\, 83402\, United States
ATTACH;FMTTYPE=image/jpeg:https://www.bsator.com/wp-content/uploads/2016/06/15087-2008-vacation-001.jpg.opt430x322o00s430x322.jpg
ORGANIZER;CN="Clarke Farrer":MAILTO:clarke.farrer@scouting.org
GEO:43.4631483;-112.061182
X-APPLE-STRUCTURED-LOCATION;VALUE=URI;X-ADDRESS=Grand Teton Council Headquarters 3910 S. Yellowstone Hwy Idaho Falls ID 83402 United States;X-APPLE-RADIUS=500;X-TITLE=3910 S. Yellowstone Hwy:geo:-112.061182,43.4631483
END:VEVENT
BEGIN:VEVENT
DTSTART;TZID=UTC:20190920T180000
DTEND;TZID=UTC:20190921T140000
DTSTAMP:20260423T174247
CREATED:20180928T015028Z
LAST-MODIFIED:20190203T030854Z
UID:10000104-1569002400-1569074400@www.bsator.com
SUMMARY:17th Annual Grand Teton Council Trade-O-Ree - State: Idaho
DESCRIPTION:Date: September 20-21\, 2019 \nAddress:\nGrand Teton Council Headquarters\n3910 S. Yellowstone Hwy\,\nIdaho Falls\, ID 83402 \nTimes:\nFriday: 6pm – 11pm\nSaturday: 9am – 2pm  \nContact 1: Clarke Farrer\nEmail: clarke.farrer@scouting.org\nPhone: (208) 522-5155 \n\n    Download the PDF file .
URL:https://www.bsator.com/event/17th-annual-grand-teton-council-trade-o-ree-state-idaho/
LOCATION:Grand Teton Council Headquarters\, 3910 S. Yellowstone Hwy\, Idaho Falls\, ID\, 83402\, United States
ATTACH;FMTTYPE=image/jpeg:https://www.bsator.com/wp-content/uploads/2016/06/15087-2008-vacation-001.jpg.opt430x322o00s430x322.jpg
ORGANIZER;CN="Clarke Farrer":MAILTO:clarke.farrer@scouting.org
GEO:43.4631483;-112.061182
X-APPLE-STRUCTURED-LOCATION;VALUE=URI;X-ADDRESS=Grand Teton Council Headquarters 3910 S. Yellowstone Hwy Idaho Falls ID 83402 United States;X-APPLE-RADIUS=500;X-TITLE=3910 S. Yellowstone Hwy:geo:-112.061182,43.4631483
END:VEVENT
BEGIN:VEVENT
DTSTART;TZID=UTC:20180914T180000
DTEND;TZID=UTC:20180915T140000
DTSTAMP:20260423T174247
CREATED:20171222T024222Z
LAST-MODIFIED:20180824T065955Z
UID:10000215-1536948000-1537020000@www.bsator.com
SUMMARY:16th Annual Grand Teton Council Trade-O-Ree - State: Idaho
DESCRIPTION:Date: September 14-15\, 2018 \nAddress:\nGrand Teton Council Headquarters\n3910 S. Yellowstone Hwy\,\nIdaho Falls\, Idaho \nTimes:\nFriday: 6pm – 11pm\nSaturday: 9am – 2pm  \nContact 1: Michael Vangelov\nEmail: michael.vangelov@scouting.org\nPhone: (208) 522-5155 \nContact 2: Heather Branson\nEmail: heather.branson@scouting.org\nPhone: ? \n\n    Download the PDF file .
URL:https://www.bsator.com/event/16th-annual-grand-teton-council-trade-o-ree-state-idaho/
LOCATION:Grand Teton Council Headquarters\, 3910 S. Yellowstone Hwy\, Idaho Falls\, ID\, 83402\, United States
ATTACH;FMTTYPE=image/jpeg:https://www.bsator.com/wp-content/uploads/2016/06/15087-2008-vacation-001.jpg.opt430x322o00s430x322.jpg
ORGANIZER;CN="Michael Vangelov":MAILTO:michael.vangelov@scouting.org
GEO:43.4631483;-112.061182
X-APPLE-STRUCTURED-LOCATION;VALUE=URI;X-ADDRESS=Grand Teton Council Headquarters 3910 S. Yellowstone Hwy Idaho Falls ID 83402 United States;X-APPLE-RADIUS=500;X-TITLE=3910 S. Yellowstone Hwy:geo:-112.061182,43.4631483
END:VEVENT
BEGIN:VEVENT
DTSTART;TZID=UTC:20170915T180000
DTEND;TZID=UTC:20170916T140000
DTSTAMP:20260423T174247
CREATED:20161007T044946Z
LAST-MODIFIED:20180331T051343Z
UID:10000092-1505498400-1505570400@www.bsator.com
SUMMARY:15th Annual Grand Teton Council Trade-O-Ree - State: Idaho
DESCRIPTION:Date: September 15-16\, 2017 \nAddress:\nGrand Teton Council Headquarters\n3910 S. Yellowstone Hwy\,\nIdaho Falls\, Idaho \nTimes:\nFriday: 6pm – 11pm\nSaturday: 9am – 2pm \nContact 1: Michael Vangelov\nEmail: michael.vangelov@scouting.org\nPhone: (208) 522-5155 \nFlyer: Click Here \n\n    Download the PDF file .
URL:https://www.bsator.com/event/15th-annual-grand-teton-council-trade-o-ree-state-idaho/
LOCATION:Grand Teton Council Headquarters\, 3910 S. Yellowstone Hwy\, Idaho Falls\, ID\, 83402\, United States
ATTACH;FMTTYPE=image/jpeg:https://www.bsator.com/wp-content/uploads/2016/06/SWAPSHOP_zpsd7821994-4-1.jpg.opt430x360o00s430x360-4-1.jpg
ORGANIZER;CN="Michael Vangelov":MAILTO:michael.vangelov@scouting.org
GEO:43.4631483;-112.061182
X-APPLE-STRUCTURED-LOCATION;VALUE=URI;X-ADDRESS=Grand Teton Council Headquarters 3910 S. Yellowstone Hwy Idaho Falls ID 83402 United States;X-APPLE-RADIUS=500;X-TITLE=3910 S. Yellowstone Hwy:geo:-112.061182,43.4631483
END:VEVENT
END:VCALENDAR