BEGIN:VCALENDAR
VERSION:2.0
PRODID:-//Boy Scout Trade-O-Ree Calendar - ECPv6.15.20//NONSGML v1.0//EN
CALSCALE:GREGORIAN
METHOD:PUBLISH
X-ORIGINAL-URL:https://www.bsator.com
X-WR-CALDESC:Events for Boy Scout Trade-O-Ree Calendar
REFRESH-INTERVAL;VALUE=DURATION:PT1H
X-Robots-Tag:noindex
X-PUBLISHED-TTL:PT1H
BEGIN:VTIMEZONE
TZID:UTC
BEGIN:STANDARD
TZOFFSETFROM:+0000
TZOFFSETTO:+0000
TZNAME:UTC
DTSTART:20230101T000000
END:STANDARD
END:VTIMEZONE
BEGIN:VEVENT
DTSTART;TZID=UTC:20240727T090000
DTEND;TZID=UTC:20240729T180000
DTSTAMP:20260423T184843
CREATED:20231018T175858Z
LAST-MODIFIED:20240210T013238Z
UID:10000502-1722070800-1722276000@www.bsator.com
SUMMARY:2024 National OA Conference NOAC Trade-O-Ree - State: Colorado
DESCRIPTION:View Pictures From the 2015 NOAC TOR\n\n\n\n\n \n\n\n\n\nDate: July 27-29\, 2024 \nAddress:\nGreater Colorado Council Scout Office\nDonald E. Scott Colorado Adventure Point\n10455 W. 6th Avenue\nDenver\, CO 80215\nPhone 720-266-2143 \nTOR Table Fees:\n60” x 24” Table $75\n84” x 24” Table $100\n96” x 30” Table $125 \nDistance from Denver International Airport:  32 miles / 32 minutes\nDistance from Boulder\, Colorado NOAC:  28 miles / 34 minutes \nTimes:\nSaturday: 9am-11pm\nSunday: 9am-11pm\nMonday: 9am-6pm \nContact: Chris Jensen\nEmail: cjensen@streamwood.net\nPhone: (864) 859-2915\n\n2024 Pre-NOAC Trade-O-Ree\n\n\n\n\n\n \n\n \n\n\n\n\n \nTable Reservations and Availability\n\n\n\n\n\n \nPre-NOAC Trade-O-Ree Flyer\n\n\n    Download the PDF file . \n\n\n \nNOAC Trade-O-Ree Table Layout\n\nComing Soon\n\n \nNOAC Trade-O-Ree Table Assignments\n\nComing Soon\n \n\n\n \nGet Your Patch Trading Blanket Today\n\n\n    Download the PDF file . \n \n\n\n\n\n\n\n\n\n\n \n \nClick Here To Order
URL:https://www.bsator.com/event/2024-national-oa-conference-noac-trade-o-ree-state-colorado/
LOCATION:Greater Colorado Council Scout Office\, 10455 W. 6th Avenue\, Denver\, CO\, 80215\, United States
ATTACH;FMTTYPE=image/png:https://www.bsator.com/wp-content/uploads/2023/10/Screen-Shot-2023-10-18-at-1.46.14-PM.png
ORGANIZER;CN="Chris Jensen":MAILTO:cjensen@streamwood.net
END:VEVENT
END:VCALENDAR