BEGIN:VCALENDAR
VERSION:2.0
PRODID:-//Boy Scout Trade-O-Ree Calendar - ECPv6.15.20//NONSGML v1.0//EN
CALSCALE:GREGORIAN
METHOD:PUBLISH
X-ORIGINAL-URL:https://www.bsator.com
X-WR-CALDESC:Events for Boy Scout Trade-O-Ree Calendar
REFRESH-INTERVAL;VALUE=DURATION:PT1H
X-Robots-Tag:noindex
X-PUBLISHED-TTL:PT1H
BEGIN:VTIMEZONE
TZID:UTC
BEGIN:STANDARD
TZOFFSETFROM:+0000
TZOFFSETTO:+0000
TZNAME:UTC
DTSTART:20160101T000000
END:STANDARD
END:VTIMEZONE
BEGIN:VEVENT
DTSTART;TZID=UTC:20260417T160000
DTEND;TZID=UTC:20260418T150000
DTSTAMP:20260423T174247
CREATED:20260125T194406Z
LAST-MODIFIED:20260128T025101Z
UID:10000619-1776441600-1776524400@www.bsator.com
SUMMARY:14th Annual Girl Scouts of Eastern Pennsylvania Collectors Meet
DESCRIPTION:Date: April 17-18\, 2026 \nAddress:\nGSEP Regional Office (Valley Forge)\n100 Juliette Low Way\nValley Forge\, PA 19482 \nTimes:\nFriday: 4pm – 8pm\nSaturday: 9am – 3pm \nContact: Marg Mason\nEmail: masonscout@aol.com\nPhone: ? \n\n \nTrade-O-Ree Flyer\n\n\n    Download the PDF file .
URL:https://www.bsator.com/event/14th-annual-girl-scouts-of-eastern-pennsylvania-collectors-meet/
LOCATION:GSEP Regional Office (Valley Forge)\, 100 Juliette Low Way\, Valley Forge\, PA\, 19482\, United States
ATTACH;FMTTYPE=image/jpeg:https://www.bsator.com/wp-content/uploads/2019/01/50487785_10218466836404156_8871632443153580032_o.jpg
ORGANIZER;CN="Marg Mason":MAILTO:masonscout@aol.com
GEO:40.108239;-75.4783499
X-APPLE-STRUCTURED-LOCATION;VALUE=URI;X-ADDRESS=GSEP Regional Office (Valley Forge) 100 Juliette Low Way Valley Forge PA 19482 United States;X-APPLE-RADIUS=500;X-TITLE=100 Juliette Low Way:geo:-75.4783499,40.108239
END:VEVENT
BEGIN:VEVENT
DTSTART;TZID=UTC:20240426T160000
DTEND;TZID=UTC:20240427T150000
DTSTAMP:20260423T174248
CREATED:20240301T062108Z
LAST-MODIFIED:20240301T062358Z
UID:10000335-1714147200-1714230000@www.bsator.com
SUMMARY:13th Annual Girl Scouts of Eastern Pennsylvania Collectors Meet
DESCRIPTION:Date: April 26-27\, 2024 \nAddress:\nGSEP Regional Office (Valley Forge)\n1501 Valley Forge Rd.\nPhoenixville\, PA 19460 \nTimes:\nFriday: 4pm – 8pm\nSaturday: 9am – 3pm \nContact: Marg Mason\nEmail: masonscout@aol.com\nPhone: ? \n\n \nTrade-O-Ree Flyer\n\n\n    Download the PDF file .
URL:https://www.bsator.com/event/13th-annual-girl-scouts-of-eastern-pennsylvania-collectors-meet/
LOCATION:GSEP Regional Office (Valley Forge)\, 100 Juliette Low Way\, Valley Forge\, PA\, 19482\, United States
ATTACH;FMTTYPE=image/jpeg:https://www.bsator.com/wp-content/uploads/2019/01/50487785_10218466836404156_8871632443153580032_o.jpg
ORGANIZER;CN="Marg Mason":MAILTO:masonscout@aol.com
GEO:40.108239;-75.4783499
X-APPLE-STRUCTURED-LOCATION;VALUE=URI;X-ADDRESS=GSEP Regional Office (Valley Forge) 100 Juliette Low Way Valley Forge PA 19482 United States;X-APPLE-RADIUS=500;X-TITLE=100 Juliette Low Way:geo:-75.4783499,40.108239
END:VEVENT
BEGIN:VEVENT
DTSTART;TZID=UTC:20220422T160000
DTEND;TZID=UTC:20220423T150000
DTSTAMP:20260423T174248
CREATED:20211210T033440Z
LAST-MODIFIED:20220125T164505Z
UID:10000415-1650643200-1650726000@www.bsator.com
SUMMARY:11th Annual Girl Scouts of Eastern Pennsylvania Collectors Meet
DESCRIPTION:Date: April 22-23\, 2022 \nAddress:\nGSEP Regional Office (Valley Forge)\n1501 Valley Forge Rd.\nPhoenixville\, PA 19460 \nTimes:\nFriday: 4pm – 8pm\nSaturday: 9am – 3pm \nContact: Marg Mason\nEmail: masonscout@aol.com\nPhone: ? \n\n \nTrade-O-Ree Flyer\n\n\n    Download the PDF file .
URL:https://www.bsator.com/event/11th-annual-girl-scouts-of-eastern-pennsylvania-collectors-meet-2/
LOCATION:GSEP Regional Office (Valley Forge)\, 100 Juliette Low Way\, Valley Forge\, PA\, 19482\, United States
ATTACH;FMTTYPE=image/jpeg:https://www.bsator.com/wp-content/uploads/2019/01/50487785_10218466836404156_8871632443153580032_o.jpg
ORGANIZER;CN="Marg Mason":MAILTO:masonscout@aol.com
GEO:40.108239;-75.4783499
X-APPLE-STRUCTURED-LOCATION;VALUE=URI;X-ADDRESS=GSEP Regional Office (Valley Forge) 100 Juliette Low Way Valley Forge PA 19482 United States;X-APPLE-RADIUS=500;X-TITLE=100 Juliette Low Way:geo:-75.4783499,40.108239
END:VEVENT
BEGIN:VEVENT
DTSTART;TZID=UTC:20200424T160000
DTEND;TZID=UTC:20200425T150000
DTSTAMP:20260423T174248
CREATED:20200227T174358Z
LAST-MODIFIED:20200318T163519Z
UID:10000173-1587744000-1587826800@www.bsator.com
SUMMARY:CANCELED: 11th Annual Girl Scouts of Eastern Pennsylvania Collectors Meet
DESCRIPTION:THIS EVENT HAS BEEN CANCELEDDUE TO THE CORONAVIRUS\n \n \nDate: April 24-25\, 2020 \nAddress:\nGSEP Regional Office (Valley Forge)\n1501 Valley Forge Rd.\nPhoenixville\, PA 19460 \nTimes:\nFriday: 4pm – 8pm\nSaturday: 9am – 3pm \nContact 1: Marg Mason\nEmail: masonscout@aol.com\nPhone: ?\nFacebook: Profile Page \n\n    Download the PDF file .
URL:https://www.bsator.com/event/11th-annual-girl-scouts-of-eastern-pennsylvania-collectors-meet/
LOCATION:GSEP Regional Office (Valley Forge)\, 100 Juliette Low Way\, Valley Forge\, PA\, 19482\, United States
ATTACH;FMTTYPE=image/jpeg:https://www.bsator.com/wp-content/uploads/2019/01/50487785_10218466836404156_8871632443153580032_o.jpg
ORGANIZER;CN="Marg Mason":MAILTO:masonscout@aol.com
GEO:40.108239;-75.4783499
X-APPLE-STRUCTURED-LOCATION;VALUE=URI;X-ADDRESS=GSEP Regional Office (Valley Forge) 100 Juliette Low Way Valley Forge PA 19482 United States;X-APPLE-RADIUS=500;X-TITLE=100 Juliette Low Way:geo:-75.4783499,40.108239
END:VEVENT
BEGIN:VEVENT
DTSTART;TZID=UTC:20190426T160000
DTEND;TZID=UTC:20190427T150000
DTSTAMP:20260423T174248
CREATED:20190125T072610Z
LAST-MODIFIED:20190125T072812Z
UID:10000286-1556294400-1556377200@www.bsator.com
SUMMARY:10th Annual Girl Scouts of Eastern Pennsylvania Collectors Meet
DESCRIPTION:Date: April 26-27\, 2019 \nAddress:\nGSEP Regional Office (Valley Forge)\n1501 Valley Forge Rd.\nPhoenixville\, PA 19460 \nTimes:\nFriday: 4pm – 8pm\nSaturday: 9am – 3pm \nContact 1: Marg Mason\nEmail: masonscout@aol.com\nPhone: ?\nFacebook: Profile Page \n\n    Download the PDF file .
URL:https://www.bsator.com/event/10th-annual-girl-scouts-of-eastern-pennsylvania-collectors-meet/
LOCATION:GSEP Regional Office (Valley Forge)\, 100 Juliette Low Way\, Valley Forge\, PA\, 19482\, United States
ATTACH;FMTTYPE=image/jpeg:https://www.bsator.com/wp-content/uploads/2019/01/50487785_10218466836404156_8871632443153580032_o.jpg
ORGANIZER;CN="Marg Mason":MAILTO:masonscout@aol.com
GEO:40.108239;-75.4783499
X-APPLE-STRUCTURED-LOCATION;VALUE=URI;X-ADDRESS=GSEP Regional Office (Valley Forge) 100 Juliette Low Way Valley Forge PA 19482 United States;X-APPLE-RADIUS=500;X-TITLE=100 Juliette Low Way:geo:-75.4783499,40.108239
END:VEVENT
BEGIN:VEVENT
DTSTART;TZID=UTC:20180427T160000
DTEND;TZID=UTC:20180428T150000
DTSTAMP:20260423T174248
CREATED:20180113T053339Z
LAST-MODIFIED:20180113T053626Z
UID:10000224-1524844800-1524927600@www.bsator.com
SUMMARY:9th Annual Girl Scouts of Eastern Pennsylvania Collectors Meet
DESCRIPTION:Date: April 27-28\, 2018 \nAddress:\nGSEP Regional Office (Valley Forge)\n1501 Valley Forge Rd.\nPhoenixville\, PA 19460 \nTimes:\nFriday: 4pm – 8pm\nSaturday: 9am – 3pm \nContact 1: Marg Mason\nEmail: masonscout@aol.com\nPhone: ? \n\n    Download the PDF file .
URL:https://www.bsator.com/event/9th-annual-girl-scouts-of-eastern-pennsylvania-collectors-meet/
LOCATION:GSEP Regional Office (Valley Forge)\, 100 Juliette Low Way\, Valley Forge\, PA\, 19482\, United States
ATTACH;FMTTYPE=image/jpeg:https://www.bsator.com/wp-content/uploads/2016/06/16795211621_58cd4b063b_o.jpg.opt430x322o00s430x322.jpg
ORGANIZER;CN="Marg Mason":MAILTO:masonscout@aol.com
GEO:40.108239;-75.4783499
X-APPLE-STRUCTURED-LOCATION;VALUE=URI;X-ADDRESS=GSEP Regional Office (Valley Forge) 100 Juliette Low Way Valley Forge PA 19482 United States;X-APPLE-RADIUS=500;X-TITLE=100 Juliette Low Way:geo:-75.4783499,40.108239
END:VEVENT
BEGIN:VEVENT
DTSTART;TZID=UTC:20170428T160000
DTEND;TZID=UTC:20170429T150000
DTSTAMP:20260423T174248
CREATED:20170207T170751Z
LAST-MODIFIED:20170207T174042Z
UID:10000164-1493395200-1493478000@www.bsator.com
SUMMARY:8th Annual Girl Scouts of Eastern Pennsylvania Collectors Meet
DESCRIPTION:Date: April 28-29\, 2017 \nAddress:\nGSEP Regional Office (Valley Forge)\n1501 Valley Forge Rd.\nPhoenixville\, PA 19460 \nTimes:\nFriday: 4pm – 8pm\nSaturday: 9am – 3pm \nContact 1: Marg Mason\nEmail: masonscout@aol.com\nPhone: ? \n\n    Download the PDF file .
URL:https://www.bsator.com/event/8th-annual-girl-scouts-of-eastern-pennsylvania-collectors-meet/
LOCATION:GSEP Regional Office (Valley Forge)\, 100 Juliette Low Way\, Valley Forge\, PA\, 19482\, United States
ATTACH;FMTTYPE=image/jpeg:https://www.bsator.com/wp-content/uploads/2016/06/16795211621_58cd4b063b_o.jpg.opt430x322o00s430x322.jpg
ORGANIZER;CN="Marg Mason":MAILTO:masonscout@aol.com
GEO:40.108239;-75.4783499
X-APPLE-STRUCTURED-LOCATION;VALUE=URI;X-ADDRESS=GSEP Regional Office (Valley Forge) 100 Juliette Low Way Valley Forge PA 19482 United States;X-APPLE-RADIUS=500;X-TITLE=100 Juliette Low Way:geo:-75.4783499,40.108239
END:VEVENT
END:VCALENDAR