BEGIN:VCALENDAR
VERSION:2.0
PRODID:-//Boy Scout Trade-O-Ree Calendar - ECPv6.15.20//NONSGML v1.0//EN
CALSCALE:GREGORIAN
METHOD:PUBLISH
X-ORIGINAL-URL:https://www.bsator.com
X-WR-CALDESC:Events for Boy Scout Trade-O-Ree Calendar
REFRESH-INTERVAL;VALUE=DURATION:PT1H
X-Robots-Tag:noindex
X-PUBLISHED-TTL:PT1H
BEGIN:VTIMEZONE
TZID:UTC
BEGIN:STANDARD
TZOFFSETFROM:+0000
TZOFFSETTO:+0000
TZNAME:UTC
DTSTART:20170101T000000
END:STANDARD
END:VTIMEZONE
BEGIN:VEVENT
DTSTART;TZID=UTC:20180303T090000
DTEND;TZID=UTC:20180303T150000
DTSTAMP:20260423T214104
CREATED:20180111T175621Z
LAST-MODIFIED:20180111T175648Z
UID:10000221-1520067600-1520089200@www.bsator.com
SUMMARY:Hancock Trade-O-Ree - State: Maryland
DESCRIPTION:Date: March 3\, 2018 \nAddress:\nHancock Community Center\n126 W High St.\nHancock\, MD 21750 \nTimes:\nSaturday: 9am – 3pm \nContact 1: Jesse Walls\nEmail: jesse5point@gmail.com\nPhone: ? \n\n    Download the PDF file .
URL:https://www.bsator.com/event/hancock-trade-o-ree-state-maryland/
LOCATION:Hancock Community Center\, 126 W High St.\, Hancock\, MD\, 21750\, United States
ORGANIZER;CN="Jesse Walls":MAILTO:jesse5point@gmail.com
END:VEVENT
END:VCALENDAR