BEGIN:VCALENDAR
VERSION:2.0
PRODID:-//Boy Scout Trade-O-Ree Calendar - ECPv6.15.20//NONSGML v1.0//EN
CALSCALE:GREGORIAN
METHOD:PUBLISH
X-ORIGINAL-URL:https://www.bsator.com
X-WR-CALDESC:Events for Boy Scout Trade-O-Ree Calendar
REFRESH-INTERVAL;VALUE=DURATION:PT1H
X-Robots-Tag:noindex
X-PUBLISHED-TTL:PT1H
BEGIN:VTIMEZONE
TZID:UTC
BEGIN:STANDARD
TZOFFSETFROM:+0000
TZOFFSETTO:+0000
TZNAME:UTC
DTSTART:20160101T000000
END:STANDARD
END:VTIMEZONE
BEGIN:VEVENT
DTSTART;TZID=UTC:20190426T170000
DTEND;TZID=UTC:20190427T140000
DTSTAMP:20260423T220447
CREATED:20190124T215015Z
LAST-MODIFIED:20190124T215938Z
UID:10000282-1556298000-1556373600@www.bsator.com
SUMMARY:2019 Greater Kansas City Area Trade-O-Ree
DESCRIPTION:Date: April 26-27\, 2019 \nAddress:\nHillside Christian Church (Gymnasium)\n900 NE Vivion Road\nKansas City\, MO 64118 \nTimes:\nFriday: 5pm – 10pm\nSaturday: 9am – 2pm \nContact 1: Randy Meador\nEmail: remeador@ymail.com\nPhone: (816) 455-1983 \n\n    Download the PDF file .
URL:https://www.bsator.com/event/2019-greater-kansas-city-area-trade-o-ree/
LOCATION:Hillside Christian Church (Gymnasium)\, 900 NE Vivion Road\, Kansas City\, MO\, 64118\, United States
ATTACH;FMTTYPE=image/jpeg:https://www.bsator.com/wp-content/uploads/2016/05/13062458_10153703799762983_3866689486448060944_n.jpg.opt415x311o00s415x311.jpg
ORGANIZER;CN="Randy Meador":MAILTO:remeador@ymail.com
GEO:39.1818005;-94.5687629
X-APPLE-STRUCTURED-LOCATION;VALUE=URI;X-ADDRESS=Hillside Christian Church (Gymnasium) 900 NE Vivion Road Kansas City MO 64118 United States;X-APPLE-RADIUS=500;X-TITLE=900 NE Vivion Road:geo:-94.5687629,39.1818005
END:VEVENT
BEGIN:VEVENT
DTSTART;TZID=UTC:20180427T170000
DTEND;TZID=UTC:20180428T140000
DTSTAMP:20260423T220447
CREATED:20180105T064256Z
LAST-MODIFIED:20180109T134043Z
UID:10000220-1524848400-1524924000@www.bsator.com
SUMMARY:2018 Greater Kansas City Area Trade-O-Ree
DESCRIPTION:Date: April 27-28\, 2018 \nAddress:\nHillside Christian Church (Gymnasium)\n900 NE Vivion Road\nKansas City\, MO 64118 \nTimes:\nFriday: 5pm – 10pm\nSaturday: 9am – 2pm \nContact 1: Ryan Meador\nEmail: meadorre@yahoo.com\nPhone: (816) 734-1032 \n\n    Download the PDF file .
URL:https://www.bsator.com/event/2018-greater-kansas-city-area-trade-o-ree/
LOCATION:Hillside Christian Church (Gymnasium)\, 900 NE Vivion Road\, Kansas City\, MO\, 64118\, United States
ATTACH;FMTTYPE=image/jpeg:https://www.bsator.com/wp-content/uploads/2016/05/13062458_10153703799762983_3866689486448060944_n.jpg.opt415x311o00s415x311.jpg
ORGANIZER;CN="Ryan Meador":MAILTO:meadorre@yahoo.com
GEO:39.1818005;-94.5687629
X-APPLE-STRUCTURED-LOCATION;VALUE=URI;X-ADDRESS=Hillside Christian Church (Gymnasium) 900 NE Vivion Road Kansas City MO 64118 United States;X-APPLE-RADIUS=500;X-TITLE=900 NE Vivion Road:geo:-94.5687629,39.1818005
END:VEVENT
BEGIN:VEVENT
DTSTART;TZID=UTC:20170428T170000
DTEND;TZID=UTC:20170429T140000
DTSTAMP:20260423T220447
CREATED:20170206T041324Z
LAST-MODIFIED:20170206T042814Z
UID:10000151-1493398800-1493474400@www.bsator.com
SUMMARY:Greater Kansas City Area Trade-O-Ree
DESCRIPTION:Date: April 28-29\, 2017 \nAddress:\nHillside Christian Church (Gymnasium)\n900 NE Vivion Road\nKansas City\, MO 64118 \nTimes:\nFriday: 5pm – 10pm\nSaturday: 9am – 2pm \nContact 1: Ryan Meador\nEmail: meadorre@yahoo.com\nPhone: (816) 734-1032 \n\n    Download the PDF file .
URL:https://www.bsator.com/event/greater-kansas-city-area-trade-o-ree/
LOCATION:Hillside Christian Church (Gymnasium)\, 900 NE Vivion Road\, Kansas City\, MO\, 64118\, United States
ATTACH;FMTTYPE=image/jpeg:https://www.bsator.com/wp-content/uploads/2016/05/13062458_10153703799762983_3866689486448060944_n.jpg.opt415x311o00s415x311.jpg
ORGANIZER;CN="Ryan Meador":MAILTO:meadorre@yahoo.com
GEO:39.1818005;-94.5687629
X-APPLE-STRUCTURED-LOCATION;VALUE=URI;X-ADDRESS=Hillside Christian Church (Gymnasium) 900 NE Vivion Road Kansas City MO 64118 United States;X-APPLE-RADIUS=500;X-TITLE=900 NE Vivion Road:geo:-94.5687629,39.1818005
END:VEVENT
END:VCALENDAR