BEGIN:VCALENDAR
VERSION:2.0
PRODID:-//Boy Scout Trade-O-Ree Calendar - ECPv6.15.20//NONSGML v1.0//EN
CALSCALE:GREGORIAN
METHOD:PUBLISH
X-WR-CALNAME:Boy Scout Trade-O-Ree Calendar
X-ORIGINAL-URL:https://www.bsator.com
X-WR-CALDESC:Events for Boy Scout Trade-O-Ree Calendar
REFRESH-INTERVAL;VALUE=DURATION:PT1H
X-Robots-Tag:noindex
X-PUBLISHED-TTL:PT1H
BEGIN:VTIMEZONE
TZID:UTC
BEGIN:STANDARD
TZOFFSETFROM:+0000
TZOFFSETTO:+0000
TZNAME:UTC
DTSTART:20250101T000000
END:STANDARD
END:VTIMEZONE
BEGIN:VEVENT
DTSTART;TZID=UTC:20260529T160000
DTEND;TZID=UTC:20260530T150000
DTSTAMP:20260423T144254
CREATED:20260205T054059Z
LAST-MODIFIED:20260205T054059Z
UID:10000623-1780070400-1780153200@www.bsator.com
SUMMARY:48th Annual California Inland Empire Council Trade-O-Ree
DESCRIPTION:Date: May 29-30\, 2026 \nAddress:\nImmanuel Lutheran Church & School\n5455 Alessandro Blvd.\nRiverside\, CA 92506-3537 \nTimes:\nFriday: 4pm – 9pm\nSaturday: 9am – 3pm \nContact: Matt Brandt\nEmail: mkb969@verizon.net\nPhone: (951) 992-9438 \n\n    Download the PDF file .
URL:https://www.bsator.com/event/48th-annual-california-inland-empire-council-trade-o-ree/
LOCATION:Immanuel Lutheran Church & School\, 5455 Alessandro Blvd.\, Riverside\, CA\, 92506-3537\, United States
ATTACH;FMTTYPE=image/jpeg:https://www.bsator.com/wp-content/uploads/2016/06/1890417_10202588828390422_5847759151497661390_o.jpg.opt430x286o00s430x286.jpg
ORGANIZER;CN="Matt Brandt":MAILTO:mkb969@verizon.net
END:VEVENT
END:VCALENDAR