BEGIN:VCALENDAR
VERSION:2.0
PRODID:-//Boy Scout Trade-O-Ree Calendar - ECPv6.15.20//NONSGML v1.0//EN
CALSCALE:GREGORIAN
METHOD:PUBLISH
X-ORIGINAL-URL:https://www.bsator.com
X-WR-CALDESC:Events for Boy Scout Trade-O-Ree Calendar
REFRESH-INTERVAL;VALUE=DURATION:PT1H
X-Robots-Tag:noindex
X-PUBLISHED-TTL:PT1H
BEGIN:VTIMEZONE
TZID:UTC
BEGIN:STANDARD
TZOFFSETFROM:+0000
TZOFFSETTO:+0000
TZNAME:UTC
DTSTART:20160101T000000
END:STANDARD
END:VTIMEZONE
BEGIN:VEVENT
DTSTART;TZID=UTC:20190222T160000
DTEND;TZID=UTC:20190223T150000
DTSTAMP:20260423T211359
CREATED:20180921T053334Z
LAST-MODIFIED:20180923T042405Z
UID:10000102-1550851200-1550934000@www.bsator.com
SUMMARY:2019 Norfolk Trade-O-Ree - State: Virginia
DESCRIPTION:Date: February 22-23\, 2019 \nAddress:\nINTERSTATE BINGO HALL\n5957 East Virginia Beach Blvd.\nNorfolk\, VA 23502 \nTimes:\nFriday: 4pm – 11pm\nSaturday: 8am – 3pm \nContact 1: John Ortt\nEmail: jortt@cox.net\nPhone: (757) 496-9540 \nContact 2: Mike Scott\nEmail: kd4nfx@juno.com\nPhone: (757) 420-2039 \n\n    Download the PDF file .
URL:https://www.bsator.com/event/2019-norfolk-trade-o-ree-state-virginia/
LOCATION:INTERSTATE BINGO HALL\, 5957 East Virginia Beach Blvd.\, Norfolk\, VA\, 23502\, United States
ATTACH;FMTTYPE=image/jpeg:https://www.bsator.com/wp-content/uploads/2016/05/1656189_675520605833585_831015690_n.jpg
ORGANIZER;CN="John Ortt":MAILTO:jortt@cox.net
GEO:36.853542;-76.2009164
X-APPLE-STRUCTURED-LOCATION;VALUE=URI;X-ADDRESS=INTERSTATE BINGO HALL 5957 East Virginia Beach Blvd. Norfolk VA 23502 United States;X-APPLE-RADIUS=500;X-TITLE=5957 East Virginia Beach Blvd.:geo:-76.2009164,36.853542
END:VEVENT
BEGIN:VEVENT
DTSTART;TZID=UTC:20180223T160000
DTEND;TZID=UTC:20180224T150000
DTSTAMP:20260423T211359
CREATED:20171024T043600Z
LAST-MODIFIED:20171027T055700Z
UID:10000192-1519401600-1519484400@www.bsator.com
SUMMARY:2018 Norfolk Trade-O-Ree - State: Virginia
DESCRIPTION:Date: February 23-24\, 2018 \nAddress:\nINTERSTATE BINGO HALL\n5957 East Virginia Beach Blvd.\nNorfolk\, VA 23502 \nTimes:\nFriday: 4pm – 11pm\nSaturday: 8am – 3pm \nContact 1: John Ortt\nEmail: jortt@cox.net\nPhone: (757) 496-9540 \nContact 2: Mike Scott\nEmail: kd4nfx@juno.com\nPhone: (757) 420-2039 \n\n    Download the PDF file .
URL:https://www.bsator.com/event/2018-norfolk-trade-o-ree-state-virginia/
LOCATION:INTERSTATE BINGO HALL\, 5957 East Virginia Beach Blvd.\, Norfolk\, VA\, 23502\, United States
ATTACH;FMTTYPE=image/jpeg:https://www.bsator.com/wp-content/uploads/2016/05/1656189_675520605833585_831015690_n.jpg
ORGANIZER;CN="John Ortt":MAILTO:jortt@cox.net
GEO:36.853542;-76.2009164
X-APPLE-STRUCTURED-LOCATION;VALUE=URI;X-ADDRESS=INTERSTATE BINGO HALL 5957 East Virginia Beach Blvd. Norfolk VA 23502 United States;X-APPLE-RADIUS=500;X-TITLE=5957 East Virginia Beach Blvd.:geo:-76.2009164,36.853542
END:VEVENT
BEGIN:VEVENT
DTSTART;TZID=UTC:20170224T160000
DTEND;TZID=UTC:20170225T150000
DTSTAMP:20260423T211359
CREATED:20160927T183658Z
LAST-MODIFIED:20161201T201645Z
UID:10000087-1487952000-1488034800@www.bsator.com
SUMMARY:Norfolk / Virginia Beach Trade-O-Ree - State: Virginia
DESCRIPTION:Date: February 24-25\, 2017 \nAddress:\nINTERSTATE BINGO HALL\n5957 East Virginia Beach Blvd.\nNorfolk\, VA 23502 \nTimes:\nFriday: 4pm – 11pm\nSaturday: 8am – 3pm \nContact 1: John Ortt\nEmail: jortt@cox.net\nPhone: (757) 496-9540 \nContact 2: Mike Scott\nEmail: kd4nfx@juno.com\nPhone: (757) 420-2039 \nFlyer: Click Here \n\n    Download the PDF file .
URL:https://www.bsator.com/event/norfolk-virginia-beach-trade-o-ree-state-virginia/
LOCATION:INTERSTATE BINGO HALL\, 5957 East Virginia Beach Blvd.\, Norfolk\, VA\, 23502\, United States
ATTACH;FMTTYPE=image/jpeg:https://www.bsator.com/wp-content/uploads/2016/05/1656189_675520605833585_831015690_n.jpg
ORGANIZER;CN="John Ortt":MAILTO:jortt@cox.net
GEO:36.853542;-76.2009164
X-APPLE-STRUCTURED-LOCATION;VALUE=URI;X-ADDRESS=INTERSTATE BINGO HALL 5957 East Virginia Beach Blvd. Norfolk VA 23502 United States;X-APPLE-RADIUS=500;X-TITLE=5957 East Virginia Beach Blvd.:geo:-76.2009164,36.853542
END:VEVENT
END:VCALENDAR