BEGIN:VCALENDAR
VERSION:2.0
PRODID:-//Boy Scout Trade-O-Ree Calendar - ECPv6.15.20//NONSGML v1.0//EN
CALSCALE:GREGORIAN
METHOD:PUBLISH
X-WR-CALNAME:Boy Scout Trade-O-Ree Calendar
X-ORIGINAL-URL:https://www.bsator.com
X-WR-CALDESC:Events for Boy Scout Trade-O-Ree Calendar
REFRESH-INTERVAL;VALUE=DURATION:PT1H
X-Robots-Tag:noindex
X-PUBLISHED-TTL:PT1H
BEGIN:VTIMEZONE
TZID:UTC
BEGIN:STANDARD
TZOFFSETFROM:+0000
TZOFFSETTO:+0000
TZNAME:UTC
DTSTART:20150101T000000
END:STANDARD
END:VTIMEZONE
BEGIN:VEVENT
DTSTART;TZID=UTC:20260116T160000
DTEND;TZID=UTC:20260117T150000
DTSTAMP:20260423T174048
CREATED:20250914T051806Z
LAST-MODIFIED:20250914T051806Z
UID:10000591-1768579200-1768662000@www.bsator.com
SUMMARY:35th Annual South Carolina (Winter) Trade-O-Ree - State: South Carolina
DESCRIPTION:Date: January 16-17\, 2026 \nAddress:\nJ.B. “Red” Owens Recreation Complex\n111 Walkers Way\nEasley\, SC 29642 \nTimes:\nFriday: 4pm – 11:30pm\n(6pm – Free Pizza Party)\n(7pm – Silent Auctions Start)\nSaturday: 8am – 3pm \nTOR Wall Tables: $30\nTOR Inside Tables: $25\nAdults: $3\nYouth: FREE \nContact: Chris Jensen\nEmail: CJENSEN@STREAMWOOD.NET\nPhone: (864) 859-2915 \nRegister Now\n\n \nTrade-O-Ree Flyer\n\n\n    Download the PDF file .
URL:https://www.bsator.com/event/35th-annual-south-carolina-winter-trade-o-ree-state-south-carolina/
LOCATION:J.B. “Red” Owens Recreation Complex\, 111 Walkers Way\, Easley\, SC\, 29642\, United States
ATTACH;FMTTYPE=image/jpeg:https://www.bsator.com/wp-content/uploads/2016/05/563007_294437054016777_2059250902_n.jpg
ORGANIZER;CN="Chris Jensen":MAILTO:cjensen@streamwood.net
GEO:34.8043102;-82.5869585
X-APPLE-STRUCTURED-LOCATION;VALUE=URI;X-ADDRESS=J.B. “Red” Owens Recreation Complex 111 Walkers Way Easley SC 29642 United States;X-APPLE-RADIUS=500;X-TITLE=111 Walkers Way:geo:-82.5869585,34.8043102
END:VEVENT
BEGIN:VEVENT
DTSTART;TZID=UTC:20250117T160000
DTEND;TZID=UTC:20250118T150000
DTSTAMP:20260423T174048
CREATED:20240904T015845Z
LAST-MODIFIED:20240904T020602Z
UID:10000548-1737129600-1737212400@www.bsator.com
SUMMARY:34th Annual South Carolina (Winter) Trade-O-Ree - State: South Carolina
DESCRIPTION:Date: January 17-18\, 2025 \nAddress:\nJ.B. “Red” Owens Recreation Complex\n111 Walkers Way\nEasley\, SC 29642 \nTimes:\nFriday: 4pm – 11:30pm\n(6pm – Free Pizza Party)\n(7pm – Silent Auctions Start)\nSaturday: 8am – 3pm \nTOR Wall Tables: $30\nTOR Inside Tables: $25\nAdults: $3\nYouth: FREE \nContact: Chris Jensen\nEmail: CJENSEN@STREAMWOOD.NET\nPhone: (864) 859-2915 \nRegister Now\n\n \nTrade-O-Ree Flyer\n\n\n    Download the PDF file .
URL:https://www.bsator.com/event/34th-annual-south-carolina-winter-trade-o-ree-state-south-carolina/
LOCATION:J.B. “Red” Owens Recreation Complex\, 111 Walkers Way\, Easley\, SC\, 29642\, United States
ATTACH;FMTTYPE=image/jpeg:https://www.bsator.com/wp-content/uploads/2016/05/563007_294437054016777_2059250902_n.jpg
ORGANIZER;CN="Chris Jensen":MAILTO:cjensen@streamwood.net
GEO:34.8043102;-82.5869585
X-APPLE-STRUCTURED-LOCATION;VALUE=URI;X-ADDRESS=J.B. “Red” Owens Recreation Complex 111 Walkers Way Easley SC 29642 United States;X-APPLE-RADIUS=500;X-TITLE=111 Walkers Way:geo:-82.5869585,34.8043102
END:VEVENT
BEGIN:VEVENT
DTSTART;TZID=UTC:20240126T160000
DTEND;TZID=UTC:20240127T150000
DTSTAMP:20260423T174048
CREATED:20231027T211132Z
LAST-MODIFIED:20231027T211132Z
UID:10000506-1706284800-1706367600@www.bsator.com
SUMMARY:33rd Annual South Carolina (Winter) Trade-O-Ree - State: South Carolina
DESCRIPTION:Date: January 26-27\, 2024 \nAddress:\nJ.B. “Red” Owens Recreation Complex\n111 Walkers Way\nEasley\, SC 29642 \nTimes:\nFriday: 4pm – 11:30pm\n(6pm – Free Pizza Party)\n(7pm – Silent Auctions Start)\nSaturday: 8am – 3pm \nTOR Wall Tables: $30\nTOR Inside Tables: $25\nAdults: $3\nYouth: FREE \nContact: Chris Jensen\nEmail: CJENSEN@STREAMWOOD.NET\nPhone: (864) 859-2915 \nRegister Now\n\n \nTrade-O-Ree Flyer\n\n\n    Download the PDF file .
URL:https://www.bsator.com/event/33rd-annual-south-carolina-winter-trade-o-ree-state-south-carolina/
LOCATION:J.B. “Red” Owens Recreation Complex\, 111 Walkers Way\, Easley\, SC\, 29642\, United States
ATTACH;FMTTYPE=image/jpeg:https://www.bsator.com/wp-content/uploads/2016/05/563007_294437054016777_2059250902_n.jpg
ORGANIZER;CN="Chris Jensen":MAILTO:cjensen@streamwood.net
GEO:34.8043102;-82.5869585
X-APPLE-STRUCTURED-LOCATION;VALUE=URI;X-ADDRESS=J.B. “Red” Owens Recreation Complex 111 Walkers Way Easley SC 29642 United States;X-APPLE-RADIUS=500;X-TITLE=111 Walkers Way:geo:-82.5869585,34.8043102
END:VEVENT
BEGIN:VEVENT
DTSTART;TZID=UTC:20230127T160000
DTEND;TZID=UTC:20230128T150000
DTSTAMP:20260423T174048
CREATED:20220923T014512Z
LAST-MODIFIED:20220925T161801Z
UID:10000456-1674835200-1674918000@www.bsator.com
SUMMARY:32nd Annual South Carolina (Winter) Trade-O-Ree - State: South Carolina
DESCRIPTION:Date: January 27-28\, 2023 \nAddress:\nJ.B. “Red” Owens Recreation Complex\n111 Walkers Way\nEasley\, SC 29642 \nTimes:\nFriday: 4pm – 11:30pm\n(6pm – Free Pizza Party)\n(7pm – Silent Auctions Start)\nSaturday: 8am – 3pm \nTrade-O-Ree Hotel\nQuality Inn of Easley\n5539 Calhoun Memorial Hwy (SC Hwy 123)\nEasley\, SC 29640\nPhone: 864-859-7520 \nTOR Wall Tables: $30\nTOR Inside Tables: $25\nAdults: $3\nYouth: FREE \nContact: Chris Jensen\nEmail: CJENSEN@STREAMWOOD.NET\nPhone: (864) 859-2915 \nRegister Now\n\n \nTrade-O-Ree Flyer\n\n\n    Download the PDF file .
URL:https://www.bsator.com/event/32nd-annual-south-carolina-winter-trade-o-ree-state-south-carolina/
LOCATION:J.B. “Red” Owens Recreation Complex\, 111 Walkers Way\, Easley\, SC\, 29642\, United States
ATTACH;FMTTYPE=image/jpeg:https://www.bsator.com/wp-content/uploads/2016/05/563007_294437054016777_2059250902_n.jpg
ORGANIZER;CN="Chris Jensen":MAILTO:cjensen@streamwood.net
GEO:34.8043102;-82.5869585
X-APPLE-STRUCTURED-LOCATION;VALUE=URI;X-ADDRESS=J.B. “Red” Owens Recreation Complex 111 Walkers Way Easley SC 29642 United States;X-APPLE-RADIUS=500;X-TITLE=111 Walkers Way:geo:-82.5869585,34.8043102
END:VEVENT
BEGIN:VEVENT
DTSTART;TZID=UTC:20220107T160000
DTEND;TZID=UTC:20220108T150000
DTSTAMP:20260423T174048
CREATED:20210901T153939Z
LAST-MODIFIED:20211210T044414Z
UID:10000204-1641571200-1641654000@www.bsator.com
SUMMARY:31st Annual South Carolina (Winter) Trade-O-Ree - State: South Carolina
DESCRIPTION:Date: January 7-8\, 2022 \nAddress:\nJ.B. “Red” Owens Recreation Complex\n111 Walkers Way\nEasley\, SC 29642 \nTimes:\nFriday: 4pm – 11:30pm\n(6pm – Free Pizza Party)\n(7pm – Silent Auctions Start)\nSaturday: 8am – 3pm \nTrade-O-Ree Hotel\nQuality Inn of Easley\n5539 Calhoun Memorial Hwy (SC Hwy 123)\nEasley\, SC 29640\nPhone: 864-859-7520 \nTOR Wall Tables: $30\nTOR Inside Tables: $25\nAdults: $3\nYouth: FREE \nSPECIAL 2022 TOR TABLE DEAL …… If you provide us with a scan of your COVID-19 vaccination card dated 12/1/21 or earlier\, we will give you ONE additional FREE TABLE.  We are doing our best to encourage the COVID-19 vaccine and healthy scouters using a carrot approach.  All Streamwood Staff are vaccinated.  We are teaching by example\, a long-established Scouting Method from Baden-Powell.  \nContact 1: Chris Jensen\nEmail: CJENSEN@STREAMWOOD.NET\nPhone: (864) 859-2915 \nRegister Now\n\n \nTrade-O-Ree Flyer\n\n\n    Download the PDF file .
URL:https://www.bsator.com/event/31st-annual-south-carolina-winter-trade-o-ree-state-south-carolina/
LOCATION:J.B. “Red” Owens Recreation Complex\, 111 Walkers Way\, Easley\, SC\, 29642\, United States
ATTACH;FMTTYPE=image/jpeg:https://www.bsator.com/wp-content/uploads/2016/05/563007_294437054016777_2059250902_n.jpg
ORGANIZER;CN="Chris Jensen":MAILTO:cjensen@streamwood.net
GEO:34.8043102;-82.5869585
X-APPLE-STRUCTURED-LOCATION;VALUE=URI;X-ADDRESS=J.B. “Red” Owens Recreation Complex 111 Walkers Way Easley SC 29642 United States;X-APPLE-RADIUS=500;X-TITLE=111 Walkers Way:geo:-82.5869585,34.8043102
END:VEVENT
BEGIN:VEVENT
DTSTART;TZID=UTC:20200117T160000
DTEND;TZID=UTC:20200118T150000
DTSTAMP:20260423T174048
CREATED:20190121T221037Z
LAST-MODIFIED:20190121T221037Z
UID:10000278-1579276800-1579359600@www.bsator.com
SUMMARY:30th Annual South Carolina (Winter) Trade-O-Ree - State: South Carolina
DESCRIPTION:Date: January 17-18\, 2020 \nAddress:\nJ.B. “Red” Owens Recreation Complex\n111 Walkers Way\nEasley\, SC 29642 \nTimes:\nFriday: 4pm – 11:30pm\nSaturday: 8am – 3pm \nContact 1: Chris Jensen\nEmail: CJENSEN@STREAMWOOD.NET\nPhone: (864) 859-2915 \nRegister Now\n\n    Download the PDF file .
URL:https://www.bsator.com/event/30th-annual-south-carolina-winter-trade-o-ree-state-south-carolina/
LOCATION:J.B. “Red” Owens Recreation Complex\, 111 Walkers Way\, Easley\, SC\, 29642\, United States
ATTACH;FMTTYPE=image/jpeg:https://www.bsator.com/wp-content/uploads/2016/05/563007_294437054016777_2059250902_n.jpg
ORGANIZER;CN="Chris Jensen":MAILTO:cjensen@streamwood.net
GEO:34.8043102;-82.5869585
X-APPLE-STRUCTURED-LOCATION;VALUE=URI;X-ADDRESS=J.B. “Red” Owens Recreation Complex 111 Walkers Way Easley SC 29642 United States;X-APPLE-RADIUS=500;X-TITLE=111 Walkers Way:geo:-82.5869585,34.8043102
END:VEVENT
BEGIN:VEVENT
DTSTART;TZID=UTC:20190118T160000
DTEND;TZID=UTC:20190119T150000
DTSTAMP:20260423T174048
CREATED:20180304T083506Z
LAST-MODIFIED:20180304T083651Z
UID:10000097-1547827200-1547910000@www.bsator.com
SUMMARY:29th Annual South Carolina (Winter) Trade-O-Ree - State: South Carolina
DESCRIPTION:Date: January 18-19\, 2019 \nAddress:\nJ.B. “Red” Owens Recreation Complex\n111 Walkers Way\nEasley\, SC 29642 \nTimes:\nFriday: 4pm – 11:30pm\nSaturday: 8am – 3pm \nContact 1: Chris Jensen\nEmail: CJENSEN@STREAMWOOD.NET\nPhone: (864) 859-2915 \nRegister Now\n\n    Download the PDF file .
URL:https://www.bsator.com/event/29th-annual-south-carolina-winter-trade-o-ree-state-south-carolina/
LOCATION:J.B. “Red” Owens Recreation Complex\, 111 Walkers Way\, Easley\, SC\, 29642\, United States
ATTACH;FMTTYPE=image/jpeg:https://www.bsator.com/wp-content/uploads/2016/05/563007_294437054016777_2059250902_n.jpg
ORGANIZER;CN="Chris Jensen":MAILTO:cjensen@streamwood.net
GEO:34.8043102;-82.5869585
X-APPLE-STRUCTURED-LOCATION;VALUE=URI;X-ADDRESS=J.B. “Red” Owens Recreation Complex 111 Walkers Way Easley SC 29642 United States;X-APPLE-RADIUS=500;X-TITLE=111 Walkers Way:geo:-82.5869585,34.8043102
END:VEVENT
BEGIN:VEVENT
DTSTART;TZID=UTC:20180112T160000
DTEND;TZID=UTC:20180113T150000
DTSTAMP:20260423T174048
CREATED:20170310T173542Z
LAST-MODIFIED:20171008T062148Z
UID:10000177-1515772800-1515855600@www.bsator.com
SUMMARY:28th Annual South Carolina (Winter) Trade-O-Ree - State: South Carolina
DESCRIPTION:Date: January 12-13\, 2018 \nAddress:\nJ.B. “Red” Owens Recreation Complex\n111 Walkers Way\nEasley\, SC 29642 \nTimes:\nFriday: 4pm – 11:30pm\nSaturday: 8am – 3pm \nContact 1: Chris Jensen\nEmail: CJENSEN@STREAMWOOD.NET\nPhone: (864) 859-2915 \nRegister Now\n\n    Download the PDF file .
URL:https://www.bsator.com/event/28th-annual-south-carolina-winter-trade-o-ree-state-south-carolina/
LOCATION:J.B. “Red” Owens Recreation Complex\, 111 Walkers Way\, Easley\, SC\, 29642\, United States
ATTACH;FMTTYPE=image/jpeg:https://www.bsator.com/wp-content/uploads/2016/05/563007_294437054016777_2059250902_n.jpg
ORGANIZER;CN="Chris Jensen":MAILTO:cjensen@streamwood.net
GEO:34.8043102;-82.5869585
X-APPLE-STRUCTURED-LOCATION;VALUE=URI;X-ADDRESS=J.B. “Red” Owens Recreation Complex 111 Walkers Way Easley SC 29642 United States;X-APPLE-RADIUS=500;X-TITLE=111 Walkers Way:geo:-82.5869585,34.8043102
END:VEVENT
BEGIN:VEVENT
DTSTART;TZID=UTC:20170113T160000
DTEND;TZID=UTC:20170114T150000
DTSTAMP:20260423T174048
CREATED:20160728T171404Z
LAST-MODIFIED:20160829T215936Z
UID:10000037-1484323200-1484406000@www.bsator.com
SUMMARY:27th Annual South Carolina (Winter) Trade-O-Ree - State: South Carolina
DESCRIPTION:Date: January 13-14\, 2017 \nAddress:\nJ.B. “Red” Owens Recreation Complex\n111 Walkers Way\nEasley\, SC 29642 \nTimes:\nFriday: 4pm – 11:30pm\nSaturday: 8am – 3pm \nContact 1: Chris Jensen\nEmail: CJENSEN@STREAMWOOD.NET\nPhone: (864) 859-2915 \nFlyer: Click Here\n\nRegister Now \n\n    Download the PDF file .
URL:https://www.bsator.com/event/27th-annual-south-carolina-winter-trade-o-ree-state-south-carolina/
LOCATION:J.B. “Red” Owens Recreation Complex\, 111 Walkers Way\, Easley\, SC\, 29642\, United States
ATTACH;FMTTYPE=image/jpeg:https://www.bsator.com/wp-content/uploads/2016/05/IMG_5006.jpg
ORGANIZER;CN="Chris Jensen":MAILTO:cjensen@streamwood.net
GEO:34.8043102;-82.5869585
X-APPLE-STRUCTURED-LOCATION;VALUE=URI;X-ADDRESS=J.B. “Red” Owens Recreation Complex 111 Walkers Way Easley SC 29642 United States;X-APPLE-RADIUS=500;X-TITLE=111 Walkers Way:geo:-82.5869585,34.8043102
END:VEVENT
BEGIN:VEVENT
DTSTART;TZID=UTC:20160617T080000
DTEND;TZID=UTC:20160618T170000
DTSTAMP:20260423T174048
CREATED:20160601T091911Z
LAST-MODIFIED:20160616T132207Z
UID:10000076-1466150400-1466269200@www.bsator.com
SUMMARY:South Carolina Summer Trade-O-Ree State: South Carolina
DESCRIPTION:Date: June 17-18\, 2016 \nAddress:\nJ.B. “Red” Owens Recreation Complex\n111 Walkers Way\nEasley\, SC 29642 \nTimes:\nFriday: 4pm – 11:30pm\nSaturday: 8am – 3pm \nContact 1: Chris Jensen\nEmail: CJENSEN@STREAMWOOD.NET\nPhone: (864) 859-2915 \nFlyer: Click Here\nMap View: Click Here \n\n				\n				\n				\n				\n				Register now
URL:https://www.bsator.com/event/south-carolina-summer-trade-o-ree-state-south-carolina/
LOCATION:J.B. “Red” Owens Recreation Complex\, 111 Walkers Way\, Easley\, SC\, 29642\, United States
ATTACH;FMTTYPE=image/jpeg:https://www.bsator.com/wp-content/uploads/2016/06/10906115_10101509580675318_7834001497550642691_n-768x577.jpg
GEO:34.8043102;-82.5869585
X-APPLE-STRUCTURED-LOCATION;VALUE=URI;X-ADDRESS=J.B. “Red” Owens Recreation Complex 111 Walkers Way Easley SC 29642 United States;X-APPLE-RADIUS=500;X-TITLE=111 Walkers Way:geo:-82.5869585,34.8043102
END:VEVENT
END:VCALENDAR