BEGIN:VCALENDAR
VERSION:2.0
PRODID:-//Boy Scout Trade-O-Ree Calendar - ECPv6.15.20//NONSGML v1.0//EN
CALSCALE:GREGORIAN
METHOD:PUBLISH
X-WR-CALNAME:Boy Scout Trade-O-Ree Calendar
X-ORIGINAL-URL:https://www.bsator.com
X-WR-CALDESC:Events for Boy Scout Trade-O-Ree Calendar
REFRESH-INTERVAL;VALUE=DURATION:PT1H
X-Robots-Tag:noindex
X-PUBLISHED-TTL:PT1H
BEGIN:VTIMEZONE
TZID:UTC
BEGIN:STANDARD
TZOFFSETFROM:+0000
TZOFFSETTO:+0000
TZNAME:UTC
DTSTART:20160101T000000
END:STANDARD
END:VTIMEZONE
BEGIN:VEVENT
DTSTART;TZID=UTC:20170513T090000
DTEND;TZID=UTC:20170513T150000
DTSTAMP:20260423T213226
CREATED:20170307T093914Z
LAST-MODIFIED:20170404T172325Z
UID:10000172-1494666000-1494687600@www.bsator.com
SUMMARY:Maryland Trade-O-Ree
DESCRIPTION:Date: May 13\, 2017 \nAddress:\n(KILDUFF HALL)\n1450 Abingdon Rd.\nAbingdon\, MD 21009 \nTimes:\nSaturday: 9am – 3pm \nContact 1: Shaun Woolmer\nEmail: oa12harford@hotmail.com\nPhone: (410) 399-1296 \n\n    Download the PDF file .
URL:https://www.bsator.com/event/maryland/
LOCATION:KILDUFF HALL\, 1450 Abingdon Rd.\, Abingdon\, MD\, 21009\, United States
ATTACH;FMTTYPE=image/jpeg:https://www.bsator.com/wp-content/uploads/2016/05/10339207_10154134170115165_6184848011848018788_o.jpg
ORGANIZER;CN="Shaun Woolmer":MAILTO:Oa12harford@hotmail.com
GEO:39.4647248;-76.2852301
X-APPLE-STRUCTURED-LOCATION;VALUE=URI;X-ADDRESS=KILDUFF HALL 1450 Abingdon Rd. Abingdon MD 21009 United States;X-APPLE-RADIUS=500;X-TITLE=1450 Abingdon Rd.:geo:-76.2852301,39.4647248
END:VEVENT
END:VCALENDAR