BEGIN:VCALENDAR
VERSION:2.0
PRODID:-//Boy Scout Trade-O-Ree Calendar - ECPv6.15.20//NONSGML v1.0//EN
CALSCALE:GREGORIAN
METHOD:PUBLISH
X-WR-CALNAME:Boy Scout Trade-O-Ree Calendar
X-ORIGINAL-URL:https://www.bsator.com
X-WR-CALDESC:Events for Boy Scout Trade-O-Ree Calendar
REFRESH-INTERVAL;VALUE=DURATION:PT1H
X-Robots-Tag:noindex
X-PUBLISHED-TTL:PT1H
BEGIN:VTIMEZONE
TZID:UTC
BEGIN:STANDARD
TZOFFSETFROM:+0000
TZOFFSETTO:+0000
TZNAME:UTC
DTSTART:20180101T000000
END:STANDARD
END:VTIMEZONE
BEGIN:VEVENT
DTSTART;TZID=UTC:20250530T130000
DTEND;TZID=UTC:20250531T140000
DTSTAMP:20260423T160914
CREATED:20250321T134103Z
LAST-MODIFIED:20250321T135313Z
UID:10000574-1748610000-1748700000@www.bsator.com
SUMMARY:2025 Lone Star Trade-O-Ree State: Texas
DESCRIPTION:Date: May 30-31\, 2025 \nAddress:\nKnights of Columbus Hall\n1319 Brown Trail\nBedford\, TX 76021 \nTimes:\nFriday: 1pm – 9pm (Set-up: 1pm – 3pm)\nSaturday: 9am – 2pm \nContact: John Ryan\nEmail: thetexaswebguy@yahoo.com\nPhone: (817) 939-5673 \nWe welcome the tired\, the hungry and those with PATCH FEVER to the Annual Lone Star Trade O Ree that’s located in a “hometown” setting perfect for picking up a few patches\, trading a few patches\, GIVING AWAY A LOT OF PATCHES (Youth Auction). \nFor Scouts 18 and under\, we have a special YOUTH Table where you drop your patch on the table (and pick one up – Scouts Honor). Please take a minute to put this on your calendar – drop by for some great collecting!!! \nRegister Now\n \nTrade-O-Ree Flyer\n\n\n    Download the PDF file .
URL:https://www.bsator.com/event/2025-lone-star-trade-o-ree-state-texas/
LOCATION:Knights of Columbus Hall\, 1319 Brown Trail\, Bedford\, TX\, 76021\, United States
ATTACH;FMTTYPE=image/jpeg:https://www.bsator.com/wp-content/uploads/2022/02/thumbnail.jpeg
ORGANIZER;CN="John Ryan":MAILTO:thetexaswebguy@yahoo.com
END:VEVENT
BEGIN:VEVENT
DTSTART;TZID=UTC:20210806T160000
DTEND;TZID=UTC:20210807T150000
DTSTAMP:20260423T160914
CREATED:20210514T022811Z
LAST-MODIFIED:20210514T022811Z
UID:10000395-1628265600-1628348400@www.bsator.com
SUMMARY:2021 Quinipissa Lodge Trade-O-Ree - State: Louisiana
DESCRIPTION:Date: August 6-7\, 2021 \nAddress:\nKnights of Columbus Hall\n230 South Irma Blvd.\nGonzales\, LA 70737 \nTimes:\nFriday: 4pm – 11pm\nSaturday: 8am – 3pm \nRegister For Tables: https://www.iacbsa.org/OA_tradoree_2020 \nContact 1: John Snead\nEmail: ​iacpatchevent@gmail.com\nPhone: (225) 926-2697 \n\n    Download the PDF file .
URL:https://www.bsator.com/event/2021-quinipissa-lodge-trade-o-ree-state-louisiana/
LOCATION:Knights of Columbus Hall\, 1319 Brown Trail\, Bedford\, TX\, 76021\, United States
ATTACH;FMTTYPE=image/jpeg:https://www.bsator.com/wp-content/uploads/2019/10/58933306_2659934560694561_5191450356495679488_o.jpg
ORGANIZER;CN="John Snead":MAILTO:iacpatchevent@gmail.com
END:VEVENT
BEGIN:VEVENT
DTSTART;TZID=UTC:20200501T160000
DTEND;TZID=UTC:20200502T150000
DTSTAMP:20260423T160914
CREATED:20191025T065931Z
LAST-MODIFIED:20200409T202208Z
UID:10000315-1588348800-1588431600@www.bsator.com
SUMMARY:CANCELED: 2020 Quinipissa Lodge Trade-O-Ree - State: Louisiana
DESCRIPTION:THIS EVENT HAS BEEN CANCELEDDUE TO THE CORONAVIRUS\n \n \nDate: May 1-2\, 2020 \nAddress:\nKnights of Columbus Hall\n230 South Irma Blvd.\nGonzales\, LA 70737 \nTimes:\nFriday: 4pm – 11pm\nSaturday: 8am – 3pm \nRegister For Tables: https://www.iacbsa.org/OA_tradoree_2020 \nContact 1: John Snead\nEmail: ​iacpatchevent@gmail.com\nPhone: (225) 926-2697 \n\n    Download the PDF file .
URL:https://www.bsator.com/event/2020-quinipissa-lodge-trade-o-ree-state-louisiana/
LOCATION:Knights of Columbus Hall\, 1319 Brown Trail\, Bedford\, TX\, 76021\, United States
ATTACH;FMTTYPE=image/jpeg:https://www.bsator.com/wp-content/uploads/2019/10/58933306_2659934560694561_5191450356495679488_o.jpg
ORGANIZER;CN="John Snead":MAILTO:iacpatchevent@gmail.com
END:VEVENT
BEGIN:VEVENT
DTSTART;TZID=UTC:20190503T160000
DTEND;TZID=UTC:20190504T150000
DTSTAMP:20260423T160914
CREATED:20190203T055811Z
LAST-MODIFIED:20200221T080458Z
UID:10000121-1556899200-1556982000@www.bsator.com
SUMMARY:2019 Quinipissa Lodge Trade-O-Ree - State: Louisiana
DESCRIPTION:Date: May 3-4\, 2019 \nAddress:\nKnights of Columbus Hall\n230 South Irma Blvd.\nGonzales\, LA 70737 \nTimes:\nFriday: 4pm – 11pm\nSaturday: 8am – 3pm \nRegister For Tables: https://www.iacbsa.org/OA_tradeoree_2019 \nContact 1: John Snead\nEmail: ​iacpatchevent@gmail.com\nPhone: (225) 926-2697 \n\n    Download the PDF file .
URL:https://www.bsator.com/event/2019-quinipissa-lodge-trade-o-ree-state-louisiana/
LOCATION:Knights of Columbus Hall\, 1319 Brown Trail\, Bedford\, TX\, 76021\, United States
ATTACH;FMTTYPE=image/jpeg:https://www.bsator.com/wp-content/uploads/2019/10/58933306_2659934560694561_5191450356495679488_o.jpg
ORGANIZER;CN="John Snead":MAILTO:iacpatchevent@gmail.com
END:VEVENT
END:VCALENDAR