BEGIN:VCALENDAR
VERSION:2.0
PRODID:-//Boy Scout Trade-O-Ree Calendar - ECPv6.15.20//NONSGML v1.0//EN
CALSCALE:GREGORIAN
METHOD:PUBLISH
X-WR-CALNAME:Boy Scout Trade-O-Ree Calendar
X-ORIGINAL-URL:https://www.bsator.com
X-WR-CALDESC:Events for Boy Scout Trade-O-Ree Calendar
REFRESH-INTERVAL;VALUE=DURATION:PT1H
X-Robots-Tag:noindex
X-PUBLISHED-TTL:PT1H
BEGIN:VTIMEZONE
TZID:UTC
BEGIN:STANDARD
TZOFFSETFROM:+0000
TZOFFSETTO:+0000
TZNAME:UTC
DTSTART:20150101T000000
END:STANDARD
END:VTIMEZONE
BEGIN:VEVENT
DTSTART;TZID=UTC:20160929T150000
DTEND;TZID=UTC:20161002T120000
DTSTAMP:20260423T190847
CREATED:20160601T101959Z
LAST-MODIFIED:20160829T211238Z
UID:10000058-1475161200-1475409600@www.bsator.com
SUMMARY:Las Vegas International Scouting Museum Open House
DESCRIPTION:Date: September 29 & October 2\, 2016 \nLas Vegas International Scouting Museum Open House \nAddress:\nLas Vegas International Scouting Museum\n3025 W Sahara Ave.\nLas Vegas\, NV. 89102 \nTimes:\nThursday: 3pm – 8pm\nSunday: 9am – 12pm\n\nRegister Now
URL:https://www.bsator.com/event/las-vegas-international-scouting-memorabilia-exchange-show-aces-another-chance-to-exchange-stories-2016-state-nevada/
LOCATION:Las Vegas International Scouting Museum\, 3025 W Sahara Ave.\, Las Vegas\, NV. 89102
ATTACH;FMTTYPE=image/jpeg:https://www.bsator.com/wp-content/uploads/2016/06/Unknown-2-768x768.jpg
ORGANIZER;CN="Rick Bedsworth":MAILTO:kwtrdr@gmail.com
GEO:36.1439115;-115.1831721
X-APPLE-STRUCTURED-LOCATION;VALUE=URI;X-ADDRESS=Las Vegas International Scouting Museum 3025 W Sahara Ave. Las Vegas NV. 89102;X-APPLE-RADIUS=500;X-TITLE=3025 W Sahara Ave.:geo:-115.1831721,36.1439115
END:VEVENT
END:VCALENDAR