BEGIN:VCALENDAR
VERSION:2.0
PRODID:-//Boy Scout Trade-O-Ree Calendar - ECPv6.15.20//NONSGML v1.0//EN
CALSCALE:GREGORIAN
METHOD:PUBLISH
X-ORIGINAL-URL:https://www.bsator.com
X-WR-CALDESC:Events for Boy Scout Trade-O-Ree Calendar
REFRESH-INTERVAL;VALUE=DURATION:PT1H
X-Robots-Tag:noindex
X-PUBLISHED-TTL:PT1H
BEGIN:VTIMEZONE
TZID:UTC
BEGIN:STANDARD
TZOFFSETFROM:+0000
TZOFFSETTO:+0000
TZNAME:UTC
DTSTART:20180101T000000
END:STANDARD
END:VTIMEZONE
BEGIN:VEVENT
DTSTART;TZID=UTC:20191004T160000
DTEND;TZID=UTC:20191005T170000
DTSTAMP:20260423T201758
CREATED:20190429T045454Z
LAST-MODIFIED:20190619T054639Z
UID:10000303-1570204800-1570294800@www.bsator.com
SUMMARY:Chumash Lodge 1st Annual Tradoree - State: California
DESCRIPTION:Date: October 4-5\, 2019 \nAddress:\nLompoc Veterans Memorial Building\n100 E. Locust Ave.\nLompoc\, CA 93436 \nTimes:\nFriday: 4pm – 9pm\nSaturday: 8am – 4pm \nContact 1: Robert Bumpass\nEmail: rbumpass2@gmail.com\nPhone: (254) 709-6827 \n\n    Download the PDF file .
URL:https://www.bsator.com/event/chumash-lodge-1st-annual-tradoree-state-california/
LOCATION:Lompoc Veterans Memorial Building\, 100 E. Locust Ave.\, Lompoc\, CA\, 93436\, United States
ATTACH;FMTTYPE=image/jpeg:https://www.bsator.com/wp-content/uploads/2016/06/SWAPSHOP_zpsd7821994-4-1.jpg.opt430x360o00s430x360-4-1.jpg
ORGANIZER;CN="Robert Bumpass":MAILTO:rbumpass2@gmail.com
END:VEVENT
END:VCALENDAR