BEGIN:VCALENDAR
VERSION:2.0
PRODID:-//Boy Scout Trade-O-Ree Calendar - ECPv6.15.20//NONSGML v1.0//EN
CALSCALE:GREGORIAN
METHOD:PUBLISH
X-WR-CALNAME:Boy Scout Trade-O-Ree Calendar
X-ORIGINAL-URL:https://www.bsator.com
X-WR-CALDESC:Events for Boy Scout Trade-O-Ree Calendar
REFRESH-INTERVAL;VALUE=DURATION:PT1H
X-Robots-Tag:noindex
X-PUBLISHED-TTL:PT1H
BEGIN:VTIMEZONE
TZID:UTC
BEGIN:STANDARD
TZOFFSETFROM:+0000
TZOFFSETTO:+0000
TZNAME:UTC
DTSTART:20250101T000000
END:STANDARD
END:VTIMEZONE
BEGIN:VEVENT
DTSTART;TZID=UTC:20260605T170000
DTEND;TZID=UTC:20260606T150000
DTSTAMP:20260423T144214
CREATED:20250928T002027Z
LAST-MODIFIED:20250928T002233Z
UID:10000592-1780678800-1780758000@www.bsator.com
SUMMARY:3rd Annual Hawkeye Area Council Trade-O-Ree - State Iowa
DESCRIPTION:Date: June 5-6\, 2026 \nAddress:\nMarion Methodist Church Hall\n5050 REC Drive\nMarion\, Iowa 52302 \nTimes:\nFriday: 5pm – 9pm (Vendor setup on Friday at 4pm)\nSaturday: 9am – 3pm (Vendor setup on Saturday at 8am) \nContact: Loren Waterman\nEmail: lh20man@msn.com\nPhone: (319) 310-0276 \n\n \nTrade-O-Ree Flyer\n\n\n    Download the PDF file .
URL:https://www.bsator.com/event/3rd-annual-hawkeye-area-council-trade-o-ree-state-iowa/
LOCATION:Marion Methodist Church Hall\, 5050 REC Drive\, Marion\, IA\, 52302\, United States
ATTACH;FMTTYPE=image/jpeg:https://www.bsator.com/wp-content/uploads/2023/12/447748283_10231239809757104_2244615323060558198_n.jpg
ORGANIZER;CN="Loren Waterman":MAILTO:lh20man@msn.com
END:VEVENT
END:VCALENDAR