BEGIN:VCALENDAR
VERSION:2.0
PRODID:-//Boy Scout Trade-O-Ree Calendar - ECPv6.15.20//NONSGML v1.0//EN
CALSCALE:GREGORIAN
METHOD:PUBLISH
X-WR-CALNAME:Boy Scout Trade-O-Ree Calendar
X-ORIGINAL-URL:https://www.bsator.com
X-WR-CALDESC:Events for Boy Scout Trade-O-Ree Calendar
REFRESH-INTERVAL;VALUE=DURATION:PT1H
X-Robots-Tag:noindex
X-PUBLISHED-TTL:PT1H
BEGIN:VTIMEZONE
TZID:UTC
BEGIN:STANDARD
TZOFFSETFROM:+0000
TZOFFSETTO:+0000
TZNAME:UTC
DTSTART:20160101T000000
END:STANDARD
END:VTIMEZONE
BEGIN:VEVENT
DTSTART;TZID=UTC:20170506T080000
DTEND;TZID=UTC:20170506T140000
DTSTAMP:20260423T213723
CREATED:20170206T172804Z
LAST-MODIFIED:20170524T075107Z
UID:10000154-1494057600-1494079200@www.bsator.com
SUMMARY:Mid-Iowa Council Trade-O-Ree
DESCRIPTION:Date: May 6\, 2017 \nAddress:\nMid-Iowa Council Maytag Scout Center\n6123 Scout Trail\nDes Moines\, IA 50321 \nTimes:\nSaturday: 8am – 2pm \nContact 1: Randy Rosander\nEmail: Randy.Rosander@scouting.org\nPhone: ? \nContact 2: Scott Walters\nEmail: Scott.Walters@scouting.org\nPhone: ? \n\n    Download the PDF file .
URL:https://www.bsator.com/event/mid-iowa-council-trade-o-ree/
LOCATION:Mid-Iowa Council Maytag Scout Center\, 6123 Scout Trail\, Des Moines\, IA\, 50321\, United States
ATTACH;FMTTYPE=image/jpeg:https://www.bsator.com/wp-content/uploads/2017/02/IMG_6398.jpg
ORGANIZER;CN="Randy Rosander":MAILTO:Randy.Rosander@scouting.org
GEO:41.54573;-93.70099
X-APPLE-STRUCTURED-LOCATION;VALUE=URI;X-ADDRESS=Mid-Iowa Council Maytag Scout Center 6123 Scout Trail Des Moines IA 50321 United States;X-APPLE-RADIUS=500;X-TITLE=6123 Scout Trail:geo:-93.70099,41.54573
END:VEVENT
END:VCALENDAR