BEGIN:VCALENDAR
VERSION:2.0
PRODID:-//Boy Scout Trade-O-Ree Calendar - ECPv6.15.20//NONSGML v1.0//EN
CALSCALE:GREGORIAN
METHOD:PUBLISH
X-WR-CALNAME:Boy Scout Trade-O-Ree Calendar
X-ORIGINAL-URL:https://www.bsator.com
X-WR-CALDESC:Events for Boy Scout Trade-O-Ree Calendar
REFRESH-INTERVAL;VALUE=DURATION:PT1H
X-Robots-Tag:noindex
X-PUBLISHED-TTL:PT1H
BEGIN:VTIMEZONE
TZID:UTC
BEGIN:STANDARD
TZOFFSETFROM:+0000
TZOFFSETTO:+0000
TZNAME:UTC
DTSTART:20210101T000000
END:STANDARD
END:VTIMEZONE
BEGIN:VEVENT
DTSTART;TZID=UTC:20221028T160000
DTEND;TZID=UTC:20221029T220000
DTSTAMP:20260423T190630
CREATED:20220112T175712Z
LAST-MODIFIED:20220819T151249Z
UID:10000423-1666972800-1667080800@www.bsator.com
SUMMARY:Black Warrior Council Centennial Encampment and Trade-O-Ree
DESCRIPTION:Date: October 28-29\, 2022 \nAddress:\nMoundville Archeological Park\n634 Mound State Parkway\nMoundville\, AL 35474-6413 \nTimes:\nFriday: 4pm – 10pm\nSaturday: 8am – 10pm \nContact: Jon Hall\nEmail: camper481@aol.com or jhall@tusc.k12.al.us\nPhone: (205) 799-5939 \n\n \nTrade-O-Ree Flyer\n\n\n    Download the PDF file .
URL:https://www.bsator.com/event/black-warrior-council-centennial-encampment-and-trade-o-ree/
LOCATION:Moundville Archeological Park\, 634 Mound State Parkway\, Moundville\, AL\, 35474-6413\, United States
ATTACH;FMTTYPE=image/jpeg:https://www.bsator.com/wp-content/uploads/2016/06/SWAPSHOP_zpsd7821994-4-1.jpg.opt430x360o00s430x360-4-1.jpg
ORGANIZER;CN="Jon Hall":MAILTO:camper481@aol.com
END:VEVENT
END:VCALENDAR