BEGIN:VCALENDAR
VERSION:2.0
PRODID:-//Boy Scout Trade-O-Ree Calendar - ECPv6.15.20//NONSGML v1.0//EN
CALSCALE:GREGORIAN
METHOD:PUBLISH
X-ORIGINAL-URL:https://www.bsator.com
X-WR-CALDESC:Events for Boy Scout Trade-O-Ree Calendar
REFRESH-INTERVAL;VALUE=DURATION:PT1H
X-Robots-Tag:noindex
X-PUBLISHED-TTL:PT1H
BEGIN:VTIMEZONE
TZID:UTC
BEGIN:STANDARD
TZOFFSETFROM:+0000
TZOFFSETTO:+0000
TZNAME:UTC
DTSTART:20180101T000000
END:STANDARD
END:VTIMEZONE
BEGIN:VEVENT
DTSTART;TZID=UTC:20191018T180000
DTEND;TZID=UTC:20191019T150000
DTSTAMP:20260423T213411
CREATED:20190628T160926Z
LAST-MODIFIED:20190628T171024Z
UID:10000129-1571421600-1571497200@www.bsator.com
SUMMARY:2019 Unami Lodge Trade-O-Ree - State: Pennsylvania
DESCRIPTION:Date: October 18-19\, 2019 \nAddress:\nNorth End Fire Company\n301 Prospect Street\nPottstown\, PA 19464 \nTimes:\nFriday: 6pm – 9:30pm\nSaturday: 8am – 3pm \nContact 1: Paul Bowman\nEmail: paul.bowman@unamilodge.org\nPhone: (484) 369-9926 \n\n    Download the PDF file .
URL:https://www.bsator.com/event/2019-unami-lodge-trade-o-ree-state-pennsylvania/
LOCATION:North End Fire Company\, 301 Prospect Street\, Pottstown\, PA\, 19464\, United States
ATTACH;FMTTYPE=image/jpeg:https://www.bsator.com/wp-content/uploads/2016/05/1540443_10204174328632508_6809621361728788690_o.jpg.opt431x322o00s431x322.jpg
ORGANIZER;CN="Paul Bowman":MAILTO:paul.bowman@unamilodge.org
END:VEVENT
END:VCALENDAR