BEGIN:VCALENDAR
VERSION:2.0
PRODID:-//Boy Scout Trade-O-Ree Calendar - ECPv6.15.20//NONSGML v1.0//EN
CALSCALE:GREGORIAN
METHOD:PUBLISH
X-ORIGINAL-URL:https://www.bsator.com
X-WR-CALDESC:Events for Boy Scout Trade-O-Ree Calendar
REFRESH-INTERVAL;VALUE=DURATION:PT1H
X-Robots-Tag:noindex
X-PUBLISHED-TTL:PT1H
BEGIN:VTIMEZONE
TZID:UTC
BEGIN:STANDARD
TZOFFSETFROM:+0000
TZOFFSETTO:+0000
TZNAME:UTC
DTSTART:20180101T000000
END:STANDARD
END:VTIMEZONE
BEGIN:VEVENT
DTSTART;TZID=UTC:20190330T090000
DTEND;TZID=UTC:20190330T140000
DTSTAMP:20260423T230435
CREATED:20181217T180548Z
LAST-MODIFIED:20190209T235055Z
UID:10000114-1553936400-1553954400@www.bsator.com
SUMMARY:2019 Woapink Lodge Trade-O-Ree - State: Illinois
DESCRIPTION:Date: March 30\, 2019 \nAddress:\nNSEC Exhibition Hall Richland Community College\n3357 N President Howard Brown Blvd.\nDecatur\, IL 62521 \nTimes:\nSaturday: 9am – 4pm \nContact 1: Matt Kaufman\nEmail: ?\nPhone: (217) 429-2326 \n\n\n    Download the PDF file . \n\n\n    Download the PDF file .
URL:https://www.bsator.com/event/2019-woapink-lodge-trade-o-ree-state-illinois/
LOCATION:NSEC Exhibition Hall Richland Community College\, 3357 N President Howard Brown Blvd.\, Decatur\, IL\, 62521\, United States
ATTACH;FMTTYPE=image/jpeg:https://www.bsator.com/wp-content/uploads/2016/06/SWAPSHOP_zpsd7821994-4-1.jpg.opt430x360o00s430x360-4-1.jpg
END:VEVENT
END:VCALENDAR