BEGIN:VCALENDAR
VERSION:2.0
PRODID:-//Boy Scout Trade-O-Ree Calendar - ECPv6.15.20//NONSGML v1.0//EN
CALSCALE:GREGORIAN
METHOD:PUBLISH
X-WR-CALNAME:Boy Scout Trade-O-Ree Calendar
X-ORIGINAL-URL:https://www.bsator.com
X-WR-CALDESC:Events for Boy Scout Trade-O-Ree Calendar
REFRESH-INTERVAL;VALUE=DURATION:PT1H
X-Robots-Tag:noindex
X-PUBLISHED-TTL:PT1H
BEGIN:VTIMEZONE
TZID:UTC
BEGIN:STANDARD
TZOFFSETFROM:+0000
TZOFFSETTO:+0000
TZNAME:UTC
DTSTART:20180101T000000
END:STANDARD
END:VTIMEZONE
BEGIN:VEVENT
DTSTART;TZID=UTC:20230324T180000
DTEND;TZID=UTC:20230325T160000
DTSTAMP:20260423T185531
CREATED:20230119T180205Z
LAST-MODIFIED:20230119T180740Z
UID:10000474-1679680800-1679760000@www.bsator.com
SUMMARY:3rd Annual Golden Sun Lodge Trade-O-Ree - State: Nebraska
DESCRIPTION:Date: March 24-25\, 2023 \nAddress:\nCornhusker Council – Outdoor Education Center\n600 S 120th St\nLincoln\, NE 68520 \nTimes:\nFriday: 6pm – 10pm\nSaturday: 8am – 4pm \nContact: Eli Hiser\nEmail: ?\nPhone: (402) 802-0870 \nContact: Kevin Potter\nEmail: scouterdad492@gmail.com\nPhone: (402) 525-6766 \n\n \nTrade-O-Ree Flyer\n\n\n    Download the PDF file .
URL:https://www.bsator.com/event/3rd-annual-golden-sun-lodge-trade-o-ree-state-nebraska/
LOCATION:Cornhusker Council – Outdoor Education Center\, 600 S 120th St\, Lincoln\, NE\, 68520\, United States
ATTACH;FMTTYPE=image/jpeg:https://www.bsator.com/wp-content/uploads/2019/12/56387477_2121982544536598_5498356564710391808_o.jpg
END:VEVENT
BEGIN:VEVENT
DTSTART;TZID=UTC:20220318T180000
DTEND;TZID=UTC:20220319T170000
DTSTAMP:20260423T185532
CREATED:20211210T032222Z
LAST-MODIFIED:20211210T043954Z
UID:10000414-1647626400-1647709200@www.bsator.com
SUMMARY:2nd Annual Golden Sun Lodge Trade-O-Ree - State: Nebraska
DESCRIPTION:Date: March 18-19\, 2022 \nAddress:\nCornhusker Council – Outdoor Education Center\n600 S 120th St\nLincoln\, NE 68520 \nTimes:\nFriday: 6pm – 10pm\nSaturday: 8am – 5pm \nContact 1: Ryan Evans\nEmail: rocketryan2002@gmail.com\nPhone: (402) 802-0870 \nContact 2: Kevin Potter\nEmail: scouterdad492@gmail.com\nPhone: (402) 525-6766 \n\n \nTrade-O-Ree Flyer\n\n\n    Download the PDF file .
URL:https://www.bsator.com/event/2nd-annual-golden-sun-lodge-trade-o-ree-state-nebraska-2/
LOCATION:Cornhusker Council – Outdoor Education Center\, 600 S 120th St\, Lincoln\, NE\, 68520\, United States
ATTACH;FMTTYPE=image/jpeg:https://www.bsator.com/wp-content/uploads/2019/12/56387477_2121982544536598_5498356564710391808_o.jpg
ORGANIZER;CN="Ryan Evans":MAILTO:rocketryan2002@gmail.com
END:VEVENT
BEGIN:VEVENT
DTSTART;TZID=UTC:20200327T180000
DTEND;TZID=UTC:20200328T170000
DTSTAMP:20260423T185532
CREATED:20191203T081156Z
LAST-MODIFIED:20200317T041154Z
UID:10000327-1585332000-1585414800@www.bsator.com
SUMMARY:CANCELED: 2nd Annual Golden Sun Lodge Trade-O-Ree - State: Nebraska
DESCRIPTION:THIS EVENT HAS BEEN CANCELEDDUE TO THE CORONAVIRUS\n \n \nDate: March 27-28\, 2020 \nAddress:\nCornhusker Council – Outdoor Education Center\n600 S 120th St\nLincoln\, NE 68520 \nTimes:\nFriday: 6pm – 10pm\nSaturday: 8am – 5pm \nContact 1: Dylan Hiser\nEmail: dchiser@gmail.com\nPhone: (402) 641-6980 \nContact 2: Kevin Potter\nEmail: scouterdad492@gmail.com\nPhone: (402) 525-6766 \n\n    Download the PDF file .
URL:https://www.bsator.com/event/2nd-annual-golden-sun-lodge-trade-o-ree-state-nebraska/
LOCATION:Cornhusker Council – Outdoor Education Center\, 600 S 120th St\, Lincoln\, NE\, 68520\, United States
ATTACH;FMTTYPE=image/jpeg:https://www.bsator.com/wp-content/uploads/2019/12/56387477_2121982544536598_5498356564710391808_o.jpg
ORGANIZER;CN="Dylan Hiser":MAILTO:dchiser@gmail.com
END:VEVENT
BEGIN:VEVENT
DTSTART;TZID=UTC:20190329T180000
DTEND;TZID=UTC:20190330T170000
DTSTAMP:20260423T185532
CREATED:20190124T222927Z
LAST-MODIFIED:20200221T080359Z
UID:10000284-1553882400-1553965200@www.bsator.com
SUMMARY:Golden Sun Lodge Trade-O-Ree - State: Nebraska
DESCRIPTION:Date: March 29-30\, 2019 \nAddress:\nOutdoor Education Center\n600 S 120th St\nLincoln\, NE 68520 \nTimes:\nFriday: 6pm – 10pm\nSaturday: 8am – 5pm \nContact 1: Jacob Rushman\nEmail: jjrushman@yahoo.com\nPhone: (402) 326-6282 \nContact 2: Kevin Potter\nEmail: scouterdad492@gmail.com\nPhone: (402) 525-6766 \n\n    Download the PDF file .
URL:https://www.bsator.com/event/golden-sun-lodge-trade-o-ree-state-nebraska/
LOCATION:Cornhusker Council – Outdoor Education Center\, 600 S 120th St\, Lincoln\, NE\, 68520\, United States
ATTACH;FMTTYPE=image/jpeg:https://www.bsator.com/wp-content/uploads/2019/12/56387477_2121982544536598_5498356564710391808_o.jpg
ORGANIZER;CN="Jacob Rushman":MAILTO:jjrushman@yahoo.com
END:VEVENT
END:VCALENDAR