BEGIN:VCALENDAR
VERSION:2.0
PRODID:-//Boy Scout Trade-O-Ree Calendar - ECPv6.15.20//NONSGML v1.0//EN
CALSCALE:GREGORIAN
METHOD:PUBLISH
X-ORIGINAL-URL:https://www.bsator.com
X-WR-CALDESC:Events for Boy Scout Trade-O-Ree Calendar
REFRESH-INTERVAL;VALUE=DURATION:PT1H
X-Robots-Tag:noindex
X-PUBLISHED-TTL:PT1H
BEGIN:VTIMEZONE
TZID:UTC
BEGIN:STANDARD
TZOFFSETFROM:+0000
TZOFFSETTO:+0000
TZNAME:UTC
DTSTART:20150101T000000
END:STANDARD
END:VTIMEZONE
BEGIN:VEVENT
DTSTART;TZID=UTC:20160917T080000
DTEND;TZID=UTC:20160917T150000
DTSTAMP:20260423T174255
CREATED:20160601T094800Z
LAST-MODIFIED:20160829T211124Z
UID:10000066-1474099200-1474124400@www.bsator.com
SUMMARY:Unami Lodge Trade-O-Ree - State: Pennsylvania
DESCRIPTION:Date: September 17\, 2016 \nAddress:\nPA National Guard Armory\n1046 Belvoir Rd\nPymouth Meeting\, PA 19462 \nTimes:\nSaturday: 8am – 3pm (Vendor Setup: 7am – 8am) \nContact 1: Frank Barger\nEmail: frankbarger@yahoo.com\nPhone: (215) 620-5038 \nFlyer: Click Here\n\nRegister Now \n\n    Download the PDF file .
URL:https://www.bsator.com/event/unami-lodge-trade-o-ree-state-pennsylvania/
LOCATION:PA National Guard Armory\, 1046 Belvoir Rd\, Pymouth Meeting\, PA 19462
ATTACH;FMTTYPE=image/jpeg:https://www.bsator.com/wp-content/uploads/2016/06/10644505_10204174346672959_7836110191833246650_o.jpg.opt430x322o00s430x322.jpg
ORGANIZER;CN="Frank Barger":MAILTO:frankbarger@yahoo.com
GEO:40.1118076;-75.3093646
X-APPLE-STRUCTURED-LOCATION;VALUE=URI;X-ADDRESS=PA National Guard Armory 1046 Belvoir Rd Pymouth Meeting PA 19462;X-APPLE-RADIUS=500;X-TITLE=1046 Belvoir Rd:geo:-75.3093646,40.1118076
END:VEVENT
END:VCALENDAR