BEGIN:VCALENDAR
VERSION:2.0
PRODID:-//Boy Scout Trade-O-Ree Calendar - ECPv6.15.20//NONSGML v1.0//EN
CALSCALE:GREGORIAN
METHOD:PUBLISH
X-ORIGINAL-URL:https://www.bsator.com
X-WR-CALDESC:Events for Boy Scout Trade-O-Ree Calendar
REFRESH-INTERVAL;VALUE=DURATION:PT1H
X-Robots-Tag:noindex
X-PUBLISHED-TTL:PT1H
BEGIN:VTIMEZONE
TZID:UTC
BEGIN:STANDARD
TZOFFSETFROM:+0000
TZOFFSETTO:+0000
TZNAME:UTC
DTSTART:20150101T000000
END:STANDARD
END:VTIMEZONE
BEGIN:VEVENT
DTSTART;TZID=UTC:20251107T170000
DTEND;TZID=UTC:20251108T150000
DTSTAMP:20260423T160941
CREATED:20241220T004217Z
LAST-MODIFIED:20241220T004250Z
UID:10000560-1762534800-1762614000@www.bsator.com
SUMMARY:2025 Northern California Trade-O-Ree & Memorabilia Auction - State: California
DESCRIPTION:Date: November 7-8\, 2025 \nAddress:\nPalo Alto Service Center\n1305 Middlefield Road\nPalo Alto\, CA 94303 \nTimes:\nFriday: 5pm – 9:30pm\nSaturday: 8:30am – 3pm \nContact: David Miura\nEmail: TOR@ohlone63.org\nPhone: (510) 541-8017 \n\nRegister Now\n\n \nTrade-O-Ree Flyer\n\n\n    Download the PDF file .
URL:https://www.bsator.com/event/2025-northern-california-trade-o-ree-memorabilia-auction-state-california/
LOCATION:Palo Alto Service Center\, 1305 Middlefield Road\, Palo Alto\, CA\, 94303\, United States
ATTACH;FMTTYPE=image/jpeg:https://www.bsator.com/wp-content/uploads/2016/06/12052639_10205296876809940_4021707816250912394_o.jpg.opt430x287o00s430x287.jpg
ORGANIZER;CN="David Miura":MAILTO:TOR@ohlone63.org
GEO:37.4445335;-122.1455875
X-APPLE-STRUCTURED-LOCATION;VALUE=URI;X-ADDRESS=Palo Alto Service Center 1305 Middlefield Road Palo Alto CA 94303 United States;X-APPLE-RADIUS=500;X-TITLE=1305 Middlefield Road:geo:-122.1455875,37.4445335
END:VEVENT
BEGIN:VEVENT
DTSTART;TZID=UTC:20241108T170000
DTEND;TZID=UTC:20241109T150000
DTSTAMP:20260423T160941
CREATED:20240707T170329Z
LAST-MODIFIED:20240917T173418Z
UID:10000533-1731085200-1731164400@www.bsator.com
SUMMARY:2024 Northern California Trade-O-Ree & Memorabilia Auction - State: California
DESCRIPTION:Date: November 8-9\, 2024 \nAddress:\nPalo Alto Service Center\n1305 Middlefield Road\nPalo Alto\, CA 94303 \nTimes:\nFriday: 5pm – 9:30pm\nSaturday: 8:30am – 3pm \nContact: David Miura\nEmail: TOR@ohlone63.org\nPhone: (510) 541-8017 \n\nRegister Now\n\n \nTrade-O-Ree Flyer
URL:https://www.bsator.com/event/2024-pacific-skyline-council-trade-o-ree-memorabilia-auction-state-california/
LOCATION:Palo Alto Service Center\, 1305 Middlefield Road\, Palo Alto\, CA\, 94303\, United States
ATTACH;FMTTYPE=image/jpeg:https://www.bsator.com/wp-content/uploads/2016/06/12052639_10205296876809940_4021707816250912394_o.jpg.opt430x287o00s430x287.jpg
ORGANIZER;CN="David Miura":MAILTO:TOR@ohlone63.org
GEO:37.4445335;-122.1455875
X-APPLE-STRUCTURED-LOCATION;VALUE=URI;X-ADDRESS=Palo Alto Service Center 1305 Middlefield Road Palo Alto CA 94303 United States;X-APPLE-RADIUS=500;X-TITLE=1305 Middlefield Road:geo:-122.1455875,37.4445335
END:VEVENT
BEGIN:VEVENT
DTSTART;TZID=UTC:20231110T170000
DTEND;TZID=UTC:20231111T150000
DTSTAMP:20260423T160941
CREATED:20230824T200247Z
LAST-MODIFIED:20230824T201648Z
UID:10000289-1699635600-1699714800@www.bsator.com
SUMMARY:2023 Northern California Trade-O-Ree & Memorabilia Auction - State: California
DESCRIPTION:Date: November 10-11\, 2023 \nAddress:\nPalo Alto Service Center\n1305 Middlefield Road\nPalo Alto\, CA 94303 \nTimes:\nFriday: 5pm – 9:30pm\nSaturday: 8:30am – 3pm \nContact 1: David Miura\nEmail: TOR@ohlone63.org\nPhone: (415) 235-4462 \n\nRegister Now\n\n \nTrade-O-Ree Flyer\n\n\n    Download the PDF file .
URL:https://www.bsator.com/event/2023-northern-california-trade-o-ree-memorabilia-auction-state-california/
LOCATION:Palo Alto Service Center\, 1305 Middlefield Road\, Palo Alto\, CA\, 94303\, United States
ATTACH;FMTTYPE=image/jpeg:https://www.bsator.com/wp-content/uploads/2016/06/12052639_10205296876809940_4021707816250912394_o.jpg.opt430x287o00s430x287.jpg
ORGANIZER;CN="David Miura":MAILTO:TOR@ohlone63.org
GEO:37.4445335;-122.1455875
X-APPLE-STRUCTURED-LOCATION;VALUE=URI;X-ADDRESS=Palo Alto Service Center 1305 Middlefield Road Palo Alto CA 94303 United States;X-APPLE-RADIUS=500;X-TITLE=1305 Middlefield Road:geo:-122.1455875,37.4445335
END:VEVENT
BEGIN:VEVENT
DTSTART;TZID=UTC:20221111T170000
DTEND;TZID=UTC:20221112T150000
DTSTAMP:20260423T160941
CREATED:20211210T040236Z
LAST-MODIFIED:20220908T235943Z
UID:10000417-1668186000-1668265200@www.bsator.com
SUMMARY:2022 Northern California Trade-O-Ree & Memorabilia Auction - State: California
DESCRIPTION:Date: November 11-12\, 2022 \nAddress:\nPalo Alto Service Center\n1305 Middlefield Road\nPalo Alto\, CA 94303 \nTimes:\nFriday: 5pm – 9:30pm\nSaturday: 8:30am – 3pm \nContact 1: David Miura\nEmail: TOR@ohlone63.org\nPhone: (415) 235-4462 \n\nRegister Now\n\n \nTrade-O-Ree Flyer\n\n\n    Download the PDF file .
URL:https://www.bsator.com/event/2022-northern-california-trade-o-ree-memorabilia-auction-state-california/
LOCATION:Palo Alto Service Center\, 1305 Middlefield Road\, Palo Alto\, CA\, 94303\, United States
ATTACH;FMTTYPE=image/jpeg:https://www.bsator.com/wp-content/uploads/2016/06/12052639_10205296876809940_4021707816250912394_o.jpg.opt430x287o00s430x287.jpg
ORGANIZER;CN="David Miura":MAILTO:TOR@ohlone63.org
GEO:37.4445335;-122.1455875
X-APPLE-STRUCTURED-LOCATION;VALUE=URI;X-ADDRESS=Palo Alto Service Center 1305 Middlefield Road Palo Alto CA 94303 United States;X-APPLE-RADIUS=500;X-TITLE=1305 Middlefield Road:geo:-122.1455875,37.4445335
END:VEVENT
BEGIN:VEVENT
DTSTART;TZID=UTC:20211112T170000
DTEND;TZID=UTC:20211113T150000
DTSTAMP:20260423T160941
CREATED:20210731T031421Z
LAST-MODIFIED:20211210T044548Z
UID:10000201-1636736400-1636815600@www.bsator.com
SUMMARY:2021 Northern California Trade-O-Ree & Memorabilia Auction - State: California
DESCRIPTION:Date: November 12-13\, 2021 \nAddress:\nPalo Alto Service Center\n1305 Middlefield Road\nPalo Alto\, CA 94303 \nTimes:\nFriday: 5pm – 9:30pm\nSaturday: 8:30am – 3pm \nContact 1: David Miura\nEmail: TOR@ohlone63.org\nPhone: (415) 235-4462 \n\nRegister Now\n\n \nTrade-O-Ree Flyer\n\n\n    Download the PDF file .
URL:https://www.bsator.com/event/2021-northern-california-trade-o-ree-memorabilia-auction-state-california/
LOCATION:Palo Alto Service Center\, 1305 Middlefield Road\, Palo Alto\, CA\, 94303\, United States
ATTACH;FMTTYPE=image/jpeg:https://www.bsator.com/wp-content/uploads/2016/06/12052639_10205296876809940_4021707816250912394_o.jpg.opt430x287o00s430x287.jpg
ORGANIZER;CN="David Miura":MAILTO:TOR@ohlone63.org
GEO:37.4445335;-122.1455875
X-APPLE-STRUCTURED-LOCATION;VALUE=URI;X-ADDRESS=Palo Alto Service Center 1305 Middlefield Road Palo Alto CA 94303 United States;X-APPLE-RADIUS=500;X-TITLE=1305 Middlefield Road:geo:-122.1455875,37.4445335
END:VEVENT
BEGIN:VEVENT
DTSTART;TZID=UTC:20201113T170000
DTEND;TZID=UTC:20201114T150000
DTSTAMP:20260423T160941
CREATED:20200329T081536Z
LAST-MODIFIED:20200908T133611Z
UID:10000346-1605286800-1605366000@www.bsator.com
SUMMARY:CANCELED: 2020 Northern California Trade-O-Ree & Memorabilia Auction - State: California
DESCRIPTION:THIS EVENT HAS BEEN CANCELEDDUE TO THE CORONAVIRUS\n \n \nDate: November 13-14\, 2020 \nAddress:\nPalo Alto Service Center\n1305 Middlefield Road\nPalo Alto\, CA 94303 \nTimes:\nFriday: 5pm – 9:30pm\nSaturday: 8:30am – 3pm \nContact 1: David Miura\nEmail: TOR@ohlone63.org\nPhone: (415) 235-4462 \n\nRegister Now\n\n\n    Download the PDF file .
URL:https://www.bsator.com/event/2020-northern-california-trade-o-ree-memorabilia-auction-state-california/
LOCATION:Palo Alto Service Center\, 1305 Middlefield Road\, Palo Alto\, CA\, 94303\, United States
ATTACH;FMTTYPE=image/jpeg:https://www.bsator.com/wp-content/uploads/2016/06/12052639_10205296876809940_4021707816250912394_o.jpg.opt430x287o00s430x287.jpg
ORGANIZER;CN="David Miura":MAILTO:TOR@ohlone63.org
GEO:37.4445335;-122.1455875
X-APPLE-STRUCTURED-LOCATION;VALUE=URI;X-ADDRESS=Palo Alto Service Center 1305 Middlefield Road Palo Alto CA 94303 United States;X-APPLE-RADIUS=500;X-TITLE=1305 Middlefield Road:geo:-122.1455875,37.4445335
END:VEVENT
BEGIN:VEVENT
DTSTART;TZID=UTC:20191108T170000
DTEND;TZID=UTC:20191109T150000
DTSTAMP:20260423T160941
CREATED:20190405T125746Z
LAST-MODIFIED:20190823T041819Z
UID:10000300-1573232400-1573311600@www.bsator.com
SUMMARY:2019 Northern California Trade-O-Ree & Memorabilia Auction - State: California
DESCRIPTION:Date: November 8-9\, 2019 \nAddress:\nPalo Alto Service Center\n1305 Middlefield Road\nPalo Alto\, CA 94303 \nTimes:\nFriday: 5pm – 9:30pm\nSaturday: 9am – 3pm \nContact 1: David Miura\nEmail: TOR@ohlone63.org\nPhone: (415) 235-4462 \n\nRegister Now\n\n\n    Download the PDF file .
URL:https://www.bsator.com/event/2019-northern-california-trade-o-ree-memorabilia-auction-state-california/
LOCATION:Palo Alto Service Center\, 1305 Middlefield Road\, Palo Alto\, CA\, 94303\, United States
ATTACH;FMTTYPE=image/jpeg:https://www.bsator.com/wp-content/uploads/2016/06/12052639_10205296876809940_4021707816250912394_o.jpg.opt430x287o00s430x287.jpg
ORGANIZER;CN="David Miura":MAILTO:TOR@ohlone63.org
GEO:37.4445335;-122.1455875
X-APPLE-STRUCTURED-LOCATION;VALUE=URI;X-ADDRESS=Palo Alto Service Center 1305 Middlefield Road Palo Alto CA 94303 United States;X-APPLE-RADIUS=500;X-TITLE=1305 Middlefield Road:geo:-122.1455875,37.4445335
END:VEVENT
BEGIN:VEVENT
DTSTART;TZID=UTC:20181109T170000
DTEND;TZID=UTC:20181110T150000
DTSTAMP:20260423T160941
CREATED:20180105T063836Z
LAST-MODIFIED:20180703T071010Z
UID:10000219-1541782800-1541862000@www.bsator.com
SUMMARY:2018 Northern California Trade-O-Ree & Memorabilia Auction - State: California
DESCRIPTION:Date: November 9-10\, 2018 \nAddress:\nPalo Alto Service Center\n1305 Middlefield Road\nPalo Alto\, CA 94303 \nTimes:\nFriday: 5pm – 9:30pm\nSaturday: 9am – 3pm \nContact 1: David Miura\nEmail: TOR@ohlone63.org\nPhone: (415) 235-4462 \nRegister Now\n\n    Download the PDF file .
URL:https://www.bsator.com/event/2018-northern-california-trade-o-ree-memorabilia-auction-state-california/
LOCATION:Palo Alto Service Center\, 1305 Middlefield Road\, Palo Alto\, CA\, 94303\, United States
ATTACH;FMTTYPE=image/jpeg:https://www.bsator.com/wp-content/uploads/2016/06/12052639_10205296876809940_4021707816250912394_o.jpg.opt430x287o00s430x287.jpg
ORGANIZER;CN="David Miura":MAILTO:TOR@ohlone63.org
GEO:37.4445335;-122.1455875
X-APPLE-STRUCTURED-LOCATION;VALUE=URI;X-ADDRESS=Palo Alto Service Center 1305 Middlefield Road Palo Alto CA 94303 United States;X-APPLE-RADIUS=500;X-TITLE=1305 Middlefield Road:geo:-122.1455875,37.4445335
END:VEVENT
BEGIN:VEVENT
DTSTART;TZID=UTC:20171110T170000
DTEND;TZID=UTC:20171111T150000
DTSTAMP:20260423T160941
CREATED:20161118T093723Z
LAST-MODIFIED:20170616T054705Z
UID:10000014-1510333200-1510412400@www.bsator.com
SUMMARY:Northern California Trade-O-Ree & Memorabilia Auction - State: California
DESCRIPTION:Date: November 10-11\, 2017 \nAddress:\nPalo Alto Service Center\n1305 Middlefield Road\nPalo Alto\, CA 94303 \nTimes:\nFriday: 5pm – 9:30pm\nSaturday: 9am – 3pm \nContact 1: David Miura\nEmail: TOR@ohlone63.org\nPhone: (415) 235-4462 \nRegister Now\n\n    Download the PDF file .
URL:https://www.bsator.com/event/northern-california-trade-o-ree-memorabilia-auction-state-california-2/
LOCATION:Palo Alto Service Center\, 1305 Middlefield Road\, Palo Alto\, CA\, 94303\, United States
ATTACH;FMTTYPE=image/jpeg:https://www.bsator.com/wp-content/uploads/2016/06/12052639_10205296876809940_4021707816250912394_o.jpg.opt430x287o00s430x287.jpg
ORGANIZER;CN="David Miura":MAILTO:TOR@ohlone63.org
GEO:37.4445335;-122.1455875
X-APPLE-STRUCTURED-LOCATION;VALUE=URI;X-ADDRESS=Palo Alto Service Center 1305 Middlefield Road Palo Alto CA 94303 United States;X-APPLE-RADIUS=500;X-TITLE=1305 Middlefield Road:geo:-122.1455875,37.4445335
END:VEVENT
BEGIN:VEVENT
DTSTART;TZID=UTC:20161111T170000
DTEND;TZID=UTC:20161112T150000
DTSTAMP:20260423T160941
CREATED:20160601T112145Z
LAST-MODIFIED:20160829T213103Z
UID:10000042-1478883600-1478962800@www.bsator.com
SUMMARY:Northern California Trade-O-Ree & Memorabilia Auction - State: California
DESCRIPTION:Date: November 11-12\, 2016 \nAddress:\nPalo Alto Service Center\n1305 Middlefield Road\nPalo Alto\, CA 94303 \nTimes:\nFriday: 5pm – 9:30pm\nSaturday: 9am – 3pm \nContact 1: David Miura\nEmail: TOR@ohlone63.org\nPhone: (415) 235-4462 \nFlyer: Click Here\n\nRegister Now \n\n    Download the PDF file .
URL:https://www.bsator.com/event/northern-california-trade-o-ree-memorabilia-auction-state-california/
LOCATION:Palo Alto Service Center\, 1305 Middlefield Road\, Palo Alto\, CA\, 94303\, United States
ATTACH;FMTTYPE=image/jpeg:https://www.bsator.com/wp-content/uploads/2016/06/12052639_10205296876809940_4021707816250912394_o.jpg.opt430x287o00s430x287.jpg
ORGANIZER;CN="David Miura":MAILTO:TOR@ohlone63.org
GEO:37.4445335;-122.1455875
X-APPLE-STRUCTURED-LOCATION;VALUE=URI;X-ADDRESS=Palo Alto Service Center 1305 Middlefield Road Palo Alto CA 94303 United States;X-APPLE-RADIUS=500;X-TITLE=1305 Middlefield Road:geo:-122.1455875,37.4445335
END:VEVENT
END:VCALENDAR