BEGIN:VCALENDAR
VERSION:2.0
PRODID:-//Boy Scout Trade-O-Ree Calendar - ECPv6.15.20//NONSGML v1.0//EN
CALSCALE:GREGORIAN
METHOD:PUBLISH
X-WR-CALNAME:Boy Scout Trade-O-Ree Calendar
X-ORIGINAL-URL:https://www.bsator.com
X-WR-CALDESC:Events for Boy Scout Trade-O-Ree Calendar
REFRESH-INTERVAL;VALUE=DURATION:PT1H
X-Robots-Tag:noindex
X-PUBLISHED-TTL:PT1H
BEGIN:VTIMEZONE
TZID:UTC
BEGIN:STANDARD
TZOFFSETFROM:+0000
TZOFFSETTO:+0000
TZNAME:UTC
DTSTART:20150101T000000
END:STANDARD
END:VTIMEZONE
BEGIN:VEVENT
DTSTART;TZID=UTC:20160916T180000
DTEND;TZID=UTC:20160917T140000
DTSTAMP:20260423T191407
CREATED:20160601T094621Z
LAST-MODIFIED:20160829T211103Z
UID:10000065-1474048800-1474120800@www.bsator.com
SUMMARY:Grand Teton Council Trade-O-Ree - State: Idaho
DESCRIPTION:Date: September 16-17\, 2016 \nAddress:\nPocatello National Guard Armory\n10714 Fairgrounds Road\nPocatello\, ID 83202 \nTimes:\nFriday: 6pm – 11pm\nSaturday: 9am – 2pm \nContact 1: Michael Vangelov\nEmail: michael.vangelov@scouting.org\nPhone: (208) 522-5155 \nFlyer: Click Here\n\nRegister Now \n\n    Download the PDF file .
URL:https://www.bsator.com/event/grand-teton-council-trade-o-ree-state-idaho/
LOCATION:Pocatello National Guard Armory\, 10714 Fairgrounds Road\, Pocatello\, ID 83202
ATTACH;FMTTYPE=image/jpeg:https://www.bsator.com/wp-content/uploads/2016/06/15087-2008-vacation-001.jpg.opt430x322o00s430x322.jpg
ORGANIZER;CN="Michael Vangelov":MAILTO:michael.vangelov@scouting.org
GEO:42.914518;-112.435842
X-APPLE-STRUCTURED-LOCATION;VALUE=URI;X-ADDRESS=Pocatello National Guard Armory 10714 Fairgrounds Road Pocatello ID 83202;X-APPLE-RADIUS=500;X-TITLE=10714 Fairgrounds Road:geo:-112.435842,42.914518
END:VEVENT
END:VCALENDAR