BEGIN:VCALENDAR
VERSION:2.0
PRODID:-//Boy Scout Trade-O-Ree Calendar - ECPv6.15.20//NONSGML v1.0//EN
CALSCALE:GREGORIAN
METHOD:PUBLISH
X-WR-CALNAME:Boy Scout Trade-O-Ree Calendar
X-ORIGINAL-URL:https://www.bsator.com
X-WR-CALDESC:Events for Boy Scout Trade-O-Ree Calendar
REFRESH-INTERVAL;VALUE=DURATION:PT1H
X-Robots-Tag:noindex
X-PUBLISHED-TTL:PT1H
BEGIN:VTIMEZONE
TZID:UTC
BEGIN:STANDARD
TZOFFSETFROM:+0000
TZOFFSETTO:+0000
TZNAME:UTC
DTSTART:20160101T000000
END:STANDARD
END:VTIMEZONE
BEGIN:VEVENT
DTSTART;TZID=UTC:20170428T160000
DTEND;TZID=UTC:20170429T140000
DTSTAMP:20260423T200648
CREATED:20170206T200859Z
LAST-MODIFIED:20170206T201719Z
UID:10000158-1493395200-1493474400@www.bsator.com
SUMMARY:The Denis Charbonneau Memorial Swap Meet & Auction
DESCRIPTION:Date: April 28-29\, 2017 \nAddress:\nQuality Suites Point Claire\n6300 Autoroute Transcanadienne\nPoint Claire\, Quebec. H9R 1B9 \nTimes:\nFriday: 4pm – ?\nSaturday: 9am – ? \nContact 1: Mike Assef\nEmail: massef@mnsi.net\nPhone: ? \n\n    Download the PDF file .
URL:https://www.bsator.com/event/the-denis-charbonneau-memorial-swap-meet-auction/
LOCATION:Quality Suites Point Claire\, 6300 Autoroute Transcanadienne\, Point Claire\, Quebec\, H9R 1B9\, Canada
ATTACH;FMTTYPE=image/jpeg:https://www.bsator.com/wp-content/uploads/2016/06/SWAPSHOP_zpsd7821994-4-1.jpg.opt430x360o00s430x360-4-1.jpg
ORGANIZER;CN="Mike Assef":MAILTO:massef@mnsi.net
GEO:45.4649061;-73.8217649
X-APPLE-STRUCTURED-LOCATION;VALUE=URI;X-ADDRESS=Quality Suites Point Claire 6300 Autoroute Transcanadienne Point Claire Quebec H9R 1B9 Canada;X-APPLE-RADIUS=500;X-TITLE=6300 Autoroute Transcanadienne:geo:-73.8217649,45.4649061
END:VEVENT
END:VCALENDAR