BEGIN:VCALENDAR
VERSION:2.0
PRODID:-//Boy Scout Trade-O-Ree Calendar - ECPv6.15.20//NONSGML v1.0//EN
CALSCALE:GREGORIAN
METHOD:PUBLISH
X-ORIGINAL-URL:https://www.bsator.com
X-WR-CALDESC:Events for Boy Scout Trade-O-Ree Calendar
REFRESH-INTERVAL;VALUE=DURATION:PT1H
X-Robots-Tag:noindex
X-PUBLISHED-TTL:PT1H
BEGIN:VTIMEZONE
TZID:UTC
BEGIN:STANDARD
TZOFFSETFROM:+0000
TZOFFSETTO:+0000
TZNAME:UTC
DTSTART:20200101T000000
END:STANDARD
END:VTIMEZONE
BEGIN:VEVENT
DTSTART;TZID=UTC:20260411T090000
DTEND;TZID=UTC:20260411T190000
DTSTAMP:20260423T170408
CREATED:20260116T174626Z
LAST-MODIFIED:20260116T174626Z
UID:10000616-1775898000-1775934000@www.bsator.com
SUMMARY:33rd Annual Old Hickory Trade-O-Ree - State: North Carolina
DESCRIPTION:Date: April 11\, 2026 \nAddress:\nRaven Knob Scout Reservation\n266 Raven Knob Road\nMount Airy\, NC 27030 \nTimes:\nSaturday: 9am – 7pm \nContact: Matt White\nEmail: mbwhite118@aol.com\nPhone: (336) 399-6041 \nRegister Now\n\n \nTrade-O-Ree Flyer\n\n\n    Download the PDF file .
URL:https://www.bsator.com/event/33rd-annual-old-hickory-trade-o-ree-state-north-carolina/
LOCATION:Raven Knob Scout Reservation\, 266 Raven Knob Road\, Mount Airy\, NC\, 27030\, United States
ATTACH;FMTTYPE=image/jpeg:https://www.bsator.com/wp-content/uploads/2016/12/15338742_10102526705973068_7762759780516699252.jpg
ORGANIZER;CN="Matt White":MAILTO:mbwhite118@aol.com
END:VEVENT
BEGIN:VEVENT
DTSTART;TZID=UTC:20260314T130000
DTEND;TZID=UTC:20260314T160000
DTSTAMP:20260423T170408
CREATED:20260111T055231Z
LAST-MODIFIED:20260116T173508Z
UID:10000614-1773493200-1773504000@www.bsator.com
SUMMARY:Patch Festival (Old Hickory Council) - State: North Carolina
DESCRIPTION:Date: March 14\, 2026 \nAddress:\nRaven Knob Scout Reservation (Program Center)\n266 Raven Knob Road\nMount Airy\, NC 27030 \nTimes:\nSaturday: 1pm – 4pm \n\nWe are inviting anyone that would like to attend Wahissa Lodge 118’s Winter Fellowship where we will be hosting a Patch Festival including a Trade-O-Ree and Patch Auction on Saturday\, March the 14th. It will be at Camp Raven Knob in our Program Center. We hope to see many of you there! \nContact: Carter Hull\nEmail:\nPhone:  \n\n \nTrade-O-Ree Flyer
URL:https://www.bsator.com/event/old-hickory-council-trade-o-ree-state-north-carolina/
LOCATION:Raven Knob Scout Reservation\, 266 Raven Knob Road\, Mount Airy\, NC\, 27030\, United States
ATTACH;FMTTYPE=image/jpeg:https://www.bsator.com/wp-content/uploads/2026/01/615471842_892962460094228_3749274189182821973_n.jpg
END:VEVENT
BEGIN:VEVENT
DTSTART;TZID=UTC:20211030T090000
DTEND;TZID=UTC:20211030T170000
DTSTAMP:20260423T170408
CREATED:20210909T032207Z
LAST-MODIFIED:20211210T044641Z
UID:10000208-1635584400-1635613200@www.bsator.com
SUMMARY:28th Annual Old Hickory Trade-O-Ree - State: North Carolina
DESCRIPTION:Date: October 30\, 2021 \nAddress:\nRaven Knob Scout Reservation (Vaughn Dining Hall)\n266 Raven Knob Road\nMount Airy\, NC 27030 \nTimes:\nSaturday: 9am – 5pm \nContact: Matt White\nEmail: mbwhite118@aol.com\nPhone: (336) 399-6041 \nRegister Now\n\n \nTrade-O-Ree Flyer\n\n\n    Download the PDF file .
URL:https://www.bsator.com/event/28th-annual-old-hickory-trade-o-ree-state-north-carolina/
LOCATION:Raven Knob Scout Reservation\, 266 Raven Knob Road\, Mount Airy\, NC\, 27030\, United States
ATTACH;FMTTYPE=image/jpeg:https://www.bsator.com/wp-content/uploads/2016/12/15338742_10102526705973068_7762759780516699252.jpg
ORGANIZER;CN="Matt White":MAILTO:mbwhite118@aol.com
END:VEVENT
END:VCALENDAR