BEGIN:VCALENDAR
VERSION:2.0
PRODID:-//Boy Scout Trade-O-Ree Calendar - ECPv6.15.20//NONSGML v1.0//EN
CALSCALE:GREGORIAN
METHOD:PUBLISH
X-WR-CALNAME:Boy Scout Trade-O-Ree Calendar
X-ORIGINAL-URL:https://www.bsator.com
X-WR-CALDESC:Events for Boy Scout Trade-O-Ree Calendar
REFRESH-INTERVAL;VALUE=DURATION:PT1H
X-Robots-Tag:noindex
X-PUBLISHED-TTL:PT1H
BEGIN:VTIMEZONE
TZID:UTC
BEGIN:STANDARD
TZOFFSETFROM:+0000
TZOFFSETTO:+0000
TZNAME:UTC
DTSTART:20160101T000000
END:STANDARD
END:VTIMEZONE
BEGIN:VEVENT
DTSTART;TZID=UTC:20180309T180000
DTEND;TZID=UTC:20180310T140000
DTSTAMP:20260423T213349
CREATED:20180105T061424Z
LAST-MODIFIED:20180105T061604Z
UID:10000218-1520618400-1520690400@www.bsator.com
SUMMARY:2018 Eastern Ontario March Break Trade-O-Ree
DESCRIPTION:Date: March 9-10\, 2018 \nAddress:\nScouts Canada Headquarters\n1385 Baseline Rd.\nOttawa\, ON K1A 0C5 \nTimes:\nFriday: 6pm – 9pm\nSaturday: 9am – 2pm \nContact 1: Marc Couturier\nEmail: ottawa.patch.trader@gmail.com \nContact 2: Ursula Rowher-Page\nEmail: urs_page@hotmail.com \n\n    Download the PDF file .
URL:https://www.bsator.com/event/2018-eastern-ontario-march-break-trade-o-ree/
LOCATION:Scouts Canada Headquarters\, 1385 Baseline Rd.\, Ottawa\, Ontario\, K1A 0C5\, Canada
ATTACH;FMTTYPE=image/jpeg:https://www.bsator.com/wp-content/uploads/2017/02/16462966_10154903857542429_4254446891381154404_o.jpg
ORGANIZER;CN="Marc Couturier":MAILTO:ottawa.patch.trader@gmail.com
GEO:45.3624378;-75.7381692
X-APPLE-STRUCTURED-LOCATION;VALUE=URI;X-ADDRESS=Scouts Canada Headquarters 1385 Baseline Rd. Ottawa Ontario K1A 0C5 Canada;X-APPLE-RADIUS=500;X-TITLE=1385 Baseline Rd.:geo:-75.7381692,45.3624378
END:VEVENT
BEGIN:VEVENT
DTSTART;TZID=UTC:20170310T180000
DTEND;TZID=UTC:20170311T140000
DTSTAMP:20260423T213349
CREATED:20170206T195628Z
LAST-MODIFIED:20170206T202648Z
UID:10000156-1489168800-1489240800@www.bsator.com
SUMMARY:Eastern Ontario March Break Trade-o-ree
DESCRIPTION:Date: March 10-11\, 2017 \nAddress:\nScouts Canada Headquarters\n1385 Baseline Rd.\nOttawa\, ON K1A 0C5 \nTimes:\nFriday: 6pm – 9pm\nSaturday: 9am – 2pm \nContact 1: Joe Vautour\nFacebook Profile: https://www.facebook.com/joe.vautour\nPhone: ? \n\n    Download the PDF file .
URL:https://www.bsator.com/event/eastern-ontario-march-break-trade-o-ree/
LOCATION:Scouts Canada Headquarters\, 1385 Baseline Rd.\, Ottawa\, Ontario\, K1A 0C5\, Canada
ATTACH;FMTTYPE=image/jpeg:https://www.bsator.com/wp-content/uploads/2017/02/16462966_10154903857542429_4254446891381154404_o.jpg
GEO:45.3624378;-75.7381692
X-APPLE-STRUCTURED-LOCATION;VALUE=URI;X-ADDRESS=Scouts Canada Headquarters 1385 Baseline Rd. Ottawa Ontario K1A 0C5 Canada;X-APPLE-RADIUS=500;X-TITLE=1385 Baseline Rd.:geo:-75.7381692,45.3624378
END:VEVENT
END:VCALENDAR