BEGIN:VCALENDAR
VERSION:2.0
PRODID:-//Boy Scout Trade-O-Ree Calendar - ECPv6.15.20//NONSGML v1.0//EN
CALSCALE:GREGORIAN
METHOD:PUBLISH
X-ORIGINAL-URL:https://www.bsator.com
X-WR-CALDESC:Events for Boy Scout Trade-O-Ree Calendar
REFRESH-INTERVAL;VALUE=DURATION:PT1H
X-Robots-Tag:noindex
X-PUBLISHED-TTL:PT1H
BEGIN:VTIMEZONE
TZID:UTC
BEGIN:STANDARD
TZOFFSETFROM:+0000
TZOFFSETTO:+0000
TZNAME:UTC
DTSTART:20150101T000000
END:STANDARD
END:VTIMEZONE
BEGIN:VEVENT
DTSTART;TZID=UTC:20160610T080000
DTEND;TZID=UTC:20160611T170000
DTSTAMP:20260423T174225
CREATED:20160601T090614Z
LAST-MODIFIED:20160616T132218Z
UID:10000074-1465545600-1465664400@www.bsator.com
SUMMARY:Lone Star Trade-O-Ree State: Texas
DESCRIPTION:Date: June 10-11\, 2016 \nAddress:\nSt. Francis Church\n861 Wildwood Ln.\nGrapevine\, TX 76051 \nTimes:\nFriday: 12pm – 10pm\nSaturday: 9am – 2pm \nContact 1: John Ryan\nEmail: thetexaswebguy@yahoo.com\nPhone: (817) 571-4970 \nFlyer: Click Here\nMap View: Click Here\nWebsite: Click Here \n\n				\n				\n				\n				\n				Register now
URL:https://www.bsator.com/event/lone-star-trade-o-ree-state-texas/
LOCATION:St. Francis Church\, 861 Wildwood Ln.\, Grapevine\, TX 76051
ATTACH;FMTTYPE=image/jpeg:https://www.bsator.com/wp-content/uploads/2016/06/10352574_10203259826310058_578264230455256494_n.jpg.opt430x242o00s430x242.jpg
GEO:32.9479852;-97.069192
X-APPLE-STRUCTURED-LOCATION;VALUE=URI;X-ADDRESS=St. Francis Church 861 Wildwood Ln. Grapevine TX 76051;X-APPLE-RADIUS=500;X-TITLE=861 Wildwood Ln.:geo:-97.069192,32.9479852
END:VEVENT
END:VCALENDAR