BEGIN:VCALENDAR
VERSION:2.0
PRODID:-//Boy Scout Trade-O-Ree Calendar - ECPv6.15.20//NONSGML v1.0//EN
CALSCALE:GREGORIAN
METHOD:PUBLISH
X-WR-CALNAME:Boy Scout Trade-O-Ree Calendar
X-ORIGINAL-URL:https://www.bsator.com
X-WR-CALDESC:Events for Boy Scout Trade-O-Ree Calendar
REFRESH-INTERVAL;VALUE=DURATION:PT1H
X-Robots-Tag:noindex
X-PUBLISHED-TTL:PT1H
BEGIN:VTIMEZONE
TZID:UTC
BEGIN:STANDARD
TZOFFSETFROM:+0000
TZOFFSETTO:+0000
TZNAME:UTC
DTSTART:20160101T000000
END:STANDARD
END:VTIMEZONE
BEGIN:VEVENT
DTSTART;TZID=UTC:20260227T170000
DTEND;TZID=UTC:20260228T150000
DTSTAMP:20260423T173641
CREATED:20260111T164222Z
LAST-MODIFIED:20260111T165318Z
UID:10000615-1772211600-1772290800@www.bsator.com
SUMMARY:23rd Annual Twin Cities Area Trade-O-Ree – State: Minnesota
DESCRIPTION:Date: February 27-28\, 2026 \nAddress:\nSt. James Lutheran Church\n3650 Williams Drive\nBurnsville\, MN 55378 \nTimes:\nFriday: 5pm – 10pm\nSaturday: 8am – 3pm \nContact: Steve Young\nContact: Julie Young\nEmail: Steve276Young@gmail.com\nPhone: Steve: (651) 315-6113\, Julie: (651) 315-6030  \n \nTrade-O-Ree Flyer\n\n\n    Download the PDF file .
URL:https://www.bsator.com/event/23rd-annual-twin-cities-area-trade-o-ree-state-minnesota/
LOCATION:St. James Lutheran Church\, 3650 Williams Drive\, Burnsville\, MN\, 55378\, United States
ATTACH;FMTTYPE=image/jpeg:https://www.bsator.com/wp-content/uploads/2018/02/28164576_10212901276581636_2417367282102817170_o.jpg
ORGANIZER;CN="Steve and Julie Young":MAILTO:Steve276Young@gmail.com
GEO:44.768427;-93.3259728
X-APPLE-STRUCTURED-LOCATION;VALUE=URI;X-ADDRESS=St. James Lutheran Church 3650 Williams Drive Burnsville MN 55378 United States;X-APPLE-RADIUS=500;X-TITLE=3650 Williams Drive:geo:-93.3259728,44.768427
END:VEVENT
BEGIN:VEVENT
DTSTART;TZID=UTC:20250221T170000
DTEND;TZID=UTC:20250222T150000
DTSTAMP:20260423T173641
CREATED:20250114T164841Z
LAST-MODIFIED:20250114T164841Z
UID:10000358-1740157200-1740236400@www.bsator.com
SUMMARY:22nd Annual Twin Cities Area Trade-O-Ree – State: Minnesota
DESCRIPTION:Date: February 21-22\, 2025 \nAddress:\nSt. James Lutheran Church\n3650 Williams Drive\nBurnsville\, MN 55378 \nTimes:\nFriday: 5pm – 10pm\nSaturday: 8am – 3pm \nContact 1: Bob & Jan Hannah\nEmail: janhannah32@hotmail.com\nPhone: (952) 894-2720 \nRegister Now\n \nTrade-O-Ree Flyer\n\n\n    Download the PDF file .
URL:https://www.bsator.com/event/22nd-annual-twin-cities-area-trade-o-ree-state-minnesota/
LOCATION:St. James Lutheran Church\, 3650 Williams Drive\, Burnsville\, MN\, 55378\, United States
ATTACH;FMTTYPE=image/jpeg:https://www.bsator.com/wp-content/uploads/2018/02/28164576_10212901276581636_2417367282102817170_o.jpg
ORGANIZER;CN="Bob & Jan Hannah":MAILTO:proscout@hotmail.com
GEO:44.768427;-93.3259728
X-APPLE-STRUCTURED-LOCATION;VALUE=URI;X-ADDRESS=St. James Lutheran Church 3650 Williams Drive Burnsville MN 55378 United States;X-APPLE-RADIUS=500;X-TITLE=3650 Williams Drive:geo:-93.3259728,44.768427
END:VEVENT
BEGIN:VEVENT
DTSTART;TZID=UTC:20240223T170000
DTEND;TZID=UTC:20240224T150000
DTSTAMP:20260423T173641
CREATED:20231124T034728Z
LAST-MODIFIED:20231124T034908Z
UID:10000508-1708707600-1708786800@www.bsator.com
SUMMARY:21st Annual Twin Cities Area Trade-O-Ree – State: Minnesota
DESCRIPTION:Date: February 23-24\, 2024 \nAddress:\nSt. James Lutheran Church\n3650 Williams Drive\nBurnsville\, MN 55378 \nTimes:\nFriday: 5pm – 10pm\nSaturday: 8am – 3pm \nContact 1: Bob & Jan Hannah\nEmail: janhannah32@hotmail.com\nPhone: (952) 894-2720 \nRegister Now\n \nTrade-O-Ree Flyer\n\n\n    Download the PDF file .
URL:https://www.bsator.com/event/21st-annual-twin-cities-area-trade-o-ree-state-minnesota/
LOCATION:St. James Lutheran Church\, 3650 Williams Drive\, Burnsville\, MN\, 55378\, United States
ATTACH;FMTTYPE=image/jpeg:https://www.bsator.com/wp-content/uploads/2018/02/28164576_10212901276581636_2417367282102817170_o.jpg
ORGANIZER;CN="Bob & Jan Hannah":MAILTO:proscout@hotmail.com
GEO:44.768427;-93.3259728
X-APPLE-STRUCTURED-LOCATION;VALUE=URI;X-ADDRESS=St. James Lutheran Church 3650 Williams Drive Burnsville MN 55378 United States;X-APPLE-RADIUS=500;X-TITLE=3650 Williams Drive:geo:-93.3259728,44.768427
END:VEVENT
BEGIN:VEVENT
DTSTART;TZID=UTC:20230224T170000
DTEND;TZID=UTC:20230225T150000
DTSTAMP:20260423T173641
CREATED:20221229T175955Z
LAST-MODIFIED:20221229T180306Z
UID:10000471-1677258000-1677337200@www.bsator.com
SUMMARY:20th Annual Twin Cities Area Trade-O-Ree – State: Minnesota
DESCRIPTION:Date: February 24-25\, 2023 \nAddress:\nSt. James Lutheran Church\n3650 Williams Drive\nBurnsville\, MN 55378 \nTimes:\nFriday: 5pm – 10pm\nSaturday: 8am – 3pm \nContact 1: Bob & Jan Hannah\nEmail: janhannah32@hotmail.com\nPhone: (952) 894-2720 \nRegister Now\n \nTrade-O-Ree Flyer\n\n\n    Download the PDF file .
URL:https://www.bsator.com/event/20th-annual-twin-cities-area-trade-o-ree-state-minnesota/
LOCATION:St. James Lutheran Church\, 3650 Williams Drive\, Burnsville\, MN\, 55378\, United States
ATTACH;FMTTYPE=image/jpeg:https://www.bsator.com/wp-content/uploads/2018/02/28164576_10212901276581636_2417367282102817170_o.jpg
ORGANIZER;CN="Bob & Jan Hannah":MAILTO:proscout@hotmail.com
GEO:44.768427;-93.3259728
X-APPLE-STRUCTURED-LOCATION;VALUE=URI;X-ADDRESS=St. James Lutheran Church 3650 Williams Drive Burnsville MN 55378 United States;X-APPLE-RADIUS=500;X-TITLE=3650 Williams Drive:geo:-93.3259728,44.768427
END:VEVENT
BEGIN:VEVENT
DTSTART;TZID=UTC:20220225T170000
DTEND;TZID=UTC:20220226T160000
DTSTAMP:20260423T173641
CREATED:20220119T165444Z
LAST-MODIFIED:20220119T165444Z
UID:10000425-1645808400-1645891200@www.bsator.com
SUMMARY:CANCELED: Twin Cities Area Trade-O-Ree – State: Minnesota
DESCRIPTION:THIS EVENT HAS BEEN CANCELEDDUE TO THE COVID-19\n \n \nDate: February 25-26\, 2022 \nAddress:\nSt. James Lutheran Church\n3650 Williams Drive\nBurnsville\, MN 55378 \nTimes:\nFriday: 5pm – 8pm\nSaturday: 8:30am – 4pm \nContact 1: Bob & Jan Hannah\nEmail: janhannah32@hotmail.com\nPhone: (952) 894-2720 \nRegister Now
URL:https://www.bsator.com/event/canceled-twin-cities-area-trade-o-ree-state-minnesota/
LOCATION:St. James Lutheran Church\, 3650 Williams Drive\, Burnsville\, MN\, 55378\, United States
ATTACH;FMTTYPE=image/jpeg:https://www.bsator.com/wp-content/uploads/2018/02/28164576_10212901276581636_2417367282102817170_o.jpg
ORGANIZER;CN="Bob & Jan Hannah":MAILTO:proscout@hotmail.com
GEO:44.768427;-93.3259728
X-APPLE-STRUCTURED-LOCATION;VALUE=URI;X-ADDRESS=St. James Lutheran Church 3650 Williams Drive Burnsville MN 55378 United States;X-APPLE-RADIUS=500;X-TITLE=3650 Williams Drive:geo:-93.3259728,44.768427
END:VEVENT
BEGIN:VEVENT
DTSTART;TZID=UTC:20210226T170000
DTEND;TZID=UTC:20210227T160000
DTSTAMP:20260423T173641
CREATED:20210122T114342Z
LAST-MODIFIED:20210122T114542Z
UID:10000356-1614358800-1614441600@www.bsator.com
SUMMARY:CANCELED: 19th Annual Twin Cities Area Trade-O-Ree – State: Minnesota
DESCRIPTION:THIS EVENT HAS BEEN CANCELEDDUE TO THE CORONAVIRUS\n \n \nDate: February 26-27\, 2021 \nAddress:\nSt. James Lutheran Church\n3650 Williams Drive\nBurnsville\, MN 55378 \nTimes:\nFriday: 5pm – 8pm\nSaturday: 8:30am – 4pm \nContact 1: Bob & Jan Hannah\nEmail: janhannah32@hotmail.com\nPhone: (952) 894-2720 \nRegister Now
URL:https://www.bsator.com/event/canceled-19th-annual-twin-cities-area-trade-o-ree-state-minnesota/
LOCATION:St. James Lutheran Church\, 3650 Williams Drive\, Burnsville\, MN\, 55378\, United States
ATTACH;FMTTYPE=image/jpeg:https://www.bsator.com/wp-content/uploads/2018/02/28164576_10212901276581636_2417367282102817170_o.jpg
ORGANIZER;CN="Bob & Jan Hannah":MAILTO:proscout@hotmail.com
GEO:44.768427;-93.3259728
X-APPLE-STRUCTURED-LOCATION;VALUE=URI;X-ADDRESS=St. James Lutheran Church 3650 Williams Drive Burnsville MN 55378 United States;X-APPLE-RADIUS=500;X-TITLE=3650 Williams Drive:geo:-93.3259728,44.768427
END:VEVENT
BEGIN:VEVENT
DTSTART;TZID=UTC:20200228T170000
DTEND;TZID=UTC:20200229T160000
DTSTAMP:20260423T173641
CREATED:20190920T045824Z
LAST-MODIFIED:20190920T045824Z
UID:10000138-1582909200-1582992000@www.bsator.com
SUMMARY:18th Annual Twin Cities Area Trade-O-Ree - State: Minnesota
DESCRIPTION:Date: February 28-29\, 2020 \nAddress:\nSt. James Lutheran Church\n3650 Williams Drive\nBurnsville\, MN 55378 \nTimes:\nFriday: 5pm – 8pm\nSaturday: 8:30am – 4pm \nContact 1: Bob & Jan Hannah\nEmail: janhannah32@hotmail.com\nPhone: (952) 894-2720 \nRegister Now\n\n    Download the PDF file .
URL:https://www.bsator.com/event/18th-annual-twin-cities-area-trade-o-ree-state-minnesota/
LOCATION:St. James Lutheran Church\, 3650 Williams Drive\, Burnsville\, MN\, 55378\, United States
ATTACH;FMTTYPE=image/jpeg:https://www.bsator.com/wp-content/uploads/2018/02/28164576_10212901276581636_2417367282102817170_o.jpg
ORGANIZER;CN="Bob & Jan Hannah":MAILTO:proscout@hotmail.com
GEO:44.768427;-93.3259728
X-APPLE-STRUCTURED-LOCATION;VALUE=URI;X-ADDRESS=St. James Lutheran Church 3650 Williams Drive Burnsville MN 55378 United States;X-APPLE-RADIUS=500;X-TITLE=3650 Williams Drive:geo:-93.3259728,44.768427
END:VEVENT
BEGIN:VEVENT
DTSTART;TZID=UTC:20190222T170000
DTEND;TZID=UTC:20190223T160000
DTSTAMP:20260423T173641
CREATED:20181008T231657Z
LAST-MODIFIED:20181008T231657Z
UID:10000108-1550854800-1550937600@www.bsator.com
SUMMARY:17th Annual Twin Cities Area Trade-O-Ree - State: Minnesota
DESCRIPTION:Date: February 22-23\, 2019 \nAddress:\nSt. James Lutheran Church\n3650 Williams Drive\nBurnsville\, MN 55378 \nTimes:\nFriday: 5pm – 10pm\nSaturday: 8:30am – 4pm \nContact 1: Bob & Jan Hannah\nEmail: proscout@hotmail.com\nPhone: (952) 894-2720 \nRegister Now\n\n    Download the PDF file .
URL:https://www.bsator.com/event/17th-annual-twin-cities-area-trade-o-ree-state-minnesota/
LOCATION:St. James Lutheran Church\, 3650 Williams Drive\, Burnsville\, MN\, 55378\, United States
ATTACH;FMTTYPE=image/jpeg:https://www.bsator.com/wp-content/uploads/2018/02/28164576_10212901276581636_2417367282102817170_o.jpg
ORGANIZER;CN="Bob & Jan Hannah":MAILTO:proscout@hotmail.com
GEO:44.768427;-93.3259728
X-APPLE-STRUCTURED-LOCATION;VALUE=URI;X-ADDRESS=St. James Lutheran Church 3650 Williams Drive Burnsville MN 55378 United States;X-APPLE-RADIUS=500;X-TITLE=3650 Williams Drive:geo:-93.3259728,44.768427
END:VEVENT
BEGIN:VEVENT
DTSTART;TZID=UTC:20180223T170000
DTEND;TZID=UTC:20180224T160000
DTSTAMP:20260423T173641
CREATED:20171020T054342Z
LAST-MODIFIED:20180225T160753Z
UID:10000190-1519405200-1519488000@www.bsator.com
SUMMARY:16th Annual Twin Cities Area Trade-O-Ree - State: Minnesota
DESCRIPTION:Date: February 23-24\, 2018 \nAddress:\nSt. James Lutheran Church\n3650 Williams Drive\nBurnsville\, MN 55378 \nTimes:\nFriday: 5pm – 10pm\nSaturday: 8:30am – 4pm \nContact 1: Bob & Jan Hannah\nEmail: proscout@hotmail.com\nPhone: (952) 894-2720 \nRegister Now\n\n    Download the PDF file .
URL:https://www.bsator.com/event/16th-annual-twin-cities-area-trade-o-ree-state-minnesota/
LOCATION:St. James Lutheran Church\, 3650 Williams Drive\, Burnsville\, MN\, 55378\, United States
ATTACH;FMTTYPE=image/jpeg:https://www.bsator.com/wp-content/uploads/2018/02/28164576_10212901276581636_2417367282102817170_o.jpg
ORGANIZER;CN="Bob & Jan Hannah":MAILTO:proscout@hotmail.com
GEO:44.768427;-93.3259728
X-APPLE-STRUCTURED-LOCATION;VALUE=URI;X-ADDRESS=St. James Lutheran Church 3650 Williams Drive Burnsville MN 55378 United States;X-APPLE-RADIUS=500;X-TITLE=3650 Williams Drive:geo:-93.3259728,44.768427
END:VEVENT
BEGIN:VEVENT
DTSTART;TZID=UTC:20170224T170000
DTEND;TZID=UTC:20170225T160000
DTSTAMP:20260423T173641
CREATED:20160829T204302Z
LAST-MODIFIED:20200221T161002Z
UID:10000081-1487955600-1488038400@www.bsator.com
SUMMARY:15th Annual Twin Cities Area Trade-O-Ree - State: Minnesota
DESCRIPTION:Date: February 24-25. 2017 \nAddress:\nSt. James Lutheran Church\n3650 Williams Drive\nBurnsville\, MN 55378 \nTimes:\nFriday: 5pm – 8pm\nSaturday: 8:30am – 4pm \nContact 1: Bob & Jan Hannah\nEmail: proscout@hotmail.com\nPhone: (952) 894-2720 \nFlyer: Click Here\n\nRegister Now \n\n    Download the PDF file .
URL:https://www.bsator.com/event/15th-annual-twin-cities-area-trade-o-ree-state-minnesota/
LOCATION:St. James Lutheran Church\, 3650 Williams Drive\, Burnsville\, MN\, 55378\, United States
ATTACH;FMTTYPE=image/jpeg:https://www.bsator.com/wp-content/uploads/2018/02/28164576_10212901276581636_2417367282102817170_o.jpg
ORGANIZER;CN="Bob & Jan Hannah":MAILTO:proscout@hotmail.com
GEO:44.768427;-93.3259728
X-APPLE-STRUCTURED-LOCATION;VALUE=URI;X-ADDRESS=St. James Lutheran Church 3650 Williams Drive Burnsville MN 55378 United States;X-APPLE-RADIUS=500;X-TITLE=3650 Williams Drive:geo:-93.3259728,44.768427
END:VEVENT
END:VCALENDAR