BEGIN:VCALENDAR
VERSION:2.0
PRODID:-//Boy Scout Trade-O-Ree Calendar - ECPv6.15.20//NONSGML v1.0//EN
CALSCALE:GREGORIAN
METHOD:PUBLISH
X-WR-CALNAME:Boy Scout Trade-O-Ree Calendar
X-ORIGINAL-URL:https://www.bsator.com
X-WR-CALDESC:Events for Boy Scout Trade-O-Ree Calendar
REFRESH-INTERVAL;VALUE=DURATION:PT1H
X-Robots-Tag:noindex
X-PUBLISHED-TTL:PT1H
BEGIN:VTIMEZONE
TZID:UTC
BEGIN:STANDARD
TZOFFSETFROM:+0000
TZOFFSETTO:+0000
TZNAME:UTC
DTSTART:20170101T000000
END:STANDARD
END:VTIMEZONE
BEGIN:VEVENT
DTSTART;TZID=UTC:20181019T150000
DTEND;TZID=UTC:20181020T150000
DTSTAMP:20260423T212822
CREATED:20180209T051452Z
LAST-MODIFIED:20180703T074327Z
UID:10000088-1539961200-1540047600@www.bsator.com
SUMMARY:2018 Owasippe Lodge 7 Trade-O-Ree - State: Illinois
DESCRIPTION:Date: October 19-20\, 2018 \nAddress:\nSt. Jane De Chantal Church\n5151 S. Mc Vicker Ave.\nChicago\, IL 60638 \nTimes:\nFriday: 3pm – 10pm\nSaturday: 8am – 3pm \nContact 1: John Kennedy\nEmail: bigbearpeacepipe@comcast.net\nPhone: (815) 566-0324 \nContact 1: ?\nEmail: getemanitu@gmail.com\nPhone: ? \nRegister Now\n\n    Download the PDF file .
URL:https://www.bsator.com/event/2018-owasippe-lodge-7-trade-o-ree-state-illinois/
LOCATION:St. Jane De Chantal Church\, 5151 S. Mc Vicker Ave.\, Chicago\, IL\, 60638\, United States
ATTACH;FMTTYPE=image/jpeg:https://www.bsator.com/wp-content/uploads/2016/06/SWAPSHOP_zpsd7821994-4-1.jpg.opt430x360o00s430x360-4-1.jpg
ORGANIZER;CN="John Kennedy":MAILTO:bigbearpeacepipe@comcast.net
END:VEVENT
END:VCALENDAR