BEGIN:VCALENDAR
VERSION:2.0
PRODID:-//Boy Scout Trade-O-Ree Calendar - ECPv6.15.20//NONSGML v1.0//EN
CALSCALE:GREGORIAN
METHOD:PUBLISH
X-ORIGINAL-URL:https://www.bsator.com
X-WR-CALDESC:Events for Boy Scout Trade-O-Ree Calendar
REFRESH-INTERVAL;VALUE=DURATION:PT1H
X-Robots-Tag:noindex
X-PUBLISHED-TTL:PT1H
BEGIN:VTIMEZONE
TZID:UTC
BEGIN:STANDARD
TZOFFSETFROM:+0000
TZOFFSETTO:+0000
TZNAME:UTC
DTSTART:20200101T000000
END:STANDARD
END:VTIMEZONE
BEGIN:VEVENT
DTSTART;TZID=UTC:20220108T080000
DTEND;TZID=UTC:20220108T150000
DTSTAMP:20260423T201559
CREATED:20210906T053700Z
LAST-MODIFIED:20210906T055036Z
UID:10000207-1641628800-1641654000@www.bsator.com
SUMMARY:3rd Annual Troop 595 Trade-O-Ree - State: Pennsylvania
DESCRIPTION:Date: January 8\, 2022 \nAddress:\nSt Mark’s Lutheran Church\n5 Brooke Manor\nBirdsboro\, PA 19508 \nTimes:\nSaturday: 8am – 3pm (Vendor set up Friday 7-9 PM\, Saturday 6-8 AM) \nContact: Kurt Freer\nEmail: birdsborotroop595@gmail.com\nPhone: (610) 428-7085 \nTable Registrations: Click Here \n\n \nTrade-O-Ree Flyer\n\n\n    Download the PDF file .
URL:https://www.bsator.com/event/3rd-annual-troop-595-trade-o-ree-state-pennsylvania/
LOCATION:St Mark’s Lutheran Church\, 5 Brooke Manor\, Birdsboro\, PA\, 19508\, United States
ATTACH;FMTTYPE=image/jpeg:https://www.bsator.com/wp-content/uploads/2019/10/81989922_10157753766201585_4135119685668569088_n.jpg
ORGANIZER;CN="Kurt Freer":MAILTO:kafreer@gmail.com
END:VEVENT
BEGIN:VEVENT
DTSTART;TZID=UTC:20210109T080000
DTEND;TZID=UTC:20210109T150000
DTSTAMP:20260423T201559
CREATED:20201202T172108Z
LAST-MODIFIED:20201230T180206Z
UID:10000351-1610179200-1610204400@www.bsator.com
SUMMARY:2nd Annual Troop 595 Trade-O-Ree - State: Pennsylvania
DESCRIPTION:Date: January 9\, 2021 \nAddress:\nSt Mark’s Lutheran Church\n5 Brooke Manor\nBirdsboro\, PA 19508 \nTimes:\nSaturday: 8am – 3pm \nContact: Kurt Freer\nEmail: kafreer@gmail.com\nPhone: (610) 428-7085 \n\n    Download the PDF file .
URL:https://www.bsator.com/event/2nd-annual-troop-595-trade-o-ree-state-pennsylvania/
LOCATION:St Mark’s Lutheran Church\, 5 Brooke Manor\, Birdsboro\, PA\, 19508\, United States
ATTACH;FMTTYPE=image/jpeg:https://www.bsator.com/wp-content/uploads/2019/10/81989922_10157753766201585_4135119685668569088_n.jpg
ORGANIZER;CN="Kurt Freer":MAILTO:kafreer@gmail.com
END:VEVENT
END:VCALENDAR