BEGIN:VCALENDAR
VERSION:2.0
PRODID:-//Boy Scout Trade-O-Ree Calendar - ECPv6.15.20//NONSGML v1.0//EN
CALSCALE:GREGORIAN
METHOD:PUBLISH
X-ORIGINAL-URL:https://www.bsator.com
X-WR-CALDESC:Events for Boy Scout Trade-O-Ree Calendar
REFRESH-INTERVAL;VALUE=DURATION:PT1H
X-Robots-Tag:noindex
X-PUBLISHED-TTL:PT1H
BEGIN:VTIMEZONE
TZID:UTC
BEGIN:STANDARD
TZOFFSETFROM:+0000
TZOFFSETTO:+0000
TZNAME:UTC
DTSTART:20190101T000000
END:STANDARD
END:VTIMEZONE
BEGIN:VEVENT
DTSTART;TZID=UTC:20200110T180000
DTEND;TZID=UTC:20200111T150000
DTSTAMP:20260423T211654
CREATED:20191031T181711Z
LAST-MODIFIED:20200221T074450Z
UID:10000316-1578679200-1578754800@www.bsator.com
SUMMARY:1st Annual Troop 595 Trade-O-Ree - State: Pennsylvania
DESCRIPTION:Date: January 10-11\, 2020 \nAddress:\nSt. Mark’s Lutheran Church\n5 Brooke Manor\nBirdsboro\, PA 19508 \nTimes:\nFriday: 6pm – 9pm (Set-Up: 4pm – 6pm)\nSaturday: 8am – 3pm \nContact: Kurt Freer\nEmail: birdsborotroop595@gmail.com\nPhone: (610) 428-7085 \n\n    Download the PDF file .
URL:https://www.bsator.com/event/1st-annual-troop-595-trade-o-ree-state-pennsylvania/
LOCATION:St. Mark’s Lutheran Church\, 5 Brooke Manor\, Birdsboro\, PA\, 19508\, United States
ATTACH;FMTTYPE=image/jpeg:https://www.bsator.com/wp-content/uploads/2019/10/81989922_10157753766201585_4135119685668569088_n.jpg
ORGANIZER;CN="Kurt Freer":MAILTO:kafreer@gmail.com
END:VEVENT
END:VCALENDAR