BEGIN:VCALENDAR
VERSION:2.0
PRODID:-//Boy Scout Trade-O-Ree Calendar - ECPv6.15.20//NONSGML v1.0//EN
CALSCALE:GREGORIAN
METHOD:PUBLISH
X-WR-CALNAME:Boy Scout Trade-O-Ree Calendar
X-ORIGINAL-URL:https://www.bsator.com
X-WR-CALDESC:Events for Boy Scout Trade-O-Ree Calendar
REFRESH-INTERVAL;VALUE=DURATION:PT1H
X-Robots-Tag:noindex
X-PUBLISHED-TTL:PT1H
BEGIN:VTIMEZONE
TZID:UTC
BEGIN:STANDARD
TZOFFSETFROM:+0000
TZOFFSETTO:+0000
TZNAME:UTC
DTSTART:20160101T000000
END:STANDARD
END:VTIMEZONE
BEGIN:VEVENT
DTSTART;TZID=UTC:20170401T080000
DTEND;TZID=UTC:20170401T160000
DTSTAMP:20260423T190632
CREATED:20170214T123421Z
LAST-MODIFIED:20170214T124339Z
UID:10000168-1491033600-1491062400@www.bsator.com
SUMMARY:Four Flags Trade-O-Ree - State: Michigan
DESCRIPTION:Date: April 1\, 2017 \nAddress:\nSt. Mary’s Catholic School\n217 S. Lincoln\nNiles\, MI 49120 \nTimes:\nSaturday: 8am – 4pm \nContact 1: Scott Kurtzweil\nEmail: scott@kurtzweilmusical.com\nPhone: (269) 340-9013 \n\n    Download the PDF file .
URL:https://www.bsator.com/event/four-flags-trade-o-ree/
LOCATION:St. Mary’s Catholic School\, 217 S. Lincoln\, Niles\, MI\, 49120\, United States
ATTACH;FMTTYPE=image/jpeg:https://www.bsator.com/wp-content/uploads/2016/05/12936628_1291220597559841_8590374549116169027_n.jpg
GEO:41.8245793;-86.2637679
X-APPLE-STRUCTURED-LOCATION;VALUE=URI;X-ADDRESS=St. Mary’s Catholic School 217 S. Lincoln Niles MI 49120 United States;X-APPLE-RADIUS=500;X-TITLE=217 S. Lincoln:geo:-86.2637679,41.8245793
END:VEVENT
END:VCALENDAR