BEGIN:VCALENDAR
VERSION:2.0
PRODID:-//Boy Scout Trade-O-Ree Calendar - ECPv6.15.20//NONSGML v1.0//EN
CALSCALE:GREGORIAN
METHOD:PUBLISH
X-ORIGINAL-URL:https://www.bsator.com
X-WR-CALDESC:Events for Boy Scout Trade-O-Ree Calendar
REFRESH-INTERVAL;VALUE=DURATION:PT1H
X-Robots-Tag:noindex
X-PUBLISHED-TTL:PT1H
BEGIN:VTIMEZONE
TZID:UTC
BEGIN:STANDARD
TZOFFSETFROM:+0000
TZOFFSETTO:+0000
TZNAME:UTC
DTSTART:20190101T000000
END:STANDARD
END:VTIMEZONE
BEGIN:VEVENT
DTSTART;TZID=UTC:20240503T170000
DTEND;TZID=UTC:20240504T170000
DTSTAMP:20260423T212557
CREATED:20230912T192433Z
LAST-MODIFIED:20240416T172328Z
UID:10000290-1714755600-1714842000@www.bsator.com
SUMMARY:CANCELED: 2024 Peninsula Trade-O-Ree - State: Virginia
DESCRIPTION:THIS EVENT HAS BEEN CANCELED\n \nDate: May 3-4\, 2024 \nAddress:\nSt. Stephens Episcopal Church\n372 Hiden Blvd.\nNewport News\, VA 23606 \nTimes:\nFriday: 5pm – 10pm (Setup: 3pm)\nSaturday: 9am – 5pm \nContact: Will Richards\nEmail: CM.willbo@gmail.com\nPhone: (757) 817-5166 \n\n    Download the PDF file .
URL:https://www.bsator.com/event/2024-peninsula-trade-o-ree-state-virginia/
LOCATION:St. Stephens Episcopal Church\, 372 Hiden Blvd.\, Newport News\, VA\, 23606\, United States
ATTACH;FMTTYPE=image/jpeg:https://www.bsator.com/wp-content/uploads/2016/06/SWAPSHOP_zpsd7821994-4-1.jpg.opt430x360o00s430x360-4-1.jpg
ORGANIZER;CN="Will Richards":MAILTO:CM.willbo@gmail.com
END:VEVENT
BEGIN:VEVENT
DTSTART;TZID=UTC:20230505T160000
DTEND;TZID=UTC:20230506T170000
DTSTAMP:20260423T212557
CREATED:20220722T043642Z
LAST-MODIFIED:20220812T233032Z
UID:10000448-1683302400-1683392400@www.bsator.com
SUMMARY:2023 Peninsula Trade-O-Ree - State: Virginia
DESCRIPTION:Date: May 5-6\, 2023 \nAddress:\nSt. Stephens Episcopal Church\n372 Hiden Blvd.\nNewport News\, VA 23606 \nTimes:\nFriday: 4pm – 10pm (Setup: 3pm)\nSaturday: 9am – 5pm \nContact: Will Richards\nEmail: CM.willbo@gmail.com\nPhone: (757) 817-5166 \n\n    Download the PDF file .
URL:https://www.bsator.com/event/2023-peninsula-trade-o-ree-state-virginia/
LOCATION:St. Stephens Episcopal Church\, 372 Hiden Blvd.\, Newport News\, VA\, 23606\, United States
ATTACH;FMTTYPE=image/jpeg:https://www.bsator.com/wp-content/uploads/2016/06/SWAPSHOP_zpsd7821994-4-1.jpg.opt430x360o00s430x360-4-1.jpg
ORGANIZER;CN="Will Richards":MAILTO:CM.willbo@gmail.com
END:VEVENT
BEGIN:VEVENT
DTSTART;TZID=UTC:20220527T170000
DTEND;TZID=UTC:20220528T170000
DTSTAMP:20260423T212557
CREATED:20220415T161835Z
LAST-MODIFIED:20220415T161835Z
UID:10000437-1653670800-1653757200@www.bsator.com
SUMMARY:2022 Peninsula Trade-O-Ree - State: Virginia
DESCRIPTION:Date: May 27-28\, 2022 \nAddress:\nSt. Stephens Episcopal Church\n372 Hiden Blvd.\nNewport News\, VA 23606 \nTimes:\nFriday: 5pm – 10pm\nSaturday: 9am – 5pm \nContact: Will Richards\nEmail: CM.willbo@gmail.com\nPhone: (757) 817-5166 \n\n    Download the PDF file .
URL:https://www.bsator.com/event/2022-peninsula-trade-o-ree-state-virginia/
LOCATION:St. Stephens Episcopal Church\, 372 Hiden Blvd.\, Newport News\, VA\, 23606\, United States
ATTACH;FMTTYPE=image/jpeg:https://www.bsator.com/wp-content/uploads/2016/06/SWAPSHOP_zpsd7821994-4-1.jpg.opt430x360o00s430x360-4-1.jpg
ORGANIZER;CN="Will Richards":MAILTO:CM.willbo@gmail.com
END:VEVENT
BEGIN:VEVENT
DTSTART;TZID=UTC:20200530T090000
DTEND;TZID=UTC:20200530T190000
DTSTAMP:20260423T212557
CREATED:20200128T064746Z
LAST-MODIFIED:20200504T161202Z
UID:10000155-1590829200-1590865200@www.bsator.com
SUMMARY:CANCELED: 2020 Peninsula Trade-O-Ree - State: Virginia
DESCRIPTION:THIS EVENT HAS BEEN CANCELEDDUE TO THE CORONAVIRUS\n \n \nDate: May 30\, 2020 \nAddress:\nSt. Stephens Episcopal Church\n372 Hiden Blvd.\nNewport News\, VA 23606 \nTimes:\nSaturday: 9am – 7pm \nContact 1: Will Richards\nEmail: CM.willbo@gmail.com\nPhone: (757) 817-5166 \nContact 2: Jared Benoit\nEmail: me@jeredb.com\nPhone: (757) 254-3253 \n\n    Download the PDF file .
URL:https://www.bsator.com/event/2020-peninsula-trade-o-ree-state-virginia/
LOCATION:St. Stephens Episcopal Church\, 372 Hiden Blvd.\, Newport News\, VA\, 23606\, United States
ATTACH;FMTTYPE=image/jpeg:https://www.bsator.com/wp-content/uploads/2016/06/SWAPSHOP_zpsd7821994-4-1.jpg.opt430x360o00s430x360-4-1.jpg
ORGANIZER;CN="Will Richards":MAILTO:CM.willbo@gmail.com
END:VEVENT
END:VCALENDAR