BEGIN:VCALENDAR
VERSION:2.0
PRODID:-//Boy Scout Trade-O-Ree Calendar - ECPv6.15.20//NONSGML v1.0//EN
CALSCALE:GREGORIAN
METHOD:PUBLISH
X-WR-CALNAME:Boy Scout Trade-O-Ree Calendar
X-ORIGINAL-URL:https://www.bsator.com
X-WR-CALDESC:Events for Boy Scout Trade-O-Ree Calendar
REFRESH-INTERVAL;VALUE=DURATION:PT1H
X-Robots-Tag:noindex
X-PUBLISHED-TTL:PT1H
BEGIN:VTIMEZONE
TZID:UTC
BEGIN:STANDARD
TZOFFSETFROM:+0000
TZOFFSETTO:+0000
TZNAME:UTC
DTSTART:20230101T000000
END:STANDARD
END:VTIMEZONE
BEGIN:VEVENT
DTSTART;TZID=UTC:20240518T090000
DTEND;TZID=UTC:20240518T160000
DTSTAMP:20260423T201458
CREATED:20240417T163926Z
LAST-MODIFIED:20240417T164436Z
UID:10000528-1716022800-1716048000@www.bsator.com
SUMMARY:Owatonna Trade-O-Ree and Expo - State: Minnesota
DESCRIPTION:Date: May 18\, 2024 \nAddress:\nSteele County Free Fair Grounds (Beer Garden Building)\n1525 S Cedar Ave.\nOwatonna\, MN 55060 \nTimes:\nSaturday: 9am – 4pm \nContact: Evan Goranson\nEmail: egoranson.scout@gmail.com\nPhone: (507) 601-9115 \n\nWe are hosting a TOR in the Rochester MN area. This one will be big and great! There is also an exposition being hosted in the same building. There will be a lot of scout foot traffic. There is also an exclusive patch that will be available for purchase.\n \n \nTrade-O-Ree Flyer\n\n\n    Download the PDF file .
URL:https://www.bsator.com/event/owatonna-trade-o-ree-and-expo-state-minnesota/
LOCATION:Steele County Free Fair Grounds\, 1525 S Cedar Ave.\, Owatonna\, MN\, 55060\, United States
ATTACH;FMTTYPE=image/jpeg:https://www.bsator.com/wp-content/uploads/2016/06/SWAPSHOP_zpsd7821994-4-1.jpg.opt430x360o00s430x360-4-1.jpg
ORGANIZER;CN="Evan Goranson":MAILTO:egoranson.scout@gmail.com
END:VEVENT
END:VCALENDAR