BEGIN:VCALENDAR
VERSION:2.0
PRODID:-//Boy Scout Trade-O-Ree Calendar - ECPv6.15.20//NONSGML v1.0//EN
CALSCALE:GREGORIAN
METHOD:PUBLISH
X-ORIGINAL-URL:https://www.bsator.com
X-WR-CALDESC:Events for Boy Scout Trade-O-Ree Calendar
REFRESH-INTERVAL;VALUE=DURATION:PT1H
X-Robots-Tag:noindex
X-PUBLISHED-TTL:PT1H
BEGIN:VTIMEZONE
TZID:UTC
BEGIN:STANDARD
TZOFFSETFROM:+0000
TZOFFSETTO:+0000
TZNAME:UTC
DTSTART:20160101T000000
END:STANDARD
END:VTIMEZONE
BEGIN:VEVENT
DTSTART;TZID=UTC:20170719T080000
DTEND;TZID=UTC:20170728T170000
DTSTAMP:20260423T213410
CREATED:20170103T084044Z
LAST-MODIFIED:20170103T084044Z
UID:10000142-1500451200-1501261200@www.bsator.com
SUMMARY:2017 National Scout Jamboree
DESCRIPTION:Patch Trading at the Jamboree
URL:https://www.bsator.com/event/2017-national-scout-jamboree/
LOCATION:Summit Bechtel Reserve\, 2550 Jack Furst Dr.\, Glen Jean\, WV\, 25846\, United States
ATTACH;FMTTYPE=image/jpeg:https://www.bsator.com/wp-content/uploads/2017/01/Jambo-Banner-Patch-702x300.jpg
GEO:37.9159862;-81.1229925
X-APPLE-STRUCTURED-LOCATION;VALUE=URI;X-ADDRESS=Summit Bechtel Reserve 2550 Jack Furst Dr. Glen Jean WV 25846 United States;X-APPLE-RADIUS=500;X-TITLE=2550 Jack Furst Dr.:geo:-81.1229925,37.9159862
END:VEVENT
END:VCALENDAR